{"text_format":"3","workbook":"xlsx","n_sheets":5,"sheets":["1-汇总","2-运营补助","3-2016","4-2017","5-2018"],"not_rendered":{"defined_names":7},"read":"whole","date_system":"1900"}

{"sheet":"1-汇总","index":0,"n_rows":37,"n_cols":7,"rows_kept":37,"merged":[[1,0,1,6],[3,0,4,0],[3,1,4,1],[3,2,4,2],[3,3,4,3],[3,4,3,6],[5,0,5,1]]}
["附件1"]
["提前下达2021年度节能减排补助资金汇总表"]
[{"$nulls":6},"单位：万元"]
["序号","地区","地区合计","节能与新能源公交车运营补助","新能源汽车推广应用补助"]
[{"$nulls":4},"2016年度","2017年度","2018年度"]
["合计",null,{"$f":"SUM(D6:G6)","v":3758529},{"$f":"SUM(D7:D37)","v":1568910},{"$f":"SUM(E7:E37)","v":116163},{"$f":"SUM(F7:F37)","v":636251},{"$f":"SUM(G7:G37)","v":1437205}]
[1,"北京",{"$f":"SUM(D7:G7)","v":164822},null,{"$f":"'3-2016'!M6","v":28759},{"$f":"'4-2017'!M6","v":57108},{"$f":"'5-2018'!M6","v":78955}]
[2,"河北",{"$f":"SUM(D8:G8)","v":7459},null,{"$f":"'3-2016'!M25","v":0},{"$f":"'4-2017'!M66","v":4889},{"$f":"'5-2018'!M85","v":2570}]
[3,"山西",141654,{"$f":"'2-运营补助'!D11","v":65475},{"$f":"'3-2016'!M28","v":20604},{"$f":"'4-2017'!M78","v":45241},{"$f":"'5-2018'!M106","v":10334}]
[4,"内蒙古",22501,{"$f":"'2-运营补助'!D14","v":22501}]
[5,"大连",28145,{"$f":"'2-运营补助'!D17","v":20645},null,{"$f":"'4-2017'!M111","v":5193},{"$f":"'5-2018'!M147","v":2307}]
[6,"吉林",30027,{"$f":"'2-运营补助'!D20","v":30027}]
[7,"上海",158688,{"$f":"'2-运营补助'!D23","v":49696},{"$f":"'3-2016'!M36","v":0},{"$f":"'4-2017'!M120","v":25923},{"$f":"'5-2018'!M152","v":83069}]
[8,"江苏",290704,{"$f":"'2-运营补助'!D26","v":128314},{"$f":"'3-2016'!M47","v":6555},{"$f":"'4-2017'!M156","v":60185},{"$f":"'5-2018'!M249","v":95650}]
[9,"浙江",135365,{"$f":"'2-运营补助'!D29","v":73731},null,{"$f":"'4-2017'!M256","v":0},{"$f":"'5-2018'!M441","v":61634}]
[10,"宁波",45599,{"$f":"'2-运营补助'!D32","v":20104},{"$f":"'3-2016'!M92","v":3970},{"$f":"'4-2017'!M271","v":17365},{"$f":"'5-2018'!M475","v":4160}]
[11,"安徽",206843,{"$f":"'2-运营补助'!D35","v":76885},{"$f":"'3-2016'!M95","v":181},{"$f":"'4-2017'!M287","v":43546},{"$f":"'5-2018'!M501","v":86231}]
[12,"福建",73023,{"$f":"'2-运营补助'!D38","v":62740},null,{"$f":"'4-2017'!M330","v":8769},{"$f":"'5-2018'!M617","v":1514}]
[13,"厦门",100670,null,{"$f":"'3-2016'!M104","v":4322},{"$f":"'4-2017'!M337","v":10713},{"$f":"'5-2018'!M631","v":85635}]
[14,"江西",46310,{"$f":"'2-运营补助'!D41","v":46310},null,{"$f":"'4-2017'!M400","v":0},{"$f":"'5-2018'!M763","v":0}]
[15,"山东",373072,{"$f":"'2-运营补助'!D44","v":190211},{"$f":"'3-2016'!M119","v":17790},{"$f":"'4-2017'!M425","v":66788},{"$f":"'5-2018'!M811","v":98283}]
[16,"青岛",8954,null,null,{"$f":"'4-2017'!M497","v":3691},{"$f":"'5-2018'!M927","v":5263}]
[17,"河南",415483,{"$f":"'2-运营补助'!D47","v":152785},null,{"$f":"'4-2017'!M503","v":2482},{"$f":"'5-2018'!M936","v":260216}]
[18,"湖北",235703,null,{"$f":"'3-2016'!M146","v":9292},{"$f":"'4-2017'!M560","v":146069},{"$f":"'5-2018'!M1090","v":80342}]
[19,"湖南",259094,{"$f":"'2-运营补助'!D50","v":148998},{"$f":"'3-2016'!M158","v":759},{"$f":"'4-2017'!M652","v":17159},{"$f":"'5-2018'!M1217","v":92178}]
[20,"广东",370306,{"$f":"'2-运营补助'!D53","v":217291},{"$f":"'3-2016'!M161","v":17710},{"$f":"'4-2017'!M687","v":34113},{"$f":"'5-2018'!M1280","v":101192}]
[21,"深圳",215577,{"$f":"'2-运营补助'!D56","v":110012},{"$f":"'3-2016'!M175","v":0},{"$f":"'4-2017'!M731","v":32854},{"$f":"'5-2018'!M1334","v":72711}]
[22,"广西",22698,null,null,{"$f":"'4-2017'!M760","v":3362},{"$f":"'5-2018'!M1385","v":19336}]
[23,"海南",15244,{"$f":"'2-运营补助'!D59","v":15244}]
[24,"重庆",87397,{"$f":"'2-运营补助'!D62","v":17421},{"$f":"'3-2016'!M185","v":0},{"$f":"'4-2017'!M779","v":20259},{"$f":"'5-2018'!M1419","v":49717}]
[25,"四川",122142,{"$f":"'2-运营补助'!D65","v":59453},{"$f":"'3-2016'!M189","v":6221},{"$f":"'4-2017'!M804","v":22511},{"$f":"'5-2018'!M1470","v":33957}]
[26,"云南",30996,{"$f":"'2-运营补助'!D68","v":29856},{"$f":"'3-2016'!M197","v":0},{"$f":"'4-2017'!M824","v":0},{"$f":"'5-2018'!M1506","v":1140}]
[27,"西藏",1829,{"$f":"'2-运营补助'!D71","v":1829}]
[28,"陕西",118842,null,{"$f":"'3-2016'!M200","v":0},{"$f":"'4-2017'!M828","v":8031},{"$f":"'5-2018'!M1512","v":110811}]
[29,"青海",8910,{"$f":"'2-运营补助'!D74","v":8910}]
[30,"宁夏",8057,{"$f":"'2-运营补助'!D77","v":8057}]
[31,"新疆",12415,{"$f":"'2-运营补助'!D80","v":12415}]

{"sheet":"2-运营补助","index":1,"n_rows":80,"n_cols":18,"rows_kept":80,"merged":[[1,0,1,17],[3,0,4,0],[3,1,4,2],[3,3,4,3],[3,4,4,4],[3,5,3,7],[3,8,4,8],[3,9,3,11],[3,12,4,12],[3,14,4,14],[3,16,4,16],[5,0,7,1],[8,0,10,0],[8,1,10,1],[11,0,13,0],[11,1,13,1],[14,0,16,0],[14,1,16,1],[17,0,19,0],[17,1,19,1],[20,0,22,0],[20,1,22,1],[23,0,25,0],[23,1,25,1],[26,0,28,0],[26,1,28,1],[29,0,31,0],[29,1,31,1],[32,0,34,0],[32,1,34,1],[35,0,37,0],[35,1,37,1],[38,0,40,0],[38,1,40,1],[41,0,43,0],[41,1,43,1],[44,0,46,0],[44,1,46,1],[47,0,49,0],[47,1,49,1],[50,0,52,0],[50,1,52,1],[53,0,55,0],[53,1,55,1],[56,0,58,0],[56,1,58,1],[59,0,61,0],[59,1,61,1],[62,0,64,0],[62,1,64,1],[65,0,67,0],[65,1,67,1],[68,0,70,0],[68,1,70,1],[71,0,73,0],[71,1,73,1],[74,0,76,0],[74,1,76,1],[77,0,79,0],[77,1,79,1]]}
["附件2"]
["2019年度节能与新能源公交车运营补助汇总表"]
[{"$nulls":17},"单位：万元"]
["序号","省份",null,"合计","资金量","纯电动公交车运营月数（米，月）",null,null,"资金量","插电式混合动力公交车运营月数（米，月）",null,null,"资金量","燃料电池公交车运营月数（米，月）","资金量","超级电容公交车运营月数（米，月）","资金量","混合动力公交车运营月数（米，月）"]
[{"$nulls":5},"6≤L＜8","8≤L＜10","L≥10",null,"6≤L＜8","8≤L＜10","L≥10",null,"L≥6",null,"L≥6",null,"L≥6"]
["总计",null,"存量部分",null,null,{"$f":"F9+F12+F15+F18+F21+F24+F27+F30+F33+F36+F39+F42+F45+F48+F51+F54+F57+F60+F63+F66+F69+F72+F75+F78","v":240214},{"$f":"G9+G12+G15+G18+G21+G24+G27+G30+G33+G36+G39+G42+G45+G48+G51+G54+G57+G60+G63+G66+G69+G72+G75+G78","v":1014302},1069193,null,{"$f":"J9+J12+J15+J18+J21+J24+J27+J30+J33+J36+J39+J42+J45+J48+J51+J54+J57+J60+J63+J66+J69+J72+J75+J78","v":0},{"$f":"K9+K12+K15+K18+K21+K24+K27+K30+K33+K36+K39+K42+K45+K48+K51+K54+K57+K60+K63+K66+K69+K72+K75+K78","v":63983},457992,null,{"$f":"N9+N12+N15+N18+N21+N24+N27+N30+N33+N36+N39+N42+N45+N48+N51+N54+N57+N60+N63+N66+N69+N72+N75+N78","v":1945},null,{"$f":"P9+P12+P15+P18+P21+P24+P27+P30+P33+P36+P39+P42+P45+P48+P51+P54+P57+P60+P63+P66+P69+P72+P75+P78","v":0},null,{"$f":"R9+R12+R15+R18+R21+R24+R27+R30+R33+R36+R39+R42+R45+R48+R51+R54+R57+R60+R63+R66+R69+R72+R75+R78","v":24}]
[null,null,"增量部分",null,null,{"$f":"F10+F13+F16+F19+F22+F25+F28+F31+F34+F37+F40+F43+F46+F49+F52+F55+F58+F61+F64+F67+F70+F73+F76+F79","v":12076},78267,77145,null,{"$f":"J10+J13+J16+J19+J22+J25+J28+J31+J34+J37+J40+J43+J46+J49+J52+J55+J58+J61+J64+J67+J70+J73+J76+J79","v":0},{"$f":"K10+K13+K16+K19+K22+K25+K28+K31+K34+K37+K40+K43+K46+K49+K52+K55+K58+K61+K64+K67+K70+K73+K76+K79","v":2843},10470,null,{"$f":"N10+N13+N16+N19+N22+N25+N28+N31+N34+N37+N40+N43+N46+N49+N52+N55+N58+N61+N64+N67+N70+N73+N76+N79","v":960},null,{"$f":"P10+P13+P16+P19+P22+P25+P28+P31+P34+P37+P40+P43+P46+P49+P52+P55+P58+P61+P64+P67+P70+P73+P76+P79","v":0},null,{"$f":"R10+R13+R16+R19+R22+R25+R28+R31+R34+R37+R40+R43+R46+R49+R52+R55+R58+R61+R64+R67+R70+R73+R76+R79","v":0}]
[null,null,"合计",{"$f":"E8+I8+M8+O8+Q8","v":1568910},{"$f":"SUM(E9:E80)","v":1394591},{"$f":"SUM(F6:F7)","v":252290},{"$f":"SUM(G6:G7)","v":1092569},1146338,{"$f":"SUM(I9:I80)","v":172861},{"$f":"SUM(J6:J7)","v":0},{"$f":"SUM(K6:K7)","v":66826},468462,{"$f":"SUM(M9:M80)","v":1454},2905,{"$f":"SUM(O9:O80)","v":0},0,{"$f":"SUM(Q9:Q80)","v":4},24]
[1,"山西","存量部分",null,null,7922,50350,53024,null,0,0,2640,null,480,null,0,null,0]
[null,null,"增量部分",null,null,114,1407,673,null,0,0,0,null,0,null,0,null,0]
[null,null,"合计",{"$f":"E11+I11+M11+O11+Q11","v":65475},{"$f":"ROUND((F11*4+G11*6+H11*8)/12,0)","v":64355},{"$f":"SUM(F9:F10)","v":8036},{"$f":"SUM(G9:G10)","v":51757},53697,{"$f":"ROUND((J11*2+K11*3+L11*4)/12,0)","v":880},{"$f":"SUM(J9:J10)","v":0},{"$f":"SUM(K9:K10)","v":0},{"$f":"SUM(L9:L10)","v":2640},{"$f":"ROUND(N11*6/12,0)","v":240},{"$f":"SUM(N9:N10)","v":480},{"$f":"ROUND(P11*2/12,0)","v":0},{"$f":"SUM(P9:P10)","v":0},{"$f":"ROUND(R11*2/12,0)","v":0},{"$f":"SUM(R9:R10)","v":0}]
[2,"内蒙古","存量部分",null,null,144,12456,13898,null,0,516,11988,null,0,null,0,null,0]
[null,null,"增量部分",null,null,0,1544,3094,null,0,0,0,null,0,null,0,null,0]
[null,null,"合计",{"$f":"E14+I14+M14+O14+Q14","v":22501},{"$f":"ROUND((F14*4+G14*6+H14*8)/12,0)","v":18376},{"$f":"SUM(F12:F13)","v":144},{"$f":"SUM(G12:G13)","v":14000},{"$f":"SUM(H12:H13)","v":16992},{"$f":"ROUND((J14*2+K14*3+L14*4)/12,0)","v":4125},{"$f":"SUM(J12:J13)","v":0},{"$f":"SUM(K12:K13)","v":516},{"$f":"SUM(L12:L13)","v":11988},{"$f":"ROUND(N14*6/12,0)","v":0},{"$f":"SUM(N12:N13)","v":0},{"$f":"ROUND(P14*2/12,0)","v":0},{"$f":"SUM(P12:P13)","v":0},{"$f":"ROUND(R14*2/12,0)","v":0},{"$f":"SUM(R12:R13)","v":0}]
[3,"大连","存量部分",null,null,300,3948,22236,null,0,0,9818,null,0,null,0,null,0]
[null,null,"增量部分",null,null,0,32,687,null,0,0,0,null,0,null,0,null,0]
[null,null,"合计",{"$f":"E17+I17+M17+O17+Q17","v":20645},{"$f":"ROUND((F17*4+G17*6+H17*8)/12,0)","v":17372},{"$f":"SUM(F15:F16)","v":300},{"$f":"SUM(G15:G16)","v":3980},{"$f":"SUM(H15:H16)","v":22923},{"$f":"ROUND((J17*2+K17*3+L17*4)/12,0)","v":3273},{"$f":"SUM(J15:J16)","v":0},{"$f":"SUM(K15:K16)","v":0},{"$f":"SUM(L15:L16)","v":9818},{"$f":"ROUND(N17*6/12,0)","v":0},{"$f":"SUM(N15:N16)","v":0},{"$f":"ROUND(P17*2/12,0)","v":0},{"$f":"SUM(P15:P16)","v":0},{"$f":"ROUND(R17*2/12,0)","v":0},{"$f":"SUM(R15:R16)","v":0}]
[4,"吉林","存量部分",null,null,1884,23036,16548,null,0,2268,5604,null,0,null,0,null,0]
[null,null,"增量部分",null,null,116,1928,5117,null,0,0,0,null,0,null,0,null,0]
[null,null,"合计",{"$f":"E20+I20+M20+O20+Q20","v":30027},{"$f":"ROUND((F20*4+G20*6+H20*8)/12,0)","v":27592},{"$f":"SUM(F18:F19)","v":2000},{"$f":"SUM(G18:G19)","v":24964},{"$f":"SUM(H18:H19)","v":21665},{"$f":"ROUND((J20*2+K20*3+L20*4)/12,0)","v":2435},{"$f":"SUM(J18:J19)","v":0},{"$f":"SUM(K18:K19)","v":2268},{"$f":"SUM(L18:L19)","v":5604},{"$f":"ROUND(N20*6/12,0)","v":0},{"$f":"SUM(N18:N19)","v":0},{"$f":"ROUND(P20*2/12,0)","v":0},{"$f":"SUM(P18:P19)","v":0},{"$f":"ROUND(R20*2/12,0)","v":0},{"$f":"SUM(R18:R19)","v":0}]
[5,"上海","存量部分",null,null,1392,10440,56388,null,0,396,8064,null,0,null,0,null,0]
[null,null,"增量部分",null,null,120,313,5154,null,0,0,0,null,0,null,0,null,0]
[null,null,"合计",{"$f":"E23+I23+M23+O23+Q23","v":49696},{"$f":"ROUND((F23*4+G23*6+H23*8)/12,0)","v":46909},{"$f":"SUM(F21:F22)","v":1512},{"$f":"SUM(G21:G22)","v":10753},{"$f":"SUM(H21:H22)","v":61542},{"$f":"ROUND((J23*2+K23*3+L23*4)/12,0)","v":2787},{"$f":"SUM(J21:J22)","v":0},{"$f":"SUM(K21:K22)","v":396},{"$f":"SUM(L21:L22)","v":8064},{"$f":"ROUND(N23*6/12,0)","v":0},{"$f":"SUM(N21:N22)","v":0},{"$f":"ROUND(P23*2/12,0)","v":0},{"$f":"SUM(P21:P22)","v":0},{"$f":"ROUND(R23*2/12,0)","v":0},{"$f":"SUM(R21:R22)","v":0}]
[6,"江苏","存量部分",null,null,11712,75264,84516,null,0,5640,70064,null,180,null,0,null,0]
[null,null,"增量部分",null,null,265,3055,5461,null,0,748,406,null,0,null,0,null,0]
[null,null,"合计",{"$f":"E26+I26+M26+O26+Q26","v":128314},{"$f":"ROUND((F26*4+G26*6+H26*8)/12,0)","v":103137},{"$f":"SUM(F24:F25)","v":11977},{"$f":"SUM(G24:G25)","v":78319},{"$f":"SUM(H24:H25)","v":89977},{"$f":"ROUND((J26*2+K26*3+L26*4)/12,0)","v":25087},{"$f":"SUM(J24:J25)","v":0},{"$f":"SUM(K24:K25)","v":6388},{"$f":"SUM(L24:L25)","v":70470},{"$f":"ROUND(N26*6/12,0)","v":90},{"$f":"SUM(N24:N25)","v":180},{"$f":"ROUND(P26*2/12,0)","v":0},{"$f":"SUM(P24:P25)","v":0},{"$f":"ROUND(R26*2/12,0)","v":0},{"$f":"SUM(R24:R25)","v":0}]
[7,"浙江（不含宁波）","存量部分",null,null,6345,35808,47276,null,0,18405,35088,null,0,null,0,null,0]
[null,null,"增量部分",null,null,2215,4892,2700,null,0,1432,1630,null,21,null,0,null,0]
[null,null,"合计",{"$f":"E29+I29+M29+O29+Q29","v":73731},{"$f":"ROUND((F29*4+G29*6+H29*8)/12,0)","v":56521},{"$f":"SUM(F27:F28)","v":8560},{"$f":"SUM(G27:G28)","v":40700},{"$f":"SUM(H27:H28)","v":49976},{"$f":"ROUND((J29*2+K29*3+L29*4)/12,0)","v":17199},{"$f":"SUM(J27:J28)","v":0},{"$f":"SUM(K27:K28)","v":19837},{"$f":"SUM(L27:L28)","v":36718},{"$f":"ROUND(N29*6/12,0)","v":11},{"$f":"SUM(N27:N28)","v":21},{"$f":"ROUND(P29*2/12,0)","v":0},{"$f":"SUM(P27:P28)","v":0},{"$f":"ROUND(R29*2/12,0)","v":0},{"$f":"SUM(R27:R28)","v":0}]
[8,"宁波","存量部分",null,null,720,4632,21276,null,0,2628,5112,null,0,null,0,null,0]
[null,null,"增量部分",null,null,226,1322,298,null,0,126,108,null,0,null,0,null,0]
[null,null,"合计",{"$f":"E32+I32+M32+O32+Q32","v":20104},{"$f":"ROUND((F32*4+G32*6+H32*8)/12,0)","v":17675},{"$f":"SUM(F30:F31)","v":946},{"$f":"SUM(G30:G31)","v":5954},{"$f":"SUM(H30:H31)","v":21574},{"$f":"ROUND((J32*2+K32*3+L32*4)/12,0)","v":2429},{"$f":"SUM(J30:J31)","v":0},{"$f":"SUM(K30:K31)","v":2754},{"$f":"SUM(L30:L31)","v":5220},{"$f":"ROUND(N32*6/12,0)","v":0},{"$f":"SUM(N30:N31)","v":0},{"$f":"ROUND(P32*2/12,0)","v":0},{"$f":"SUM(P30:P31)","v":0},{"$f":"ROUND(R32*2/12,0)","v":0},{"$f":"SUM(R30:R31)","v":0}]
[9,"安徽","存量部分",null,null,5658,43281,48054,null,0,5760,33144,null,0,null,0,null,0]
[null,null,"增量部分",null,null,3735,6018,6793,null,0,14,144,null,0,null,0,null,0]
[null,null,"合计",{"$f":"E35+I35+M35+O35+Q35","v":76885},{"$f":"ROUND((F35*4+G35*6+H35*8)/12,0)","v":64345},{"$f":"SUM(F33:F34)","v":9393},{"$f":"SUM(G33:G34)","v":49299},{"$f":"SUM(H33:H34)","v":54847},{"$f":"ROUND((J35*2+K35*3+L35*4)/12,0)","v":12540},{"$f":"SUM(J33:J34)","v":0},{"$f":"SUM(K33:K34)","v":5774},{"$f":"SUM(L33:L34)","v":33288},{"$f":"ROUND(N35*6/12,0)","v":0},{"$f":"SUM(N33:N34)","v":0},{"$f":"ROUND(P35*2/12,0)","v":0},{"$f":"SUM(P33:P34)","v":0},{"$f":"ROUND(R35*2/12,0)","v":0},{"$f":"SUM(R33:R34)","v":0}]
[10,"福建（不含厦门）","存量部分",null,null,10548,56532,35532,null,0,2040,12000,null,0,null,0,null,0]
[null,null,"增量部分",null,null,661,2619,1845,null,0,0,0,null,0,null,0,null,0]
[null,null,"合计",{"$f":"E38+I38+M38+O38+Q38","v":62740},{"$f":"ROUND((F38*4+G38*6+H38*8)/12,0)","v":58230},{"$f":"SUM(F36:F37)","v":11209},{"$f":"SUM(G36:G37)","v":59151},{"$f":"SUM(H36:H37)","v":37377},{"$f":"ROUND((J38*2+K38*3+L38*4)/12,0)","v":4510},{"$f":"SUM(J36:J37)","v":0},{"$f":"SUM(K36:K37)","v":2040},{"$f":"SUM(L36:L37)","v":12000},{"$f":"ROUND(N38*6/12,0)","v":0},{"$f":"SUM(N36:N37)","v":0},{"$f":"ROUND(P38*2/12,0)","v":0},{"$f":"SUM(P36:P37)","v":0},{"$f":"ROUND(R38*2/12,0)","v":0},{"$f":"SUM(R36:R37)","v":0}]
[11,"江西","存量部分",null,null,2736,51180,18875,null,0,24,12576,null,0,null,0,null,0]
[null,null,"增量部分",null,null,302,3478,1569,null,0,0,424,null,0,null,0,null,0]
[null,null,"合计",{"$f":"E41+I41+M41+O41+Q41","v":46310},{"$f":"ROUND((F41*4+G41*6+H41*8)/12,0)","v":41971},{"$f":"SUM(F39:F40)","v":3038},{"$f":"SUM(G39:G40)","v":54658},{"$f":"SUM(H39:H40)","v":20444},{"$f":"ROUND((J41*2+K41*3+L41*4)/12,0)","v":4339},{"$f":"SUM(J39:J40)","v":0},{"$f":"SUM(K39:K40)","v":24},{"$f":"SUM(L39:L40)","v":13000},{"$f":"ROUND(N41*6/12,0)","v":0},{"$f":"SUM(N39:N40)","v":0},{"$f":"ROUND(P41*2/12,0)","v":0},{"$f":"SUM(P39:P40)","v":0},{"$f":"ROUND(R41*2/12,0)","v":0},{"$f":"SUM(R39:R40)","v":0}]
[12,"山东（不含青岛）","存量部分",null,null,76132,185257,60996,null,0,1320,74992,null,0,null,0,null,0]
[null,null,"增量部分",null,null,455,4705,4717,null,0,268,999,null,330,null,0,null,0]
[null,null,"合计",{"$f":"E44+I44+M44+O44+Q44","v":190211},{"$f":"ROUND((F44*4+G44*6+H44*8)/12,0)","v":164319},{"$f":"SUM(F42:F43)","v":76587},{"$f":"SUM(G42:G43)","v":189962},{"$f":"SUM(H42:H43)","v":65713},{"$f":"ROUND((J44*2+K44*3+L44*4)/12,0)","v":25727},{"$f":"SUM(J42:J43)","v":0},{"$f":"SUM(K42:K43)","v":1588},{"$f":"SUM(L42:L43)","v":75991},{"$f":"ROUND(N44*6/12,0)","v":165},{"$f":"SUM(N42:N43)","v":330},{"$f":"ROUND(P44*2/12,0)","v":0},{"$f":"SUM(P42:P43)","v":0},{"$f":"ROUND(R44*2/12,0)","v":0},{"$f":"SUM(R42:R43)","v":0}]
[13,"河南","存量部分",null,null,45984,118752,88452,null,0,1272,25015,null,264,null,0,null,0]
[null,null,"增量部分",null,null,792,10285,6946,null,0,0,0,null,576,null,0,null,0]
[null,null,"合计",{"$f":"E47+I47+M47+O47+Q47","v":152785},{"$f":"ROUND((F47*4+G47*6+H47*8)/12,0)","v":143709},{"$f":"SUM(F45:F46)","v":46776},{"$f":"SUM(G45:G46)","v":129037},{"$f":"SUM(H45:H46)","v":95398},{"$f":"ROUND((J47*2+K47*3+L47*4)/12,0)","v":8656},{"$f":"SUM(J45:J46)","v":0},{"$f":"SUM(K45:K46)","v":1272},{"$f":"SUM(L45:L46)","v":25015},{"$f":"ROUND(N47*6/12,0)","v":420},{"$f":"SUM(N45:N46)","v":840},{"$f":"ROUND(P47*2/12,0)","v":0},{"$f":"SUM(P45:P46)","v":0},{"$f":"ROUND(R47*2/12,0)","v":0},{"$f":"SUM(R45:R46)","v":0}]
[14,"湖南","存量部分",null,null,6852,71059,124296,null,0,1392,44683,null,0,null,0,null,0]
[null,null,"增量部分",null,null,230,8696,12981,null,0,0,0,null,0,null,0,null,0]
[null,null,"合计",{"$f":"E50+I50+M50+O50+Q50","v":148998},{"$f":"ROUND((F50*4+G50*6+H50*8)/12,0)","v":133756},{"$f":"SUM(F48:F49)","v":7082},{"$f":"SUM(G48:G49)","v":79755},{"$f":"SUM(H48:H49)","v":137277},{"$f":"ROUND((J50*2+K50*3+L50*4)/12,0)","v":15242},{"$f":"SUM(J48:J49)","v":0},{"$f":"SUM(K48:K49)","v":1392},{"$f":"SUM(L48:L49)","v":44683},{"$f":"ROUND(N50*6/12,0)","v":0},{"$f":"SUM(N48:N49)","v":0},{"$f":"ROUND(P50*2/12,0)","v":0},{"$f":"SUM(P48:P49)","v":0},{"$f":"ROUND(R50*2/12,0)","v":0},{"$f":"SUM(R48:R49)","v":0}]
[15,"广东（不含深圳）","存量部分",null,null,19214,170144,158929,null,0,3096,33027,null,900,null,0,null,0]
[null,null,"增量部分",null,null,1118,11860,1963,null,0,0,0,null,33,null,0,null,0]
[null,null,"合计",{"$f":"E53+I53+M53+O53+Q53","v":217291},{"$f":"ROUND((F53*4+G53*6+H53*8)/12,0)","v":205041},{"$f":"SUM(F51:F52)","v":20332},{"$f":"SUM(G51:G52)","v":182004},{"$f":"SUM(H51:H52)","v":160892},{"$f":"ROUND((J53*2+K53*3+L53*4)/12,0)","v":11783},{"$f":"SUM(J51:J52)","v":0},{"$f":"SUM(K51:K52)","v":3096},{"$f":"SUM(L51:L52)","v":33027},{"$f":"ROUND(N53*6/12,0)","v":467},{"$f":"SUM(N51:N52)","v":933},{"$f":"ROUND(P53*2/12,0)","v":0},{"$f":"SUM(P51:P52)","v":0},{"$f":"ROUND(R53*2/12,0)","v":0},{"$f":"SUM(R51:R52)","v":0}]
[16,"深圳","存量部分",null,null,10819,26677,138489,null,0,0,147,null,0,null,0,null,0]
[null,null,"增量部分",null,null,40,1344,10,null,0,0,0,null,0,null,0,null,0]
[null,null,"合计",{"$f":"E56+I56+M56+O56+Q56","v":110012},{"$f":"ROUND((F56*4+G56*6+H56*8)/12,0)","v":109963},{"$f":"SUM(F54:F55)","v":10859},{"$f":"SUM(G54:G55)","v":28021},{"$f":"SUM(H54:H55)","v":138499},{"$f":"ROUND((J56*2+K56*3+L56*4)/12,0)","v":49},{"$f":"SUM(J54:J55)","v":0},{"$f":"SUM(K54:K55)","v":0},{"$f":"SUM(L54:L55)","v":147},{"$f":"ROUND(N56*6/12,0)","v":0},{"$f":"SUM(N54:N55)","v":0},{"$f":"ROUND(P56*2/12,0)","v":0},{"$f":"SUM(P54:P55)","v":0},{"$f":"ROUND(R56*2/12,0)","v":0},{"$f":"SUM(R54:R55)","v":0}]
[17,"海南","存量部分",null,null,1656,8580,11616,null,0,0,5496,null,0,null,0,null,0]
[null,null,"增量部分",null,null,80,1287,233,null,0,0,0,null,0,null,0,null,0]
[null,null,"合计",{"$f":"E59+I59+M59+O59+Q59","v":15244},{"$f":"ROUND((F59*4+G59*6+H59*8)/12,0)","v":13412},{"$f":"SUM(F57:F58)","v":1736},{"$f":"SUM(G57:G58)","v":9867},{"$f":"SUM(H57:H58)","v":11849},{"$f":"ROUND((J59*2+K59*3+L59*4)/12,0)","v":1832},{"$f":"SUM(J57:J58)","v":0},{"$f":"SUM(K57:K58)","v":0},{"$f":"SUM(L57:L58)","v":5496},{"$f":"ROUND(N59*6/12,0)","v":0},{"$f":"SUM(N57:N58)","v":0},{"$f":"ROUND(P59*2/12,0)","v":0},{"$f":"SUM(P57:P58)","v":0},{"$f":"ROUND(R59*2/12,0)","v":0},{"$f":"SUM(R57:R58)","v":0}]
[18,"重庆","存量部分",null,null,1128,6108,6660,null,0,6684,12640,null,0,null,0,null,0]
[null,null,"增量部分",null,null,126,1342,1874,null,0,68,5064,null,0,null,0,null,0]
[null,null,"合计",{"$f":"E62+I62+M62+O62+Q62","v":17421},{"$f":"ROUND((F62*4+G62*6+H62*8)/12,0)","v":9832},{"$f":"SUM(F60:F61)","v":1254},{"$f":"SUM(G60:G61)","v":7450},{"$f":"SUM(H60:H61)","v":8534},{"$f":"ROUND((J62*2+K62*3+L62*4)/12,0)","v":7589},{"$f":"SUM(J60:J61)","v":0},{"$f":"SUM(K60:K61)","v":6752},{"$f":"SUM(L60:L61)","v":17704},{"$f":"ROUND(N62*6/12,0)","v":0},{"$f":"SUM(N60:N61)","v":0},{"$f":"ROUND(P62*2/12,0)","v":0},{"$f":"SUM(P60:P61)","v":0},{"$f":"ROUND(R62*2/12,0)","v":0},{"$f":"SUM(R60:R61)","v":0}]
[19,"四川*","存量部分",null,null,14718,20542,37620,null,0,6422,22704,null,120,null,0,null,0]
[null,null,"增量部分",null,null,875,7172,8629,null,0,102,974,null,0,null,0,null,0]
[null,null,"合计",{"$f":"E65+I65+M65+O65+Q65","v":59453},{"$f":"ROUND((F65*4+G65*6+H65*8)/12,0)","v":49869},{"$f":"SUM(F63:F64)","v":15593},27709,46225,{"$f":"ROUND((J65*2+K65*3+L65*4)/12,0)","v":9524},{"$f":"SUM(J63:J64)","v":0},{"$f":"SUM(K63:K64)","v":6524},{"$f":"SUM(L63:L64)","v":23678},{"$f":"ROUND(N65*6/12,0)","v":60},{"$f":"SUM(N63:N64)","v":120},{"$f":"ROUND(P65*2/12,0)","v":0},{"$f":"SUM(P63:P64)","v":0},{"$f":"ROUND(R65*2/12,0)","v":0},{"$f":"SUM(R63:R64)","v":0}]
[20,"云南","存量部分",null,null,11482,28004,4844,null,0,3540,15012,null,0,null,0,null,0]
[null,null,"增量部分",null,null,450,2859,1981,null,0,0,24,null,0,null,0,null,0]
[null,null,"合计",{"$f":"E68+I68+M68+O68+Q68","v":29856},{"$f":"ROUND((F68*4+G68*6+H68*8)/12,0)","v":23959},{"$f":"SUM(F66:F67)","v":11932},{"$f":"SUM(G66:G67)","v":30863},{"$f":"SUM(H66:H67)","v":6825},{"$f":"ROUND((J68*2+K68*3+L68*4)/12,0)","v":5897},{"$f":"SUM(J66:J67)","v":0},{"$f":"SUM(K66:K67)","v":3540},{"$f":"SUM(L66:L67)","v":15036},{"$f":"ROUND(N68*6/12,0)","v":0},{"$f":"SUM(N66:N67)","v":0},{"$f":"ROUND(P68*2/12,0)","v":0},{"$f":"SUM(P66:P67)","v":0},{"$f":"ROUND(R68*2/12,0)","v":0},{"$f":"SUM(R66:R67)","v":0}]
[21,"西藏","存量部分",null,null,468,60,384,null,0,336,3072,null,0,null,0,null,0]
[null,null,"增量部分",null,null,0,137,0,null,0,0,629,null,0,null,0,null,0]
[null,null,"合计",{"$f":"E71+I71+M71+O71+Q71","v":1829},{"$f":"ROUND((F71*4+G71*6+H71*8)/12,0)","v":511},{"$f":"SUM(F69:F70)","v":468},{"$f":"SUM(G69:G70)","v":197},{"$f":"SUM(H69:H70)","v":384},{"$f":"ROUND((J71*2+K71*3+L71*4)/12,0)","v":1318},{"$f":"SUM(J69:J70)","v":0},{"$f":"SUM(K69:K70)","v":336},{"$f":"SUM(L69:L70)","v":3701},{"$f":"ROUND(N71*6/12,0)","v":0},{"$f":"SUM(N69:N70)","v":0},{"$f":"ROUND(P71*2/12,0)","v":0},{"$f":"SUM(P69:P70)","v":0},{"$f":"ROUND(R71*2/12,0)","v":0},{"$f":"SUM(R69:R70)","v":0}]
[22,"青海","存量部分",null,null,1596,8148,2796,null,0,852,2904,null,0,null,0,null,0]
[null,null,"增量部分",null,null,93,834,1217,null,0,0,0,null,0,null,0,null,0]
[null,null,"合计",{"$f":"E74+I74+M74+O74+Q74","v":8910},{"$f":"ROUND((F74*4+G74*6+H74*8)/12,0)","v":7729},{"$f":"SUM(F72:F73)","v":1689},{"$f":"SUM(G72:G73)","v":8982},{"$f":"SUM(H72:H73)","v":4013},{"$f":"ROUND((J74*2+K74*3+L74*4)/12,0)","v":1181},{"$f":"SUM(J72:J73)","v":0},{"$f":"SUM(K72:K73)","v":852},{"$f":"SUM(L72:L73)","v":2904},{"$f":"ROUND(N74*6/12,0)","v":0},{"$f":"SUM(N72:N73)","v":0},{"$f":"ROUND(P74*2/12,0)","v":0},{"$f":"SUM(P72:P73)","v":0},{"$f":"ROUND(R74*2/12,0)","v":0},{"$f":"SUM(R72:R73)","v":0}]
[23,"宁夏","存量部分",null,null,420,2100,8040,null,0,948,840,null,0,null,0,null,0]
[null,null,"增量部分",null,null,63,811,845,null,0,0,0,null,0,null,0,null,0]
[null,null,"合计",{"$f":"E77+I77+M77+O77+Q77","v":8057},{"$f":"ROUND((F77*4+G77*6+H77*8)/12,0)","v":7540},{"$f":"SUM(F75:F76)","v":483},{"$f":"SUM(G75:G76)","v":2911},{"$f":"SUM(H75:H76)","v":8885},{"$f":"ROUND((J77*2+K77*3+L77*4)/12,0)","v":517},{"$f":"SUM(J75:J76)","v":0},{"$f":"SUM(K75:K76)","v":948},{"$f":"SUM(L75:L76)","v":840},{"$f":"ROUND(N77*6/12,0)","v":0},{"$f":"SUM(N75:N76)","v":0},{"$f":"ROUND(P77*2/12,0)","v":0},{"$f":"SUM(P75:P76)","v":0},{"$f":"ROUND(R77*2/12,0)","v":0},{"$f":"SUM(R75:R76)","v":0}]
[24,"新疆","存量部分",null,null,384,1944,8448,null,0,444,11362,null,1,null,0,null,24]
[null,null,"增量部分",null,null,0,327,2358,null,0,85,68,null,0,null,0,null,0]
[null,null,"合计",{"$f":"E80+I80+M80+O80+Q80","v":12415},{"$f":"ROUND((F80*4+G80*6+H80*8)/12,0)","v":8468},{"$f":"SUM(F78:F79)","v":384},{"$f":"SUM(G78:G79)","v":2271},{"$f":"SUM(H78:H79)","v":10806},{"$f":"ROUND((J80*2+K80*3+L80*4)/12,0)","v":3942},{"$f":"SUM(J78:J79)","v":0},{"$f":"SUM(K78:K79)","v":529},{"$f":"SUM(L78:L79)","v":11430},{"$f":"ROUND(N80*6/12,0)","v":1},{"$f":"SUM(N78:N79)","v":1},{"$f":"ROUND(P80*2/12,0)","v":0},{"$f":"SUM(P78:P79)","v":0},{"$f":"ROUND(R80*2/12,0)","v":4},{"$f":"SUM(R78:R79)","v":24}]

{"sheet":"3-2016","index":2,"n_rows":205,"n_cols":13,"rows_kept":205,"merged":[[1,0,1,12],[2,10,2,12],[4,0,4,4],[5,0,23,0],[5,1,23,1],[5,2,5,4],[6,2,18,2],[6,3,18,3],[19,2,21,2],[19,3,21,3],[22,2,23,2],[22,3,23,3],[24,0,26,0],[24,1,26,1],[24,2,24,4],[25,2,26,2],[25,3,26,3],[27,0,34,0],[27,1,34,1],[27,2,27,4],[28,2,30,2],[28,3,30,3],[31,2,34,2],[31,3,34,3],[35,0,45,0],[35,1,45,1],[35,2,35,4],[36,2,40,2],[36,3,40,3],[41,2,45,2],[41,3,45,3],[46,0,90,0],[46,1,90,1],[46,2,46,4],[47,2,50,2],[47,3,50,3],[51,2,57,2],[51,3,57,3],[58,2,59,2],[58,3,59,3],[60,2,77,2],[60,3,77,3],[78,2,81,2],[78,3,81,3],[82,2,90,2],[82,3,90,3],[91,0,93,0],[91,1,93,1],[91,2,91,4],[92,2,93,2],[92,3,93,3],[94,0,102,0],[94,1,102,1],[94,2,94,4],[95,2,99,2],[95,3,99,3],[100,2,102,2],[100,3,102,3],[103,0,117,0],[103,1,117,1],[103,2,103,4],[104,2,108,2],[104,3,108,3],[109,2,117,2],[109,3,117,3],[118,0,144,0],[118,1,144,1],[118,2,118,4],[119,2,120,2],[119,3,120,3],[121,2,123,2],[121,3,123,3],[124,2,127,2],[124,3,127,3],[128,2,144,2],[128,3,144,3],[145,0,156,0],[145,1,156,1],[145,2,145,4],[146,2,156,2],[146,3,156,3],[157,0,159,0],[157,1,159,1],[157,2,157,4],[158,2,159,2],[158,3,159,3],[160,0,173,0],[160,1,173,1],[160,2,160,4],[161,2,164,2],[161,3,164,3],[165,2,173,2],[165,3,173,3],[174,0,183,0],[174,1,183,1],[174,2,174,4],[175,2,183,2],[175,3,183,3],[184,0,187,0],[184,1,187,1],[184,2,184,4],[185,2,187,2],[185,3,187,3],[188,0,195,0],[188,1,195,1],[188,2,188,4],[189,2,195,2],[189,3,195,3],[196,0,198,0],[196,1,198,1],[196,2,196,4],[197,2,198,2],[197,3,198,3],[199,0,204,0],[199,1,204,1],[199,2,199,4],[200,2,201,2],[200,3,201,3],[202,2,204,2],[202,3,204,3]]}
["附件3"]
["2016年度新能源汽车推广应用补助资金清算汇总表"]
[{"$nulls":10},"单位：万元"]
["地区序号","地区","序号","车辆生产企业","车辆型号","核定推广数（辆）","核定补助标准（万元）","核定补助资金（万元）","按整车企业取整后补助资金（万元）","核减原因","此前待扣回预拨资金（万元）","此次实际扣回预拨资金（万元）","本次实际安排资金\n（万元）"]
["总计",{"$nulls":4},18387,null,{"$f":"SUM(H6:H205)/3","v":187448.1070000001},{"$f":"SUM(I6,I25,I28,I36,I47,I92,I95,I104,I119,I146,I158,I161,I175,I185,I189,I197,I200)","v":187449},null,{"$f":"SUM(K6:K205)/2","v":166132},{"$f":"SUM(L6:L205)/2","v":71286},116163]
[1,"北京市","合计",null,null,10141,null,54142.224,{"$f":"SUM(I7,I20,I23)","v":54143},null,32842,25384,28759]
[null,null,1,"北京汽车股份有限公司","小计",9403,null,50805.724,50806,null,22047,22047,28759]
[{"$nulls":4},"BJ5022XXYV3R2-BEV",2073,"6.804",14104.692,""]
[{"$nulls":4},"BJ5022XXYV3R5-BEV",296,"6.642",1966.032,""]
[{"$nulls":4},"BJ7000B3D1-BEV",1,"4.5",4.5,""]
[{"$nulls":4},"BJ7000B3D5-BEV",1585,"4.5",7132.5,""]
[{"$nulls":4},"BJ7000B3D6-BEV",1243,"4.5",5593.5,""]
[{"$nulls":4},"BJ7000B3DA-BEV",20,"4.5",90,""]
[{"$nulls":4},"BJ7000C5E1-BEV",65,"4.5",292.5,""]
[{"$nulls":4},"BJ7000C5E1-BEV",3082,"5.5",16951,""]
[{"$nulls":4},"BJ7000C7H3-BEV",63,"4.5",283.5,""]
[{"$nulls":4},"BJ7000U3D-BEV",878,"4.5",3951,""]
[{"$nulls":4},"BJ7001B3D2-BEV",97,"4.5",436.5,""]
[{"$nulls":4},"BJ7002B3D2-BEV",0,null,0,null,"核减138辆，原因为：现场核查不通过"]
[null,null,2,"北京新能源汽车股份有限公司","小计",737,null,3316.5,{"$f":"ROUND(H20,0)","v":3317},null,8050,3317,0]
[{"$nulls":4},"BJ7001BPH1-BEV",695,"4.5",3127.5]
[{"$nulls":4},"BJ7001BPH2-BEV",42,"4.5",189]
[null,null,3,"北汽福田汽车股份有限公司","小计",1,null,20,{"$f":"ROUND(H23,0)","v":20},null,2745,20,0]
[{"$nulls":4},"BJ6127PHEVUA-1",1,"20",20]
[2,"河北省","合计",null,null,3,null,69,{"$f":"SUM(I26:I27)","v":69},null,1708,69,0]
[null,null,1,"河北长安汽车有限公司","小计",3,null,69,{"$f":"ROUND(H26,0)","v":69},null,1708,69,0]
[{"$nulls":4},"SC6611DBEV",3,23,69]
[3,"山西省","合计",null,null,2039,null,20604.114,{"$f":"SUM(I29:I35)","v":20604},null,0,0,20604]
[null,null,1,"大运汽车股份有限公司","小计",1290,null,15093,{"$f":"ROUND(H29,0)","v":15093},null,0,0,15093]
[{"$nulls":4},"DYX5040XXYBEV1CAH0",889,11.7,10401.3]
[{"$nulls":4},"DYX5040XXYBEV1ZAH0",401,11.7,4691.7]
[null,null,2,"山西成功汽车制造有限公司","小计",749,null,5511.114,{"$f":"ROUND(H32,0)","v":5511},null,0,0,5511]
[{"$nulls":4},"SCH5022XXY-BEV1",18,6.822,122.796,null,"核减1辆，原因为：未按有关要求上传运行数据"]
[{"$nulls":4},"SCH5022XXY-BEV2",531,7.578,4023.918,null,"核减21辆，原因为：未按有关要求上传运行数据"]
[{"$nulls":4},"SCH5022XXY-BEV5",200,6.822,1364.4,null,"核减3辆，原因为：未按有关要求上传运行数据"]
[4,"上海市","合计",null,null,305,null,3674.8,{"$f":"SUM(I37:I46)","v":3675},null,17555,3675,0]
[null,null,1,"上海汽车集团股份有限公司","小计",45,null,139.5,{"$f":"ROUND(H37,0)","v":140},null,14008,140,0]
[{"$nulls":4},"CSA7001BEV",3,4.5,13.5,null,"核减1辆，原因为：未按有关要求上传运行数据"]
[{"$nulls":4},"CSA7144CDPHEV",8,3,24,null,""]
[{"$nulls":4},"CSA7154TDPHEV",14,3,42,null,""]
[{"$nulls":4},"CSA7155TDPHEV",20,3,60,null,"核减6辆，原因为：未按有关要求上传运行数据"]
[null,null,2,"上汽大通汽车有限公司","小计",260,null,3535.3,{"$f":"ROUND(H42,0)","v":3535},null,3547,3535,0]
[{"$nulls":4},"SH5040XXYA7BEV",61,10.8,658.8]
[{"$nulls":4},"SH5041XXYA7BEV",142,13.5,1917]
[{"$nulls":4},"SH6521C1BEV",19,4.5,85.5]
[{"$nulls":4},"SH6601A4BEV",38,23,874]
[5,"江苏省","合计",null,null,{"$f":"SUM(F48,F52,F59,F61,F79,F83)","v":531},null,{"$f":"SUM(H48,H52,H59,H61,H79,H83)","v":13053.068},{"$f":"SUM(I48:I91)","v":13053},null,15454,6498,6555]
[null,null,1,"江苏九龙汽车制造有限公司","小计",13,null,340,{"$f":"ROUND(H48,0)","v":340},null,2044,340,0]
[{"$nulls":4},"HKL6600BEV5",6,25,150]
[{"$nulls":4},"HKL6601BEV",6,25,150]
[{"$nulls":4},"HKL6801BEV",1,40,40]
[null,null,2,"江苏陆地方舟新能源电动汽车有限公司","小计",{"$f":"SUM(F53:F58)","v":27},null,{"$f":"SUM(H53:H58)","v":1080},{"$f":"ROUND(H52,0)","v":1080},null,0,0,1080]
[{"$nulls":4},"RQ5022XXYEVH9",0,0,0,null,"需进一步核实后予以清算"]
[{"$nulls":4},"RQ6110YEVH4",0,0,0,null,"核减12辆，原因为：现场核查不通过"]
[{"$nulls":4},"RQ6830GEVH2",3,40,120]
[{"$nulls":4},"RQ6830YEVH11",11,40,440]
[{"$nulls":4},"RQ6830YEVH13",2,40,80]
[{"$nulls":4},"RQ6830YEVH8",11,40,440]
[null,null,3,"金龙联合汽车工业(苏州)有限公司","小计",1,null,25,{"$f":"ROUND(H59,0)","v":25},null,7277,25,0]
[{"$nulls":4},"KLQ6601BEV1X2",1,25,25]
[null,null,4,"南京金龙客车制造有限公司","小计",210,null,6116.358,{"$f":"ROUND(H61,0)","v":6116},null,4433,4433,1683]
[{"$nulls":4},"NJL5040XXYBEV",18,13.131,236.358,null,"核减1辆，原因为：未按有关要求上传运行数据"]
[{"$nulls":4},"NJL6107BEV",1,50,50]
[{"$nulls":4},"NJL6117BEV1",10,50,500]
[{"$nulls":4},"NJL6117BEV10",2,50,100]
[{"$nulls":4},"NJL6118BEV7",2,50,100]
[{"$nulls":4},"NJL6118BEV9",9,50,450]
[{"$nulls":4},"NJL6600BEV32",0,0,0,null,"核减175辆，原因为：未按有关要求上传运行数据,现场核查不通过"]
[{"$nulls":4},"NJL6600BEV41",89,25,2225,null,"核减8辆，原因为：未按有关要求上传运行数据"]
[{"$nulls":4},"NJL6600BEV66",1,25,25]
[{"$nulls":4},"NJL6600BEV68",9,25,225]
[{"$nulls":4},"NJL6600BEV69",1,25,25]
[{"$nulls":4},"NJL6601BEV27",36,25,900]
[{"$nulls":4},"NJL6806BEV1",5,40,200]
[{"$nulls":4},"NJL6806BEV2",4,40,160]
[{"$nulls":4},"NJL6810BEV4",21,40,840]
[{"$nulls":4},"NJL6859BEV",0,0,0,null,"核减1辆，原因为：未按有关要求上传运行数据"]
[{"$nulls":4},"NJL6859BEV14",2,40,80]
[null,null,5,"南京汽车集团有限公司","小计",245,null,3905.71,{"$f":"ROUND(H79,0)","v":3906},null,789,789,3117]
[{"$nulls":4},"NJ5057XXYAEV1",124,13.23,1640.52]
[{"$nulls":4},"NJ5057XXYCEV3",53,13.23,701.19]
[{"$nulls":4},"NJ6697DEV2",68,23,1564]
[null,null,6,"扬州亚星客车股份有限公司","小计",35,null,1586,{"$f":"ROUND(H83,0)","v":1586},null,911,911,675]
[{"$nulls":4},"JS6101GHBEV1",10,50,500]
[{"$nulls":4},"JS6108GHEVC9",1,20,20]
[{"$nulls":4},"JS6851GHBEV9",8,40,320]
[{"$nulls":4},"YBL6111HBEV",1,46,46]
[{"$nulls":4},"YBL6117HBEV11",3,50,150]
[{"$nulls":4},"YBL6117HBEV3",1,50,50]
[{"$nulls":4},"YBL6117HBEV5",9,50,450]
[{"$nulls":4},"YBL6600BEV3",2,25,50]
[6,"宁波市","合计",null,null,958,null,5269,{"$f":"SUM(I93:I94)","v":5269},null,1299,1299,3970]
[null,null,1,"浙江吉利汽车有限公司","小计",958,null,5269,{"$f":"ROUND(H93,0)","v":5269},null,1299,1299,3970]
[{"$nulls":4},"MR7002BEV03",958,5.5,5269]
[7,"安徽省","合计",null,null,266,null,1156,{"$f":"SUM(I96:I103)","v":1156},null,6282,975,181]
[null,null,1,"安徽江淮汽车股份有限公司","小计",40,null,181,{"$f":"ROUND(H96,0)","v":181},null,0,0,181]
[{"$nulls":4},"HFC7000AEV",31,"4.5",139.5]
[{"$nulls":4},"HFC7001A1EV",5,"4.5",22.5]
[{"$nulls":4},"HFC7001AEV",3,"4.5",13.5]
[{"$nulls":4},"HFC7001EAEV",1,"5.5",5.5]
[null,null,2,"奇瑞汽车股份有限公司","小计",226,null,975,{"$f":"ROUND(H101,0)","v":975},null,6282,975,0]
[{"$nulls":4},"SQR7000BEVJ00",198,"4.5",891]
[{"$nulls":4},"SQR7160PHEVJ42",28,"3",84]
[8,"厦门市","合计",null,null,166,null,6654,{"$f":"SUM(I105:I118)","v":6654},null,2893,2332,4322]
[null,null,1,"厦门金龙联合汽车工业有限公司","小计",14,null,555,{"$f":"ROUND(H105,0)","v":555},null,1116,555,0]
[{"$nulls":4},"XMQ6110BCBEVL3",3,50,150]
[{"$nulls":4},"XMQ6113BYBEVL3",4,50,200]
[{"$nulls":4},"XMQ6610CEBEVL4",5,25,125,null,"核减1辆，原因为：未按有关要求上传运行数据"]
[{"$nulls":4},"XMQ6821CYBEVL2",2,40,80]
[null,null,2,"厦门金龙旅行车有限公司","小计",152,null,6099,{"$f":"ROUND(H110,0)","v":6099},null,1777,1777,4322]
[{"$nulls":4},"XML6102JEV70",2,50,100]
[{"$nulls":4},"XML6125JEVF0C",5,50,250]
[{"$nulls":4},"XML6609JEVG0",2,25,50]
[{"$nulls":4},"XML6700JEV80",1,19,19]
[{"$nulls":4},"XML6809JEV10",130,40,5200]
[{"$nulls":4},"XML6809JEV70",7,40,280]
[{"$nulls":4},"XML6827JEV30",1,40,40]
[{"$nulls":4},"XML6865JEV10C",4,40,160]
[9,"山东省","合计",null,null,914,null,{"$f":"SUM(H120,H122,H125,H129)","v":25845.618000000002},{"$f":"SUM(I120:I145)","v":25846},null,8103,8056,17790]
[null,null,1,"山东蓝诺汽车有限公司","小计",1,null,7.092,{"$f":"ROUND(H120,0)","v":7},null,54,7,0]
[{"$nulls":4},"KRD5022XXYBEV02",1,7.092,7.092]
[null,null,2,"烟台舒驰客车有限责任公司","小计",99,null,4930,4930,null,1012,1012,3918]
[{"$nulls":4},"YTK6118EV2",97,50,4850,null,"核减1辆，原因为：未按有关要求上传运行数据"]
[{"$nulls":4},"YTK6810EV1",2,40,80]
[null,null,3,"中国重汽集团济南豪沃客车有限公司","小计",32,null,672,672,null,118,118,554]
[{"$nulls":4},"JK6106GBEV3",0,0,0,null,"需进一步核实后予以清算"]
[{"$nulls":4},"JK6660GBEV2",32,21,672,null,""]
[{"$nulls":4},"JK6806GBEV",0,0,0,null,"需进一步核实后予以清算"]
[null,null,4,"中通客车控股股份有限公司","小计",782,null,20236.526,{"$f":"ROUND(H129,0)","v":20237},null,6919,6919,13318]
[{"$nulls":4},"LCK5021XXYBEV1",1,5.526,5.526]
[{"$nulls":4},"LCK6108EVG5",3,50,150]
[{"$nulls":4},"LCK6118PHEV",7,20,140]
[{"$nulls":4},"LCK6600BEV1",442,25,11050]
[{"$nulls":4},"LCK6600BEV5",1,25,25]
[{"$nulls":4},"LCK6609EV2",60,25,1500]
[{"$nulls":4},"LCK6609EV3",1,25,25]
[{"$nulls":4},"LCK6609EV5",208,25,5200]
[{"$nulls":4},"LCK6609EVG2",5,25,125]
[{"$nulls":4},"LCK6660EVG1",1,25,25]
[{"$nulls":4},"LCK6668EVG",6,21,126]
[{"$nulls":4},"LCK6700BEV1",1,25,25]
[{"$nulls":4},"LCK6809EVG",8,40,320]
[{"$nulls":4},"LCK6809EVG6",2,40,80]
[{"$nulls":4},"LCK6810EVG",4,40,160]
[{"$nulls":4},"LCK6810EVG7",32,40,1280]
[10,"湖北省","合计",null,null,1632,null,17998.254,{"$f":"SUM(I147:I157)","v":17998},null,8706,8706,9292]
[null,null,1,"东风汽车集团有限公司","小计",1632,null,17998.254,{"$f":"ROUND(H147,0)","v":17998},null,8706,8706,9292]
[{"$nulls":4},"DFM7000H2ABEV1",16,4.5,72]
[{"$nulls":4},"DFM7000H2DBEV1",5,4.5,22.5]
[{"$nulls":4},"EQ5020XXYTBEV2",0,0,0,null,"核减3辆，原因为：未按有关要求上传运行数据"]
[{"$nulls":4},"EQ5021XXYTBEV2",0,0,0,null,"核减47辆，原因为：未按有关要求上传运行数据"]
[{"$nulls":4},"EQ5044XXYTBEV",729,8.226,5996.754,null,"核减11辆，原因为：未按有关要求上传运行数据"]
[{"$nulls":4},"EQ5070XXYTBEV",0,0,0,null,"核减2辆，原因为：该车型不在推荐目录内"]
[{"$nulls":4},"EQ5070XXYTBEV10",37,13.5,499.5,null,""]
[{"$nulls":4},"EQ5070XXYTBEV3",493,13.5,6655.5,null,"核减14辆，原因为：未按有关要求上传运行数据"]
[{"$nulls":4},"EQ5070XXYTBEV5",352,13.5,4752,null,"核减3辆，原因为：未按有关要求上传运行数据"]
[{"$nulls":4},"EQ5160XXYTBEV1",0,0,0,null,"核减4辆，原因为：未按有关要求上传运行数据"]
[11,"湖南省","合计",null,null,33,null,759,{"$f":"SUM(I159:I160)","v":759},null,0,0,759]
[null,null,1,"湖南南车时代电动汽车股份有限公司","小计",33,null,759,{"$f":"ROUND(H159,0)","v":759},null,0,0,759]
[{"$nulls":4},"TEG6600EV03",33,23,759]
[12,"广东省","合计",null,null,670,null,25145,{"$f":"SUM(I162:I174)","v":25145},null,7435,7435,17710]
[null,null,1,"广州汽车集团乘用车有限公司","小计",174,null,522,{"$f":"ROUND(H162,0)","v":522},null,0,0,522]
[{"$nulls":4},"GAC7100SHEVB5",1,3,3]
[{"$nulls":4},"GAC7100SHEVD5",168,3,504]
[{"$nulls":4},"GAC7100SHEVD5A",5,3,15]
[null,null,2,"珠海广通汽车有限公司","小计",496,null,24623,{"$f":"ROUND(H166,0)","v":24623},null,7435,7435,17188]
[{"$nulls":4},"GTQ6105BEVB21",15,50,750]
[{"$nulls":4},"GTQ6118BEV2",429,50,21450]
[{"$nulls":4},"GTQ6123BEVBT3",18,42,756]
[{"$nulls":4},"GTQ6129BEVHT7",1,50,50]
[{"$nulls":4},"GTQ6131BEVST3",22,50.4,1108.8]
[{"$nulls":4},"GTQ6146BEVBT8",8,50.4,403.2]
[{"$nulls":4},"GTQ6606BEV1",1,25,25]
[{"$nulls":4},"GTQ6858BEVB2",2,40,80]
[13,"深圳市","合计",null,null,367,null,2493.5,{"$f":"SUM(I176:I184)","v":2494},null,28785,2494,0]
[null,null,1,"比亚迪汽车工业有限公司","小计",367,null,2493.5,{"$f":"ROUND(H176,0)","v":2494},null,28785,2494,0]
[{"$nulls":4},"BYD6480STHEV",8,3,24]
[{"$nulls":4},"BYD6710HLEV",4,23,92]
[{"$nulls":4},"BYD7006BEVH",24,5.5,132]
[{"$nulls":4},"CK6100LGEV1",7,50,350]
[{"$nulls":4},"CK6120LLEV",1,50,50]
[{"$nulls":4},"CK6800LZEV2",2,40,80,null,"核减1辆，原因为：未按有关要求上传运行数据"]
[{"$nulls":4},"QCJ7006BEVF",19,5.5,104.5,null,""]
[{"$nulls":4},"QCJ7007BEV",302,5.5,1661,null,""]
[14,"重庆市","合计",null,null,22,null,137.844,{"$f":"SUM(I186:I188)","v":138},null,2517,138,0]
[null,null,1,"重庆瑞驰汽车实业有限公司","小计",22,null,137.844,{"$f":"ROUND(H186,0)","v":138},null,2517,138,0]
[{"$nulls":4},"CRC5022XXYB-LBEV",10,4.842,48.42,null,"核减1辆，原因为：未按有关要求上传运行数据"]
[{"$nulls":4},"CRC5030XXYB-LBEV",12,7.452,89.424]
[15,"四川省","合计",null,null,319,null,10236.459,{"$f":"SUM(I190:I196)","v":10236},null,4015,4015,6221]
[null,null,1,"中植一客成都汽车有限公司","小计",319,null,10236.459,{"$f":"ROUND(H190,0)","v":10236},null,4015,4015,6221]
[{"$nulls":4},"CDL5020XXYBEV2",1,6.867,6.867]
[{"$nulls":4},"CDL5020XXYBEV3",29,7.488,217.152]
[{"$nulls":4},"CDL5021XXYBEV",16,7.965,127.44]
[{"$nulls":4},"CDL6606LRBEV",69,25,1725]
[{"$nulls":4},"CDL6810LRBEV",79,40,3160]
[{"$nulls":4},"CDL6810LRBEV1",125,40,5000]
[16,"云南省","合计",null,null,8,null,55.008,{"$f":"SUM(I198:I199)","v":55},null,373,55,0]
[null,null,1,"云南航天神州汽车有限公司","小计",8,null,55.008,{"$f":"ROUND(H198,0)","v":55},null,373,55,0]
[{"$nulls":4},"YH5022XXYBEV",8,6.876,55.008]
[17,"陕西省","合计",null,null,13,null,155.218,{"$f":"SUM(I201:I204)","v":155},null,28165,155,0]
[null,null,1,"比亚迪汽车有限公司","小计",4,null,22,22,null,27435,22,0]
[{"$nulls":4},"BYD7005BEV",4,5.5,22]
[null,null,2,"陕西汽车集团有限责任公司","小计",9,null,133.218,133,null,730,133,0]
[{"$nulls":4},"SX5070XXYBEV1",8,14.958,119.664,null,"核减3辆，原因为：未按有关要求上传运行数据"]
[{"$nulls":4},"SX5070XXYBEV2",1,13.554,13.554,null,"核减1辆，原因为：未按有关要求上传运行数据"]

{"sheet":"4-2017","index":3,"n_rows":851,"n_cols":13,"rows_kept":851,"merged":[[1,0,1,12],[2,10,2,12],[4,0,4,4],[5,0,61,0],[5,1,61,1],[5,2,5,4],[6,2,16,2],[6,3,16,3],[17,2,22,2],[17,3,22,3],[23,2,61,2],[23,3,61,3],[62,0,64,0],[62,1,64,1],[62,2,64,2],[62,3,64,3],[65,0,76,0],[65,1,76,1],[65,2,65,4],[66,2,67,2],[66,3,67,3],[68,2,76,2],[68,3,76,3],[77,0,106,0],[77,1,106,1],[77,2,77,4],[78,2,98,2],[78,3,98,3],[99,2,100,2],[99,3,100,3],[101,2,106,2],[101,3,106,3],[107,0,109,0],[107,1,109,1],[107,2,107,4],[108,2,109,2],[108,3,109,3],[110,0,118,0],[110,1,118,1],[110,2,110,4],[111,2,118,2],[111,3,118,3],[119,0,154,0],[119,1,154,1],[119,2,119,4],[120,2,125,2],[120,3,125,3],[126,2,145,2],[126,3,145,3],[146,2,154,2],[146,3,154,3],[155,0,206,0],[155,1,206,1],[155,2,155,4],[156,2,163,2],[156,3,163,3],[164,2,167,2],[164,3,167,3],[168,2,177,2],[168,3,177,3],[178,2,188,2],[178,3,188,3],[189,2,206,2],[189,3,206,3],[207,0,254,0],[207,1,254,1],[207,2,232,2],[207,3,232,3],[233,2,236,2],[233,3,236,3],[237,2,254,2],[237,3,254,3],[255,0,269,0],[255,1,269,1],[255,2,255,4],[256,2,269,2],[256,3,269,3],[270,0,285,0],[270,1,285,1],[270,2,270,4],[271,2,285,2],[271,3,285,3],[286,0,328,0],[286,1,328,1],[286,2,286,4],[287,2,310,2],[287,3,310,3],[311,2,321,2],[311,3,321,3],[322,2,328,2],[322,3,328,3],[329,0,335,0],[329,1,335,1],[329,2,329,4],[330,2,335,2],[330,3,335,3],[336,0,392,0],[336,1,392,1],[336,2,336,4],[337,2,361,2],[337,3,361,3],[362,2,392,2],[362,3,392,3],[393,0,398,0],[393,1,398,1],[393,2,398,2],[393,3,398,3],[399,0,423,0],[399,1,423,1],[399,2,399,4],[400,2,406,2],[400,3,406,3],[407,2,413,2],[407,3,413,3],[414,2,415,2],[414,3,415,3],[416,2,421,2],[416,3,421,3],[422,2,423,2],[422,3,423,3],[424,0,438,0],[424,1,438,1],[424,2,424,4],[425,2,429,2],[425,3,429,3],[430,2,438,2],[430,3,438,3],[439,0,495,0],[439,1,495,1],[439,2,444,2],[439,3,444,3],[445,2,495,2],[445,3,495,3],[496,0,501,0],[496,1,501,1],[496,2,496,4],[497,2,501,2],[497,3,501,3],[502,0,552,0],[502,1,552,1],[502,2,502,4],[503,2,506,2],[503,3,506,3],[507,2,552,2],[507,3,552,3],[553,0,558,0],[553,1,558,1],[553,2,558,2],[553,3,558,3],[559,0,613,0],[559,1,613,1],[559,2,559,4],[560,2,564,2],[560,3,564,3],[565,2,567,2],[565,3,567,3],[568,2,613,2],[568,3,613,3],[614,0,650,0],[614,1,650,1],[614,2,635,2],[614,3,635,3],[636,2,650,2],[636,3,650,3],[651,0,662,0],[651,1,662,1],[651,2,651,4],[652,2,660,2],[652,3,660,3],[661,2,662,2],[661,3,662,3],[663,0,685,0],[663,1,685,1],[663,2,685,2],[663,3,685,3],[686,0,720,0],[686,1,720,1],[686,2,686,4],[687,2,691,2],[687,3,691,3],[692,2,694,2],[692,3,694,3],[695,2,699,2],[695,3,699,3],[700,2,720,2],[700,3,720,3],[721,0,729,0],[721,1,729,1],[721,2,729,2],[721,3,729,3],[730,0,758,0],[730,1,758,1],[730,2,730,4],[731,2,758,2],[731,3,758,3],[759,0,777,0],[759,1,777,1],[759,2,759,4],[760,2,762,2],[760,3,762,3],[763,2,775,2],[763,3,775,3],[776,2,777,2],[776,3,777,3],[778,0,802,0],[778,1,802,1],[778,2,778,4],[779,2,782,2],[779,3,782,3],[783,2,796,2],[783,3,796,3],[797,2,802,2],[797,3,802,3],[803,0,822,0],[803,1,822,1],[803,2,803,4],[804,2,807,2],[804,3,807,3],[808,2,813,2],[808,3,813,3],[814,2,822,2],[814,3,822,3],[823,0,826,0],[823,1,826,1],[823,2,823,4],[824,2,826,2],[824,3,826,3],[827,0,844,0],[827,1,844,1],[827,2,827,4],[828,2,835,2],[828,3,835,3],[836,2,844,2],[836,3,844,3],[845,0,850,0],[845,1,850,1],[845,2,850,2],[845,3,850,3]]}
["附件4"]
["2017年度新能源汽车推广应用补助资金清算汇总表"]
[{"$nulls":10},"单位：万元"]
["地区序号","地区","序号","车辆生产企业","车辆型号","核定推广数（辆）","核定补助标准（万元）","核定补助资金（万元）","按整车企业取整后补助资金（万元）","核减原因","此前待扣回预拨资金（万元）","此次实际扣回预拨资金（万元）","本次实际安排资金\n（万元）"]
["总计",{"$nulls":4},{"$f":"SUM(F6:F851)/3","v":94170},null,{"$f":"SUM(H6:H851)/3","v":792872.5505999998},{"$f":"SUM(I6:I851)/2","v":792876},null,{"$f":"SUM(K6:K851)/2","v":273827},{"$f":"SUM(L6:L851)/2","v":156625},{"$f":"SUM(M6:M851)/2","v":636251}]
[1,"北京市","合计",null,null,{"$f":"SUM(F7:F65)/2","v":11939},null,{"$f":"SUM(H7:H65)/2","v":64566.04599999999},{"$f":"SUM(I7,I18,I24)","v":64566},null,{"$f":"SUM(K7,K18,K24)","v":7458},7458,57108]
[null,null,1,"北京汽车股份有限公司","小计",2635,null,11664.684,{"$f":"ROUND(H7,0)","v":11665},null,0,0,11665]
[{"$nulls":4},"BJ5022XXYV3R2-BEV",89,5.436,483.804,null,""]
[{"$nulls":4},"BJ5023XXYV3RK-BEV",66,6.12,403.92,null,""]
[{"$nulls":4},"BJ7000B3D5-BEV",245,3.6,882,null,""]
[{"$nulls":4},"BJ7000C5E1-BEV",14,3.6,50.4,null,""]
[{"$nulls":4},"BJ7000C5E1-BEV",334,4.4,1469.6,null,""]
[{"$nulls":4},"BJ7000C5E2-BEV",1229,4.4,5407.6,null,""]
[{"$nulls":4},"BJ7000C5E4-BEV",35,4.84,169.4,null,""]
[{"$nulls":4},"BJ7000C5E7-BEV",94,4.84,454.96,null,""]
[{"$nulls":4},"BJ7000C8G-BEV",35,4.84,169.4,null,""]
[{"$nulls":4},"BJ7000U3D2-BEV",494,4.4,2173.6,null,""]
[null,null,2,"北京新能源汽车股份有限公司","小计",8223,null,31890.96,{"$f":"ROUND(H18,0)","v":31891},null,4733,4733,27158]
[{"$nulls":4},"BJ7001BPH1-BEV",993,3.6,3574.8,null,""]
[{"$nulls":4},"BJ7001BPH2-BEV",340,3.6,1224,null,""]
[{"$nulls":4},"BJ7001BPH5-BEV",2118,3.96,8387.28,null,""]
[{"$nulls":4},"BJ7001BPH7-BEV",4238,3.96,16782.48,null,""]
[{"$nulls":4},"BJ7001BPH8-BEV",534,3.6,1922.4,null,""]
[null,null,3,"北汽福田汽车股份有限公司","小计",1081,null,21010.402,{"$f":"ROUND(H24,0)","v":21010},null,2725,2725,18285]
[{"$nulls":4},"BJ5023XXYEV1",0,0,0,null,"核减1辆，原因为：相关车型不在推荐目录内"]
[{"$nulls":4},"BJ5023XXYEV2",0,0,0,null,"核减2辆，原因为：相关车型不在推荐目录内"]
[{"$nulls":4},"BJ5023XXYEV4",3,4.6452,13.9356,null,""]
[{"$nulls":4},"BJ5023XXYEV6",0,0,0,null,"核减39辆，原因为：相关车型不在推荐目录内"]
[{"$nulls":4},"BJ5023XYZEV1",73,4.6452,339.0996,null,""]
[{"$nulls":4},"BJ5048XXYEV2",1,8.56,8.56,null,""]
[{"$nulls":4},"BJ5049XXYEV2",0,0,0,null,"核减196辆，原因为：相关车型不在推荐目录内"]
[{"$nulls":4},"BJ5049XXYEV5",85,10.22,868.7,null,""]
[{"$nulls":4},"BJ6103EVUA-1",7,30,210,null,""]
[{"$nulls":4},"BJ6105CHEVCA-3",3,7.65,22.95,null,""]
[{"$nulls":4},"BJ6105CHEVCA-9",3,15,45,null,""]
[{"$nulls":4},"BJ6105EVCA-15",2,30,60,null,""]
[{"$nulls":4},"BJ6105EVCA-16",43,29.8598,1283.9714,null,""]
[{"$nulls":4},"BJ6105EVCA-18",6,30,180,null,""]
[{"$nulls":4},"BJ6105EVCA-20",7,30,210,null,""]
[{"$nulls":4},"BJ6105PHEVCA-10",2,7.5,15,null,""]
[{"$nulls":4},"BJ6105PHEVCA-16",4,14.9184,59.6736,null,""]
[{"$nulls":4},"BJ6105PHEVCA-17",8,15,120,null,""]
[{"$nulls":4},"BJ6105PHEVCA-18",13,15,195,null,""]
[{"$nulls":4},"BJ6105PHEVCA-7",52,7.5,390,null,""]
[{"$nulls":4},"BJ6117EVUA",34,29.8598,1015.2332,null,""]
[{"$nulls":4},"BJ6117EVUA-2",29,30,870,null,""]
[{"$nulls":4},"BJ6117EVUA-3",216,30,6480,null,""]
[{"$nulls":4},"BJ6123CHEVCA-5",1,15,15,null,""]
[{"$nulls":4},"BJ6123EVCA-32",1,30,30,null,""]
[{"$nulls":4},"BJ6123EVCA-33",1,29.8598,29.8598,null,""]
[{"$nulls":4},"BJ6123EVCA-37",306,20,6120,null,""]
[{"$nulls":4},"BJ6123PHEVCA-15",13,15,195,null,""]
[{"$nulls":4},"BJ6123PHEVCA-7",7,7.5,52.5,null,""]
[{"$nulls":4},"BJ6123SHEVCA-3",12,12.432,149.184,null,""]
[{"$nulls":4},"BJ6127PHEVCA-3",7,8.436,59.052,null,""]
[{"$nulls":4},"BJ6680SHEVCA",77,4.5,346.5,null,""]
[{"$nulls":4},"BJ6805EVCA-2",5,12,60,null,""]
[{"$nulls":4},"BJ6805EVCA-8",8,20,160,null,""]
[{"$nulls":4},"BJ6851EVCA-8",4,20,80,null,""]
[{"$nulls":4},"BJ6851EVCA-9",19,19.5912,372.2328,null,""]
[{"$nulls":4},"BJ6852FCEVUH",17,50,850,null,""]
[{"$nulls":4},"BJ6855CHEVCA-1",1,7.65,7.65,null,""]
[1,"北京市",3,"北汽福田汽车股份有限公司","BJ6855CHEVCA-2",9,9,81,null,""]
[{"$nulls":4},"BJ6905CHEVCA",1,6.3,6.3,null,""]
[{"$nulls":4},"BJ6905CHEVCA-5",1,9,9,null,""]
[2,"河北省","合计",null,null,{"$f":"939-80","v":859},null,{"$f":"SUM(H67,H69)","v":6985.406000000001},{"$f":"SUM(I67,I69)","v":6985},null,{"$f":"SUM(K67,K69)","v":11320},2096,4889]
[null,null,1,"长城汽车股份有限公司","小计",127,null,457.2,{"$f":"ROUND(H67,0)","v":457},null,9681,457,0]
[{"$nulls":4},"CC7000CE00BEV",127,3.6,457.2,null,""]
[null,null,2,"河北长安汽车有限公司","小计",732,null,{"$f":"SUM(H70:H77)","v":6528.206000000001},{"$f":"ROUND(H69,0)","v":6528},null,1639,1639,4889]
[{"$nulls":4},"SC5033XXYBBEV",0,0,0,null,"需进一步核实后予以清算"]
[{"$nulls":4},"SC5033XXYCBEV",0,0,0,null,"需进一步核实后予以清算"]
[{"$nulls":4},"SC5035XXYDCBBEV",682,8.11,5531.02,null,"核减1辆，原因为：未按有关要求上传运行数据"]
[{"$nulls":4},"SC6805ABBEV",28,19.9062,557.3736,null,"核减2辆，原因为：不满足行驶里程数要求"]
[{"$nulls":4},"SC6805ACBEV",20,20,400,null,"核减1辆，原因为：不满足行驶里程数要求"]
[{"$nulls":4},"SC6833ABEV",0,0,0,null,"需进一步核实后予以清算"]
[{"$nulls":4},"SC6836ABEV",1,19.9062,19.9062]
[{"$nulls":4},"SC6836BBEV",1,19.9062,19.9062,null,""]
[3,"山西省","合计",null,null,4776,null,45824.1476,{"$f":"SUM(I79:I107)","v":45823},null,{"$f":"SUM(K79,K100,K102)","v":582},582,45241]
[null,null,1,"成都大运汽车集团有限公司","小计",3336,null,37758.4604,{"$f":"ROUND(H79,0)","v":37758},null,582,582,37176]
[{"$nulls":4},"CGC5021XXYBEV2W2",3,6.0264,18.0792,null,""]
[{"$nulls":4},"CGC5025XXYBEV1NBBFBAML",4,6.0264,24.1056,null,""]
[{"$nulls":4},"CGC5044XXYBEV1AAAJEAGK",1,6.4152,6.4152,null,""]
[{"$nulls":4},"CGC5044XXYBEV1AAAJEAHZ",88,6.4152,564.5376,null,""]
[{"$nulls":4},"CGC5044XXYBEV1LBSKEAGK",1,7.448,7.448,null,""]
[{"$nulls":4},"CGC5044XXYBEV1NBLJEAGK",5,9.636,48.18,null,""]
[{"$nulls":4},"CGC5044XXYBEV1NBLJEAGK",657,9.66,6346.62,null,""]
[{"$nulls":4},"CGC5044XXYBEV1NBLJEAGY",2013,9.64,19405.32,null,""]
[{"$nulls":4},"CGC5044XXYBEV1NBLJEAGY",16,9.66,154.56,null,""]
[{"$nulls":4},"CGC5045XLCBEV1Z1",3,10.143,30.429,null,""]
[{"$nulls":4},"CGC5045XXYBEV1Z2",209,10.143,2119.887,null,""]
[{"$nulls":4},"CGC5045XXYBEV1Z3",2,9.503,19.006,null,""]
[{"$nulls":4},"CGC5045XXYBEV2Z1",1,9.676,9.676,null,""]
[{"$nulls":4},"CGC6100BEV1K1",39,29.8512,1164.1968,null,""]
[{"$nulls":4},"CGC6101BEV1K2",27,30,810,null,""]
[{"$nulls":4},"CGC6106BEV1PAQHJATM",169,30,5070,null,""]
[{"$nulls":4},"CGC6800BEV1K2",8,20,160,null,"核减42辆，原因为：相关车型不在推荐目录内"]
[{"$nulls":4},"CGC6801BEV1K3",52,20,1040,null,""]
[{"$nulls":4},"CGC6806BEV1EAMJHAYM",10,20,200,null,""]
[{"$nulls":4},"CGC6806BEV1PAMKHAUM",28,20,560,null,""]
[null,null,2,"大运汽车股份有限公司","小计",1,null,8.4,{"$f":"ROUND(H100,0)","v":8},null,0,0,8]
[{"$nulls":4},"DYX5040XXYBEV1ZAH0",1,8.4,8.4,null,""]
[null,null,3,"山西成功汽车制造有限公司","小计",1439,null,8057.2872,{"$f":"ROUND(H102,0)","v":8057},null,0,0,8057]
[{"$nulls":4},"SCH5022XXY-BEV1",550,5.448,2996.4,null,""]
[{"$nulls":4},"SCH5022XXY-BEV2",173,5.952,1029.696,null,""]
[{"$nulls":4},"SCH5022XXY-BEV5",47,5.448,256.056,null,""]
[{"$nulls":4},"SCH5022XXY-BEV8",536,5.5752,2988.3072,null,""]
[{"$nulls":4},"SCH5022XXY-BEV9",133,5.916,786.828,null,""]
[4,"辽宁省","合计",null,null,37,null,88.8,{"$f":"SUM(I109:I110)","v":89},null,1929,89,0]
[null,null,1,"华晨宝马汽车有限公司","小计",37,null,88.8,{"$f":"ROUND(H109,0)","v":89},null,1929,89,0]
[{"$nulls":4},"BMW6462AAHEV(BMWX1)",37,2.4,88.8,null,""]
[5,"大连市","合计",null,null,788,null,5903.9348,{"$f":"SUM(I112:I119)","v":5904},null,711,711,5193]
[null,null,1,"一汽客车(大连)有限公司","小计",788,null,5903.9348,{"$f":"ROUND(H112,0)","v":5904},null,711,711,5193]
[{"$nulls":4},"CA5020XXYBEV31",518,6.18,3201.24,null,""]
[{"$nulls":4},"CA5020XXYBEV32",105,6.18,648.9,null,""]
[{"$nulls":4},"CA5040XXYBEV31",122,9.4,1146.8,null,""]
[{"$nulls":4},"CA6103URHEV31",7,8.064,56.448,null,""]
[{"$nulls":4},"CA6103URHEV32",2,8.064,16.128,null,""]
[{"$nulls":4},"CA6109URBEV34",26,29.6118,769.9068,null,""]
[{"$nulls":4},"CA6126URHEV32",8,8.064,64.512,null,""]
[6,"上海市","合计",null,null,5643,null,44439.4712,{"$f":"SUM(I121:I155)","v":44440},null,{"$f":"SUM(K121,K127,K147)","v":19039},18517,25923]
[null,null,1,"上海汽车集团股份有限公司","小计",3625,null,13345.76,{"$f":"ROUND(H121,0)","v":13346},null,13868,13346,0]
[{"$nulls":4},"CSA6454NDPHEV1",758,2.4,1819.2,null,""]
[{"$nulls":4},"CSA6456BEV1",1904,4.84,9215.36,null,""]
[{"$nulls":4},"CSA7104SDPHEV1",275,2.4,660,null,""]
[{"$nulls":4},"CSA7144CDPHEV1",149,2.4,357.6,null,""]
[{"$nulls":4},"CSA7154TDPHEV",539,2.4,1293.6,null,""]
[null,null,2,"上海申龙客车有限公司","小计",1073,null,22284.0112,{"$f":"ROUND(H127,0)","v":22284},null,5159,5159,17125]
[{"$nulls":4},"SLK5030XXYBEV3",321,6.4596,2073.5316,null,"核减32辆，原因为：不满足行驶里程数要求"]
[{"$nulls":4},"SLK5030XXYBEV3S",1,6.4596,6.4596,null,""]
[{"$nulls":4},"SLK6108AEBEVD3",67,29.268,1960.956,null,"核减3辆，原因为：不满足行驶里程数要求"]
[{"$nulls":4},"SLK6108AEBEVS",19,29.8512,567.1728,null,"核减2辆，原因为：不满足行驶里程数要求"]
[{"$nulls":4},"SLK6108ALE0BEVY1",25,29.268,731.7,null,"核减3辆，原因为：不满足行驶里程数要求"]
[{"$nulls":4},"SLK6109UDHEVL",6,15,90,null,""]
[{"$nulls":4},"SLK6109UDHEVN1",13,15,195,null,""]
[{"$nulls":4},"SLK6109UDHEVZ",47,15,705,null,""]
[{"$nulls":4},"SLK6109UEBEVN1",3,30,90,null,""]
[{"$nulls":4},"SLK6109UEBEVS",2,30,60,null,""]
[{"$nulls":4},"SLK6109ULE0BEVS5",1,29.8512,29.8512,null,""]
[{"$nulls":4},"SLK6109ULE0BEVY1",5,29.268,146.34,null,""]
[{"$nulls":4},"SLK6109UNHEVL",2,15,30,null,""]
[{"$nulls":4},"SLK6118ALD5HEVL1",8,6,48,null,""]
[{"$nulls":4},"SLK6118ALE0BEVS6",449,30,13470,null,"核减16辆，原因为：不满足行驶里程数要求"]
[{"$nulls":4},"SLK6819UEBEVJ1",42,20,840,null,""]
[{"$nulls":4},"SLK6819UEBEVN1",20,20,400,null,""]
[{"$nulls":4},"SLK6819UEBEVY1",31,20,620,null,""]
[{"$nulls":4},"SLK6859UEBEVJ3",11,20,220,null,""]
[null,null,3,"上汽大通汽车有限公司","小计",945,null,8809.7,{"$f":"ROUND(H147,0)","v":8810},null,12,12,8798]
[{"$nulls":4},"SH5040XXYA7BEV-4",109,8.4,915.6,null,""]
[{"$nulls":4},"SH5040XXYA7BEV-5",120,7.2,864,null,""]
[{"$nulls":4},"SH5041XXYA7BEV-6",302,9,2718,null,""]
[{"$nulls":4},"SH5041XXYA7BEV-7",266,9.3,2473.8,null,""]
[{"$nulls":4},"SH5041XXYA7BEV-D7",109,9.3,1013.7,null,""]
[{"$nulls":4},"SH6522C1BEV",11,3.6,39.6,null,""]
[{"$nulls":4},"SH6612A4FCEV",13,50,650,null,""]
[{"$nulls":4},"SH6632A4BEV-2",15,9,135,null,""]
[7,"江苏省","合计",null,null,{"$f":"SUM(F157,F165,F169,F179,F190,F208,F234,F238)","v":6532},null,{"$f":"SUM(H157,H165,H169,H179,H190,H208,H234,H238)","v":67068.70189999999},{"$f":"SUM(I157,I169,I179,I190,I208,I234,I238)","v":67070},null,{"$f":"SUM(K157,K165,K169,K179,K190,K208,K234,K238)","v":10202},6885,60185]
[null,null,1,"比亚迪汽车工业有限公司南京分公司","小计",432,null,12730,{"$f":"ROUND(H157,0)","v":12730},null,0,0,12730]
[{"$nulls":4},"BYD6100LGEV3",19,30,570,null,""]
[{"$nulls":4},"BYD6100LGEV6",21,30,630,null,""]
[{"$nulls":4},"BYD6110LLEV",4,30,120,null,""]
[{"$nulls":4},"BYD6120LLEV3",11,30,330,null,""]
[{"$nulls":4},"BYD6121LGEV3",1,30,30,null,""]
[{"$nulls":4},"BYD6121LGEV4",353,30,10590,null,""]
[{"$nulls":4},"BYD6810LZEV4",23,20,460,null,""]
[null,null,2,"江苏常隆客车有限公司","小计",0,null,0,{"$f":"ROUND(H165,0)","v":0},null,0,0,0]
[{"$nulls":4},"YS6100GBEVA",0,0,0,null,"核减1辆，原因为：不满足申报数量要求"]
[{"$nulls":4},"YS6100GBEVC",0,0,0,null,"核减14辆，原因为：不满足申报数量要求"]
[{"$nulls":4},"YS6860GBEVA",0,0,0,null,"核减41辆，原因为：不满足申报数量要求"]
[null,null,3,"江苏九龙汽车制造有限公司","小计",1757,null,19156.5034,{"$f":"ROUND(H169,0)","v":19157},null,1704,1704,17453]
[{"$nulls":4},"HKL5040XXYBEV1",1,6.312,6.312,null,""]
[{"$nulls":4},"HKL5040XXYBEV1",7,6.312,44.184,null,""]
[{"$nulls":4},"HKL5041XXYBEV1",1476,9.287,13707.612,null,""]
[{"$nulls":4},"HKL6800GBEV1",7,17.902,125.314,null,""]
[{"$nulls":4},"HKL6801BEV1",3,17.902,53.706,null,""]
[{"$nulls":4},"HKL6801GBEV",142,19.9065,2826.723,null,""]
[{"$nulls":4},"HKL6801GBEV2",85,19.9065,1692.0525,null,""]
[{"$nulls":4},"HKL6801GBEV3",29,19.3536,561.2544,null,""]
[{"$nulls":4},"HKL6802BEV1",7,19.9065,139.3455,null,""]
[null,null,4,"江苏陆地方舟新能源车辆股份有限公司","小计",626,null,4397.8704,{"$f":"ROUND(H179,0)","v":4398},null,1246,1246,3152]
[{"$nulls":4},"RQ5022XXYEVH9",98,7.206,706.188,null,""]
[{"$nulls":4},"RQ5022XXYEVHF",1,6.3876,6.3876,null,""]
[{"$nulls":4},"RQ5022XXYEVHF",117,7.336,858.312,null,""]
[{"$nulls":4},"RQ5022XXYEVHJ",131,7.206,943.986,null,""]
[{"$nulls":4},"RQ5026XXYEVH0",226,6.24,1410.24,null,""]
[{"$nulls":4},"RQ5026XXYEVH0",44,7.206,317.064,null,""]
[{"$nulls":4},"RQ5026XXYEVH3",0,0,0,null,"核减105辆，原因为：现场核查不通过"]
[{"$nulls":4},"RQ5026XXYEVH3",0,0,0,null,"核减24辆，原因为：现场核查不通过"]
[{"$nulls":4},"RQ6110YEVH3",1,27.2448,27.2448,null,""]
[{"$nulls":4},"RQ6830YEVH8",8,16.056,128.448,null,""]
[null,null,5,"金龙联合汽车工业(苏州)有限公司","小计",258,null,3934.5816,{"$f":"ROUND(H190,0)","v":3935},null,7252,3935,0]
[{"$nulls":4},"KLQ5022XXYEV1",40,6.126,245.04,null,""]
[{"$nulls":4},"KLQ6109EV0N",3,30,90,null,""]
[{"$nulls":4},"KLQ6109GAEVN5",2,30,60,null,""]
[{"$nulls":4},"KLQ6109GAEVW3",3,29.8512,89.5536,null,""]
[{"$nulls":4},"KLQ6109GAHEVC5K",3,15,45,null,""]
[{"$nulls":4},"KLQ6109GAHEVE5K1",9,15,135,null,""]
[{"$nulls":4},"KLQ6115HZAHEVE5A",23,14.94,343.62,null,""]
[{"$nulls":4},"KLQ6115HZEV0X3",23,29.016,667.368,null,""]
[{"$nulls":4},"KLQ6129GAEVX5",13,30,390,null,""]
[{"$nulls":4},"KLQ6129GAHEVC5K",4,15,60,null,""]
[{"$nulls":4},"KLQ6601GBEVX6",78,9,702,null,""]
[{"$nulls":4},"KLQ6800GEVN3",3,20,60,null,""]
[{"$nulls":4},"KLQ6800GEVN4",8,20,160,null,""]
[{"$nulls":4},"KLQ6802GEVN1",11,20,220,null,""]
[{"$nulls":4},"KLQ6832GEVW1",26,20,520,null,""]
[{"$nulls":4},"KLQ6850GAHEVC5K",3,9,27,null,""]
[{"$nulls":4},"KLQ6850GEVT",6,20,120,null,""]
[7,"江苏省",6,"南京金龙客车制造有限公司","小计",{"$f":"3252-426","v":2826},null,{"$f":"SUM(H209:H233)","v":17891.053799999994},{"$f":"ROUND(H208,0)","v":17891},null,0,0,17891]
[{"$nulls":4},"NJL5021XXYBEV26",1,5.3604,5.3604,null,""]
[{"$nulls":4},"NJL5031XXYBEV",2,6.4596,12.9192,null,""]
[{"$nulls":4},"NJL5031XXYBEV1",60,6.132,367.92,null,""]
[{"$nulls":4},"NJL5032XXYBEV",385,6.4596,2486.946,null,""]
[{"$nulls":4},"NJL5032XXYBEV1",1636,6.132,10031.952,null,""]
[{"$nulls":4},"NJL5032XXYBEV13",363,6.132,2225.916,null,""]
[{"$nulls":4},"NJL5032XXYBEV6",123,6.8304,840.1392,null,""]
[{"$nulls":4},"NJL5032XXYBEV8",146,6.8268,996.7128,null,""]
[{"$nulls":4},"NJL5032XYZBEV",36,6.4596,232.5456,null,""]
[{"$nulls":4},"NJL5040XXYBEV1",67,9.195,616.065,null,""]
[{"$nulls":4},"NJL5040XXYBEV22",0,0,0,null,"需进一步核实后予以清算"]
[{"$nulls":4},"NJL5040XYZBEV4",6,9.195,55.17,null,""]
[{"$nulls":4},"NJL6100BEV40",0,0,0,null,"需进一步核实后予以清算"]
[{"$nulls":4},"NJL6100BEV9",0,0,0,null,"需进一步核实后予以清算"]
[{"$nulls":4},"NJL6117BEV25",0,0,0,null,"需进一步核实后予以清算"]
[{"$nulls":4},"NJL6117BEV26",0,0,0,null,"需进一步核实后予以清算"]
[{"$nulls":4},"NJL6117BEV29",0,0,0,null,"需进一步核实后予以清算"]
[{"$nulls":4},"NJL6117BEV31",0,0,0,null,"需进一步核实后予以清算"]
[{"$nulls":4},"NJL6117BEV32",0,0,0,null,"需进一步核实后予以清算"]
[{"$nulls":4},"NJL6117BEVG1",0,0,0,null,"需进一步核实后予以清算"]
[{"$nulls":4},"NJL6806BEV12",0,0,0,null,"需进一步核实后予以清算"]
[{"$nulls":4},"NJL6806BEV18",0,0,0,null,"需进一步核实后予以清算"]
[{"$nulls":4},"NJL6809BEV11",0,0,0,null,"需进一步核实后予以清算"]
[{"$nulls":4},"NJL6810BEV20",1,19.4076,19.4076,null,""]
[{"$nulls":4},"NJL6859BEV39",0,19.386,0,null,"需进一步核实后予以清算"]
[null,null,7,"南京汽车集团有限公司","小计",444,null,4240.16,{"$f":"ROUND(H234,0)","v":4240},null,0,0,4240]
[{"$nulls":4},"NJ5047XXYCEV1",2,9.53,19.06,null,""]
[{"$nulls":4},"NJ5057XXYCEV3",272,9.25,2516,null,""]
[{"$nulls":4},"NJ5057XXYCEV7",170,10.03,1705.1,null,""]
[null,null,8,"扬州亚星客车股份有限公司","小计",189,null,4718.5327,{"$f":"ROUND(H238,0)","v":4719},null,0,0,4719]
[{"$nulls":4},"JS6101GHBEV18",2,30,60,null,""]
[{"$nulls":4},"JS6101GHBEV26",2,30,60,null,""]
[{"$nulls":4},"JS6108GHBEV10",4,30,120,null,""]
[{"$nulls":4},"JS6108GHBEV11",48,30,1440,null,""]
[{"$nulls":4},"JS6108GHBEV12",11,29.8512,328.3632,null,""]
[{"$nulls":4},"JS6108GHEV16",27,15,405,null,""]
[{"$nulls":4},"JS6108GHEV17",1,15,15,null,""]
[{"$nulls":4},"JS6108GHEVC17",1,15,15,null,""]
[{"$nulls":4},"JS6128GHBEV11",2,30,60,null,""]
[{"$nulls":4},"JS6128GHBEV15",6,30,180,null,""]
[{"$nulls":4},"JS6128GHEV12",2,15,30,null,""]
[{"$nulls":4},"JS6128GHEVC12",9,15,135,null,""]
[{"$nulls":4},"JS6818GHBEV12",3,19.9065,59.7195,null,""]
[{"$nulls":4},"JS6818GHBEV9",12,20,240,null,""]
[{"$nulls":4},"JS6851GHBEV11",5,18.09,90.45,null,""]
[{"$nulls":4},"JS6851GHBEV8",14,20,280,null,""]
[{"$nulls":4},"YBL6117HBEV17",40,30,1200,null,""]
[8,"浙江省","合计",null,null,1919,null,8835.24,{"$f":"SUM(I257:I270)","v":8835},null,59147,8835,0]
[null,null,1,"浙江豪情汽车制造有限公司","小计",1919,null,8835.24,{"$f":"ROUND(H257,0)","v":8835},null,59147,8835,0]
[{"$nulls":4},"HQ7002BEV04",570,4.4,2508,null,""]
[{"$nulls":4},"HQ7002BEV08",1182,4.84,5720.88,null,""]
[{"$nulls":4},"JL7001BEV33",3,3.6,10.8,null,""]
[{"$nulls":4},"JL7001BEV34",14,3.6,50.4,null,""]
[{"$nulls":4},"JL7001BEV35",23,3.6,82.8,null,""]
[{"$nulls":4},"JL7001BEV36",17,3.6,61.2,null,""]
[{"$nulls":4},"JL7001BEV38",18,3.6,64.8,null,""]
[{"$nulls":4},"JL7001BEV45",69,3.6,248.4,null,""]
[{"$nulls":4},"JL7001BEV46",7,3.6,25.2,null,""]
[{"$nulls":4},"JL7001BEV47",8,3.6,28.8,null,""]
[{"$nulls":4},"JL7001BEV48",1,3.6,3.6,null,""]
[{"$nulls":4},"JL7001BEV57",4,3.96,15.84,null,""]
[{"$nulls":4},"JL7001BEV58",3,4.84,14.52,null,""]
[9,"宁波市","合计",null,null,4534,null,17364.64,{"$f":"SUM(I272:I286)","v":17365},null,0,0,17365]
[null,null,1,"浙江吉利汽车有限公司","小计",4534,null,17364.64,{"$f":"ROUND(H272,0)","v":17365},null,0,0,17365]
[{"$nulls":4},"MR7002BEV03",410,4.4,1804,null,""]
[{"$nulls":4},"MR7152PHEV01",179,2.4,429.6,null,""]
[{"$nulls":4},"SMA7000BEV05",1776,3.96,7032.96,null,"核减2辆，原因为：未按有关要求上传运行数据"]
[{"$nulls":4},"SMA7000BEV06",276,3.96,1092.96,null,""]
[{"$nulls":4},"SMA7001BEV23",93,3.6,334.8,null,""]
[{"$nulls":4},"SMA7001BEV25",1229,3.6,4424.4,null,""]
[{"$nulls":4},"SMA7001BEV25",506,3.96,2003.76,null,""]
[{"$nulls":4},"SMA7001BEV40",1,3.96,3.96,null,""]
[{"$nulls":4},"SMA7001BEV61",3,3.6,10.8,null,""]
[{"$nulls":4},"SMA7001BEV66",38,3.6,136.8,null,""]
[{"$nulls":4},"SMA7001BEV72",1,3.6,3.6,null,""]
[{"$nulls":4},"SMA7001BEV73",15,3.6,54,null,""]
[{"$nulls":4},"SMA7001BEV75",6,4.84,29.04,null,""]
[{"$nulls":4},"SMA7001BEV76",1,3.96,3.96,null,""]
[10,"安徽省","合计",null,null,11127,null,57250.7788,{"$f":"SUM(I288,I312,I323)","v":57252},null,{"$f":"SUM(K288,K312,K323)","v":13706},{"$f":"SUM(L288,L312,L323)","v":13706},{"$f":"SUM(M288,M312,M323)","v":43546}]
[null,null,1,"安徽安凯汽车股份有限公司","小计",570,null,12865.6308,{"$f":"ROUND(H288,0)","v":12866},null,8399,8399,{"$f":"I288-L288","v":4467}]
[{"$nulls":4},"HFF6100G03CHEV12",1,15,15,null,""]
[{"$nulls":4},"HFF6100G03CHEV13",22,15,330,null,""]
[{"$nulls":4},"HFF6100G03CHEV22",3,15,45,null,""]
[{"$nulls":4},"HFF6100G03CHEV24",3,15,45,null,""]
[{"$nulls":4},"HFF6100G03EV-6",12,30,360,null,""]
[{"$nulls":4},"HFF6100G03EV-61",34,30,1020,null,""]
[{"$nulls":4},"HFF6103G03CHEV-1",10,6.24,62.4,null,""]
[{"$nulls":4},"HFF6103G03CHEV-2",2,7.8,15.6,null,""]
[{"$nulls":4},"HFF6104G03EV6",4,30,120,null,""]
[{"$nulls":4},"HFF6109G03EV",1,27.8784,27.8784,null,""]
[{"$nulls":4},"HFF6109G03EV1",2,30,60,null,""]
[{"$nulls":4},"HFF6109G03EV3",16,29.0304,464.4864,null,""]
[{"$nulls":4},"HFF6109G03EV4",16,30,480,null,""]
[{"$nulls":4},"HFF6109K10EV31",2,30,60,null,""]
[{"$nulls":4},"HFF6111K10EV21",20,29.0304,580.608,null,""]
[{"$nulls":4},"HFF6122G03CHEV2",1,15,15,null,""]
[{"$nulls":4},"HFF6123G03CHEV-2",79,7.8,616.2,null,""]
[{"$nulls":4},"HFF6129G03EV-45",174,30,5220,null,""]
[{"$nulls":4},"HFF6800G03EV73",13,20,260,null,""]
[{"$nulls":4},"HFF6800G03EV8",98,19.9065,1950.837,null,""]
[{"$nulls":4},"HFF6800GEVB3",1,13.7635,13.7635,null,""]
[{"$nulls":4},"HFF6803KEVB",55,19.9065,1094.8575,null,""]
[{"$nulls":4},"HFF6850G03CHEV1",1,9,9,null,""]
[null,null,2,"安徽江淮汽车集团股份有限公司","小计",3357,null,13177.5017,{"$f":"ROUND(H312,0)","v":13178},null,0,0,13178]
[{"$nulls":4},"HFC5031XXYPV4EV5B3",209,6.0321,1260.7089,null,""]
[{"$nulls":4},"HFC5041XXYP73EV1C5",60,10.1944,611.664,null,""]
[{"$nulls":4},"HFC5049XXYEV1H",26,10.1944,265.0544,null,""]
[{"$nulls":4},"HFC5061XXYP73EV3C5",1,10.1944,10.1944,null,""]
[{"$nulls":4},"HFC7000AEV",8,3.6,28.8,null,""]
[{"$nulls":4},"HFC7000BEV",2,4.4,8.8,null,""]
[{"$nulls":4},"HFC7000W3EV",1953,3.6,7030.8,null,""]
[{"$nulls":4},"HFC7000WEV",1029,3.6,3704.4,null,""]
[{"$nulls":4},"HFC7001A1EV",62,3.6,223.2,null,""]
[{"$nulls":4},"HFC7001EAEV2",7,4.84,33.88,null,""]
[null,null,3,"奇瑞汽车股份有限公司","小计",7200,null,31207.6463,{"$f":"ROUND(H323,0)","v":31208},null,5307,5307,25901]
[{"$nulls":4},"SQR5023XXYBEVK06",2074,4.992,10353.408,null,""]
[{"$nulls":4},"SQR5024XXYBEVK06",653,5.7211,3735.8783,null,""]
[{"$nulls":4},"SQR6440BEVK08",60,4.84,290.4,null,""]
[{"$nulls":4},"SQR7000BEVJ00",853,3.6,3070.8,null,""]
[{"$nulls":4},"SQR7000BEVJ601",759,4.84,3673.56,null,""]
[{"$nulls":4},"SQR7000BEVJ72",2801,3.6,10083.6,null,""]
[11,"福建省","合计",null,null,1669,null,8769.456,{"$f":"SUM(I331:I336)","v":8769},null,0,0,8769]
[null,null,1,"福建新龙马汽车股份有限公司","小计",1669,null,8769.456,{"$f":"ROUND(H331,0)","v":8769},null,0,0,8769]
[{"$nulls":4},"FJ5020XXYBEVA12",665,5.256,3495.24,null,""]
[{"$nulls":4},"FJ5020XXYBEVA15",3,5.376,16.128,null,""]
[{"$nulls":4},"FJ5020XXYBEVA19",2,5.412,10.824,null,""]
[{"$nulls":4},"FJ5020XXYBEVA5",514,5.136,2639.904,null,""]
[{"$nulls":4},"FJ5020XXYBEVA6",485,5.376,2607.36,null,"核减1辆，原因为：未按有关要求上传运行数据"]
[12,"厦门市","合计",null,null,840,null,11274.603,{"$f":"SUM(I338:I399)","v":11274},null,{"$f":"SUM(K338,K363)","v":561},561,10713]
[null,null,1,"厦门金龙联合汽车工业有限公司","小计",429,null,5380.313,{"$f":"ROUND(H338,0)","v":5380},null,561,561,4819]
[{"$nulls":4},"XMQ5030XXYBEVS09",230,6.78,1559.4,null,""]
[{"$nulls":4},"XMQ6106AGBEVL6",1,30,30,null,""]
[{"$nulls":4},"XMQ6106AGBEVL8",4,30,120,null,""]
[{"$nulls":4},"XMQ6106AGBEVM1",1,30,30,null,""]
[{"$nulls":4},"XMQ6106AGCHEVD57",1,15,15,null,""]
[{"$nulls":4},"XMQ6106AGCHEVN512",1,15,15,null,""]
[{"$nulls":4},"XMQ6106AGCHEVN58",1,8.064,8.064,null,""]
[{"$nulls":4},"XMQ6106AGPHEVN51",1,14.859,14.859,null,""]
[{"$nulls":4},"XMQ6110BCBEVL8",5,29.8598,149.299,null,""]
[{"$nulls":4},"XMQ6110BCBEVL9",3,30,90,null,""]
[{"$nulls":4},"XMQ6110BGPHEVD51",1,14.859,14.859,null,""]
[{"$nulls":4},"XMQ6127AGBEVL3",1,30,30,null,""]
[{"$nulls":4},"XMQ6127BYBEVL",1,30,30,null,""]
[{"$nulls":4},"XMQ6706BYBEVL2",22,9,198,null,""]
[{"$nulls":4},"XMQ6802AGBEVL2",31,20,620,null,""]
[{"$nulls":4},"XMQ6802AGBEVL4",30,20,600,null,""]
[{"$nulls":4},"XMQ6802AGBEVL5",24,20,480,null,""]
[{"$nulls":4},"XMQ6806BYBEVL",30,20,600,null,""]
[{"$nulls":4},"XMQ6850AGBEVL4",28,20,560,null,""]
[{"$nulls":4},"XMQ6850AGBEVL8",8,20,160,null,""]
[{"$nulls":4},"XMQ6850AGCHEVD53",1,9,9,null,""]
[{"$nulls":4},"XMQ6850AGCHEVD54",1,9,9,null,""]
[{"$nulls":4},"XMQ6850AGPHEVN52",2,8.916,17.832,null,""]
[{"$nulls":4},"XMQ6850BGBEVM1",1,20,20,null,""]
[null,null,2,"厦门金龙旅行车有限公司","小计",411,null,5894.29,{"$f":"ROUND(H363,0)","v":5894},null,0,0,5894]
[{"$nulls":4},"XML5036XXYEVD0",3,6.42,19.26,null,""]
[{"$nulls":4},"XML5036XXYEVH0",11,7.22,79.42,null,""]
[{"$nulls":4},"XML5036XXYEVK0",1,6.42,6.42,null,""]
[{"$nulls":4},"XML5036XXYEVL0",38,6.72,255.36,null,""]
[{"$nulls":4},"XML5036XXYEVN0",1,9.196,9.196,null,""]
[{"$nulls":4},"XML5036XXYEVW0",148,7.22,1068.56,null,""]
[{"$nulls":4},"XML6102JEVD0",18,30,540,null,""]
[{"$nulls":4},"XML6102JEVL0",3,30,90,null,""]
[{"$nulls":4},"XML6102JEVW0",2,30,60,null,""]
[{"$nulls":4},"XML6102JEVW01",2,30,60,null,""]
[{"$nulls":4},"XML6102JEVW0C",12,30,360,null,""]
[{"$nulls":4},"XML6105JEVD0C1",17,30,510,null,""]
[{"$nulls":4},"XML6105JEVN0C",1,30,30,null,""]
[{"$nulls":4},"XML6105JEVW0C1",1,30,30,null,""]
[{"$nulls":4},"XML6105JEVW0C6",1,30,30,null,""]
[{"$nulls":4},"XML6105JHEVG5C6",25,15,375,null,""]
[{"$nulls":4},"XML6105JHEVG5CN1",3,7.8,23.4,null,""]
[{"$nulls":4},"XML6105JHEVG5CN6",1,12.789,12.789,null,""]
[{"$nulls":4},"XML6105JHEVL5C",1,15,15,null,""]
[{"$nulls":4},"XML6112JEVA0",2,30,60,null,""]
[{"$nulls":4},"XML6122JEVD0C",2,30,60,null,""]
[{"$nulls":4},"XML6125JHEVG5CN1",5,7.8,39,null,""]
[{"$nulls":4},"XML6125JHEVW5C",3,14.307,42.921,null,""]
[{"$nulls":4},"XML6700JEVD0C",3,9,27,null,""]
[{"$nulls":4},"XML6805JEVD0C",3,20,60,null,""]
[{"$nulls":4},"XML6805JEVL0C",2,20,40,null,""]
[{"$nulls":4},"XML6805JEVN0C",6,20,120,null,""]
[{"$nulls":4},"XML6809JEVD0",23,20,460,null,""]
[{"$nulls":4},"XML6809JEVD0C",3,20,60,null,""]
[{"$nulls":4},"XML6809JEVW0C",6,20,120,null,""]
[12,"厦门市",2,"厦门金龙旅行车有限公司","XML6855JEVD0C",12,20,240,null,""]
[{"$nulls":4},"XML6855JEVW0C",46,20,920,null,""]
[{"$nulls":4},"XML6855JEVW0C1",2,12,24,null,""]
[{"$nulls":4},"XML6855JEVW0C2",1,20,20,null,""]
[{"$nulls":4},"XML6855JHEVC5C",2,9,18,null,""]
[{"$nulls":4},"XML6855JHEVL5C",1,8.964,8.964,null,""]
[13,"江西省","合计",null,null,0,0,0,{"$f":"SUM(I401:I424)","v":0},null,{"$f":"SUM(K401,K408,K417,K423)","v":6553},0,0]
[null,null,1,"江铃控股有限公司","小计",0,null,0,{"$f":"ROUND(H401,0)","v":0},null,835,0,0]
[{"$nulls":4},"JX70016BEV",0,0,0,null,"核减5辆，原因为：不满足申报数量要求"]
[{"$nulls":4},"JX70020BEV",0,0,0,null,"核减3辆，原因为：不满足申报数量要求"]
[{"$nulls":4},"JX70021BEV",0,0,0,null,"核减6辆，原因为：不满足申报数量要求"]
[{"$nulls":4},"JX7005BEV",0,0,0,null,"核减17辆，原因为：不满足申报数量要求"]
[{"$nulls":4},"JX7006BEV",0,0,0,null,"核减22辆，原因为：不满足申报数量要求"]
[{"$nulls":4},"JX7009BEV",0,0,0,null,"核减27辆，原因为：不满足申报数量要求"]
[null,null,2,"江西昌河汽车有限责任公司","小计",0,null,0,{"$f":"ROUND(H408,0)","v":0},null,5410,0,0]
[{"$nulls":4},"CH5015XXYBEVA2CC",0,0,0,null,"核减7辆，原因为：不满足申报数量要求"]
[{"$nulls":4},"CH5015XXYBEVA2CD",0,0,0,null,"核减41辆，原因为：不满足申报数量要求"]
[{"$nulls":4},"CH5025XXYBEVC3CA",0,0,0,null,"核减4辆，原因为：不满足申报数量要求"]
[{"$nulls":4},"CH5025XXYBEVC3CB",0,0,0,null,"核减2辆，原因为：不满足申报数量要求"]
[{"$nulls":4},"CH7005BEVA2CB",0,0,0,null,"核减34辆，原因为：不满足申报数量要求"]
[{"$nulls":4},"CH7005BEVA2CC",0,0,0,null,"核减398辆，原因为：不满足申报数量要求"]
[null,null,2,"江西昌河汽车有限责任公司","CH7005BEVC3CA",0,0,0,null,"核减1160辆，原因为：不满足申报数量要求"]
[{"$nulls":4},"CH7005BEVC3CB",0,0,0,null,"核减408辆，原因为：不满足申报数量要求"]
[null,null,3,"江西江铃集团晶马汽车有限公司","小计",0,null,0,{"$f":"ROUND(H417,0)","v":0},null,242,0,0]
[{"$nulls":4},"JMV6105GRBEV3",0,0,0,null,"核减2辆，原因为：不满足申报数量要求"]
[{"$nulls":4},"JMV6800GRBEV1",0,0,0,null,"核减11辆，原因为：不满足申报数量要求"]
[{"$nulls":4},"JMV6820BEV3",0,0,0,null,"核减3辆，原因为：不满足申报数量要求"]
[{"$nulls":4},"JMV6820BEV5",0,0,0,null,"核减3辆，原因为：不满足申报数量要求"]
[{"$nulls":4},"JMV6820GRBEV3",0,0,0,null,"核减2辆，原因为：不满足申报数量要求"]
[null,null,4,"江西江铃汽车集团改装车股份有限公司","小计",0,null,0,{"$f":"ROUND(H423,0)","v":0},null,66,0,0]
[{"$nulls":4},"JX5045XXYMBEV",0,0,0,null,"核减13辆，原因为：不满足申报数量要求"]
[14,"山东省","合计",null,null,4491,null,66834.5333,{"$f":"SUM(I426,I431,I440,I446)","v":66835},null,{"$f":"SUM(K426,K431,K440,K446)","v":47},47,66788]
[null,null,1,"山东蓝诺汽车有限公司","小计",355,null,1969.668,{"$f":"ROUND(H426,0)","v":1970},null,47,47,1923]
[{"$nulls":4},"KRD5022CCYBEV",11,4.716,51.876,null,"核减8辆，原因为：不满足行驶里程数要求"]
[{"$nulls":4},"KRD5022CCYBEV02",7,5.628,39.396,null,"核减6辆，原因为：不满足行驶里程数要求"]
[{"$nulls":4},"KRD5022XXYBEV",20,4.716,94.32,null,"核减28辆，原因为：不满足行驶里程数要求"]
[{"$nulls":4},"KRD5022XXYBEV02",317,5.628,1784.076,null,"核减228辆，原因为：不满足行驶里程数要求,部分车辆重复申报"]
[null,null,2,"烟台舒驰客车有限责任公司","小计",1507,null,22736.742,{"$f":"ROUND(H431,0)","v":22737},null,0,0,22737]
[{"$nulls":4},"YTK5040XXYEV2",1050,9.4,9870,null,""]
[{"$nulls":4},"YTK5040XXYEV3",2,9.384,18.768,null,""]
[{"$nulls":4},"YTK6101GEV3",1,30,30,null,""]
[{"$nulls":4},"YTK6118EV9",377,29.862,11257.974,null,""]
[{"$nulls":4},"YTK6128GEV2",1,30,30,null,""]
[{"$nulls":4},"YTK6128GEV3",1,30,30,null,""]
[{"$nulls":4},"YTK6830GEV3",57,20,1140,null,""]
[{"$nulls":4},"YTK6830GEV5",18,20,360,null,""]
[14,"山东省",3,"中国重汽集团济南豪沃客车有限公司","小计",679,null,12024.213,{"$f":"ROUND(H440,0)","v":12024},null,0,0,12024]
[{"$nulls":4},"JK6106GBEV4",89,29.862,2657.718,null,""]
[{"$nulls":4},"JK6106GPHEVN5",17,12.432,211.344,null,""]
[{"$nulls":4},"JK6116HBEVQA10",3,30,90,null,""]
[{"$nulls":4},"JK6126GPHEVN5Q2",465,15,6975,null,""]
[{"$nulls":4},"JK6806GBEV4",105,19.9062,2090.151,null,""]
[null,null,4,"中通客车控股股份有限公司","小计",1950,null,30103.9103,{"$f":"ROUND(H446,0)","v":30104},null,0,0,30104]
[{"$nulls":4},"LCK5023XXYEV5",3,4.3545,13.0635,null,""]
[{"$nulls":4},"LCK5026XXYBEV1",173,6.234,1078.482,null,""]
[{"$nulls":4},"LCK5047XXYEV7",9,9.334,84.006,null,""]
[{"$nulls":4},"LCK5049XXYEVH3",616,6.42,3954.72,null,""]
[{"$nulls":4},"LCK5080XDYEV",29,9.587,278.023,null,""]
[{"$nulls":4},"LCK6107PHEVCNG2",10,15,150,null,""]
[{"$nulls":4},"LCK6107PHEVG3",1,15,15,null,""]
[{"$nulls":4},"LCK6107PHEVNC",6,7.659,45.954,null,""]
[{"$nulls":4},"LCK6107PHEVNG2",3,15,45,null,""]
[{"$nulls":4},"LCK6108EVG12",1,30,30,null,""]
[{"$nulls":4},"LCK6108EVG33",4,29.8512,119.4048,null,""]
[{"$nulls":4},"LCK6108EVG8",4,30,120,null,""]
[{"$nulls":4},"LCK6108EVG9",50,30,1500,null,""]
[{"$nulls":4},"LCK6108EVGD",64,30,1920,null,""]
[{"$nulls":4},"LCK6108EVGK",27,30,810,null,""]
[{"$nulls":4},"LCK6108EVGL1",33,30,990,null,""]
[{"$nulls":4},"LCK6108EVGM1",71,30,2130,null,""]
[{"$nulls":4},"LCK6108EVK",38,30,1140,null,""]
[{"$nulls":4},"LCK6117EVG8",3,30,90,null,""]
[{"$nulls":4},"LCK6117EVL",18,30,540,null,""]
[{"$nulls":4},"LCK6119PHEVG",21,7.458,156.618,null,""]
[{"$nulls":4},"LCK6122EVG12",7,30,210,null,""]
[{"$nulls":4},"LCK6122EVG6",23,30,690,null,""]
[{"$nulls":4},"LCK6126PHENV",4,7.458,29.832,null,""]
[{"$nulls":4},"LCK6127PHEVG5",1,14.838,14.838,null,""]
[{"$nulls":4},"LCK6127PHEVNC",1,7.659,7.659,null,""]
[{"$nulls":4},"LCK6607DEVQG",3,9,27,null,""]
[{"$nulls":4},"LCK6721EVGA",48,9,432,null,""]
[{"$nulls":4},"LCK6808EVQA",2,20,40,null,""]
[{"$nulls":4},"LCK6808EVQGA",11,20,220,null,""]
[{"$nulls":4},"LCK6809EVGK",125,20,2500,null,""]
[{"$nulls":4},"LCK6809EVGL",15,20,300,null,""]
[{"$nulls":4},"LCK6809EVGM",17,20,340,null,""]
[{"$nulls":4},"LCK6809EVGM1",58,20,1160,null,""]
[{"$nulls":4},"LCK6809EVGM2",4,20,80,null,""]
[{"$nulls":4},"LCK6809EVGM4",98,20,1960,null,""]
[{"$nulls":4},"LCK6809EVGT",36,20,720,null,""]
[{"$nulls":4},"LCK6809EVGT1",19,20,380,null,""]
[{"$nulls":4},"LCK6809EVGW",152,20,3040,null,""]
[{"$nulls":4},"LCK6809EVGW1",21,20,420,null,""]
[{"$nulls":4},"LCK6811EVGA",9,20,180,null,""]
[{"$nulls":4},"LCK6811EVGC",3,20,60,null,""]
[{"$nulls":4},"LCK6812EVGA",26,19.89,517.14,null,""]
[{"$nulls":4},"LCK6813EVGA",35,19.89,696.15,null,""]
[{"$nulls":4},"LCK6813EVGB",8,20,160,null,""]
[{"$nulls":4},"LCK6840EVG",32,20,640,null,""]
[{"$nulls":4},"LCK6850PHEV5QG",3,5.595,16.785,null,""]
[{"$nulls":4},"LCK6850PHEV5QNG",1,5.595,5.595,null,""]
[{"$nulls":4},"LCK6850PHEVG4",3,8.88,26.64,null,""]
[{"$nulls":4},"LCK6860EVGW",1,20,20,null,""]
[15,"青岛市","合计",null,null,381,null,3944.582,{"$f":"SUM(I498:I502)","v":3945},null,254,254,3691]
[null,null,1,"一汽解放青岛汽车有限公司","小计",381,null,3944.582,{"$f":"ROUND(H498,0)","v":3945},null,254,254,3691]
[{"$nulls":4},"CA5041XXYP40L1BEVA84",12,9.4,112.8,null,""]
[{"$nulls":4},"CA5045XXYP40L1BEVA84",2,9.35,18.7,null,""]
[{"$nulls":4},"CA5046XXYP40L1BEVA84",226,11.116,2512.216,null,""]
[{"$nulls":4},"CA5048XXYP40L1BEVA84",141,9.226,1300.866,null,""]
[16,"河南省","合计",null,null,1465,null,28924.007,{"$f":"SUM(I504,I508)","v":28924},null,{"$f":"SUM(K504,K508)","v":29240},26442,2482]
[null,null,1,"海马汽车有限公司","小计",312,null,1230.48,{"$f":"ROUND(H504,0)","v":1230},null,4028,1230,0]
[{"$nulls":4},"HMA7002S30BEV",14,3.6,50.4,null,""]
[{"$nulls":4},"HMA7003S10BEV",127,3.96,502.92,null,""]
[{"$nulls":4},"HMA7003S13BEV",171,3.96,677.16,null,""]
[null,null,2,"郑州宇通客车股份有限公司","小计",1153,null,27693.527,{"$f":"ROUND(H508,0)","v":27694},null,25212,25212,2482]
[{"$nulls":4},"ZK6105BEVG15",1,20,20,null,""]
[{"$nulls":4},"ZK6105BEVG16",1,20,20,null,""]
[{"$nulls":4},"ZK6105BEVG19A",7,30,210,null,""]
[{"$nulls":4},"ZK6105BEVG21",21,30,630,null,""]
[{"$nulls":4},"ZK6105BEVG23",27,30,810,null,""]
[{"$nulls":4},"ZK6105BEVG25",4,30,120,null,""]
[{"$nulls":4},"ZK6105CHEVNPG21",1,7.659,7.659,null,""]
[{"$nulls":4},"ZK6105CHEVNPG35",3,12.501,37.503,null,""]
[{"$nulls":4},"ZK6105CHEVNPG35C",3,15,45,null,""]
[{"$nulls":4},"ZK6105CHEVPG29",2,15,30,null,""]
[{"$nulls":4},"ZK6105CHEVPG41",1,7.659,7.659,null,""]
[{"$nulls":4},"ZK6115BEV5Y",6,26.541,159.246,null,""]
[{"$nulls":4},"ZK6115BEVG5",1,30,30,null,""]
[{"$nulls":4},"ZK6115BEVG52",6,30,180,null,""]
[{"$nulls":4},"ZK6115BEVG53",1,30,30,null,""]
[{"$nulls":4},"ZK6115BEVY51",234,30,7020,null,""]
[{"$nulls":4},"ZK6115BEVY52",106,30,3180,null,""]
[{"$nulls":4},"ZK6115BEVY53",3,30,90,null,""]
[{"$nulls":4},"ZK6115BEVZ51",124,30,3720,null,""]
[{"$nulls":4},"ZK6115BEVZ52",1,30,30,null,""]
[{"$nulls":4},"ZK6119BEVQY52",1,30,30,null,""]
[{"$nulls":4},"ZK6119BEVQZ51",38,30,1140,null,""]
[{"$nulls":4},"ZK6125BEVG21",1,30,30,null,""]
[{"$nulls":4},"ZK6125BEVG27",5,30,150,null,""]
[{"$nulls":4},"ZK6125CHEVNPG26",1,9.864,9.864,null,""]
[{"$nulls":4},"ZK6125CHEVNPG29",1,15,15,null,""]
[{"$nulls":4},"ZK6125CHEVPG29",1,15,15,null,""]
[{"$nulls":4},"ZK6125FCEVG3",1,50,50,null,""]
[{"$nulls":4},"ZK6650BEVG11",1,9,9,null,""]
[{"$nulls":4},"ZK6650BEVG13",21,9,189,null,""]
[{"$nulls":4},"ZK6650BEVG16",8,9,72,null,""]
[{"$nulls":4},"ZK6650BEVG6",3,9,27,null,""]
[{"$nulls":4},"ZK6650BEVG7",2,9,18,null,""]
[{"$nulls":4},"ZK6701BEVQ5",48,9,432,null,""]
[{"$nulls":4},"ZK6805BEVG11",229,20,4580,null,""]
[{"$nulls":4},"ZK6805BEVG12",92,20,1840,null,""]
[{"$nulls":4},"ZK6805BEVG13",19,20,380,null,""]
[{"$nulls":4},"ZK6805BEVG15",6,20,120,null,""]
[{"$nulls":4},"ZK6805BEVG17",1,20,20,null,""]
[{"$nulls":4},"ZK6805BEVG21A",1,20,20,null,""]
[{"$nulls":4},"ZK6808BEVQ5",1,20,20,null,""]
[{"$nulls":4},"ZK6808BEVQZ51",2,20,40,null,""]
[{"$nulls":4},"ZK6808BEVQZ52",74,20,1480,null,""]
[{"$nulls":4},"ZK6808BEVQZ53",1,20,20,null,""]
[{"$nulls":4},"ZK6826BEVQG50",1,20,20,null,""]
[16,"河南省",2,"郑州宇通客车股份有限公司","ZK6845BEVG6A",3,20,60,null,""]
[{"$nulls":4},"ZK6845BEVG7",1,20,20,null,""]
[{"$nulls":4},"ZK6850BEVG19A",15,20,300,null,""]
[{"$nulls":4},"ZK6850CHEVNPG26",17,8.388,142.596,null,""]
[{"$nulls":4},"ZK6850CHEVPG35",3,9,27,null,""]
[{"$nulls":4},"ZK6935BEVG2",2,20,40,null,""]
[17,"湖北省","合计",null,null,16594,null,151422.4468,{"$f":"SUM(I561,I566,I569,I642)","v":151423},null,{"$f":"SUM(K561,K566,K569,K642)","v":9608},5354,146069]
[null,null,1,"东风汽车公司","小计",359,null,2851.7626,{"$f":"ROUND(H561,0)","v":2852},null,12,12,2840]
[{"$nulls":4},"EQ5026XXYTBEV",127,5.6268,714.6036,null,""]
[{"$nulls":4},"EQ5026XXYTBEV1",15,6.0148,90.222,null,""]
[{"$nulls":4},"EQ5027XXYTBEV",162,7.8185,1266.597,null,""]
[{"$nulls":4},"EQ5040XXYTBEV1",55,14.188,780.34,null,""]
[null,null,2,"东风汽车股份有限公司","小计",274,null,3116.112,{"$f":"ROUND(H566,0)","v":3116},null,7370,3116,0]
[{"$nulls":4},"DFA5040XXYBEV",2,15,30,null,""]
[{"$nulls":4},"DFA5040XXYKBEV",272,11.346,3086.112,null,""]
[null,null,3,"东风汽车集团有限公司","小计",14567,null,134840.8724,{"$f":"ROUND(H569,0)","v":134841},null,0,0,134841]
[{"$nulls":4},"DFA7000F1A1BEV",1,3.96,3.96,null,""]
[{"$nulls":4},"DFA7000G1F1BEV",27,4.84,130.68,null,""]
[{"$nulls":4},"DFA7000G1F2BEV",17,4.84,82.28,null,""]
[{"$nulls":4},"DFA7000G1F3BEV",102,4.84,493.68,null,""]
[{"$nulls":4},"DFA7000G1F4BEV",94,4.84,454.96,null,""]
[{"$nulls":4},"DFA7000L2ABEV",2242,4.84,10851.28,null,""]
[{"$nulls":4},"DFA7000L2ABEV1",73,4.4,321.2,null,""]
[{"$nulls":4},"DFA7000L2ABEV3",1,3.96,3.96,null,""]
[{"$nulls":4},"DFM7000G1BBEV",2,4.84,9.68,null,""]
[{"$nulls":4},"DFM7000G1F2BEV",4,4.84,19.36,null,""]
[{"$nulls":4},"DFM7000G1F3BEV",288,4.84,1393.92,null,""]
[{"$nulls":4},"DFM7000H2ABEV1",1,3.6,3.6,null,"核减6辆，原因为：不满足行驶里程数要求"]
[{"$nulls":4},"EQ5020XXYLBEV1",691,5.736,3963.576,null,"核减7辆，原因为：未按有关要求上传运行数据"]
[{"$nulls":4},"EQ5020XXYLBEV1",147,5.772,848.484,null,""]
[{"$nulls":4},"EQ5020XXYSZBEV",0,0,0,null,"核减5辆，原因为：不满足行驶证时间要求"]
[{"$nulls":4},"EQ5020XXYSZBEV",296,5.484,1623.264,null,"核减5辆，原因为：不满足行驶证时间要求"]
[{"$nulls":4},"EQ5020XXYSZBEV1",0,0,0,null,"核减3辆，原因为：不满足行驶证时间要求"]
[{"$nulls":4},"EQ5020XXYSZBEV1",70,5.484,383.88,null,""]
[{"$nulls":4},"EQ5020XXYTBEV2",117,5.1,596.7,null,""]
[{"$nulls":4},"EQ5022XXYTBEV1",804,6.18,4968.72,null,""]
[{"$nulls":4},"EQ5023XXYACBEV1",1027,6.0264,6189.1128,null,""]
[{"$nulls":4},"EQ5023XXYACBEV5",21,5.8764,123.4044,null,""]
[{"$nulls":4},"EQ5023XXYACBEV6",92,6.0864,559.9488,null,""]
[{"$nulls":4},"EQ5023XXYACBEV7",1,5.772,5.772,null,""]
[{"$nulls":4},"EQ5023XXYTBEV5",23,4.146,95.358,null,""]
[{"$nulls":4},"EQ5025XXYACBEV",184,4.14,761.76,null,""]
[{"$nulls":4},"EQ5025XXYACBEV1",40,4.383,175.32,null,""]
[{"$nulls":4},"EQ5031TSLACBEV",3,6.8352,20.5056,null,""]
[{"$nulls":4},"EQ5031XDWTBEV",3,7.8211,23.4633,null,""]
[{"$nulls":4},"EQ5032XXYACBEV1",93,7.65,711.45,null,""]
[{"$nulls":4},"EQ5040XXYACBEV10",93,10.21,949.53,null,""]
[{"$nulls":4},"EQ5040XXYACBEV11",1558,9.96,15517.68,null,""]
[{"$nulls":4},"EQ5040XXYACBEV12",25,10.26,256.5,null,""]
[{"$nulls":4},"EQ5040XXYACBEV7",496,11.88,5892.48,null,""]
[{"$nulls":4},"EQ5040XXYACBEV8",379,10.21,3869.59,null,""]
[{"$nulls":4},"EQ5040XXYSZBEV",6,9.64,57.84,null,""]
[{"$nulls":4},"EQ5041XDWACBEV",2,9.94,19.88,null,""]
[{"$nulls":4},"EQ5041XXYACBEV13",77,9.94,765.38,null,""]
[{"$nulls":4},"EQ5041XXYACBEV14",50,9.25,462.5,null,""]
[{"$nulls":4},"EQ5041XXYACBEV4",11,13.986,153.846,null,""]
[{"$nulls":4},"EQ5041XXYACBEV5",119,13.986,1664.334,null,""]
[{"$nulls":4},"EQ5041XXYACBEV6",4,9.226,36.904,null,""]
[{"$nulls":4},"EQ5041XXYACBEV9",418,9.94,4154.92,null,""]
[{"$nulls":4},"EQ5042XXYACBEV1",104,9.4,977.6,null,""]
[{"$nulls":4},"EQ5044XXYACBEV",8,9.4,75.2,null,""]
[17,"湖北省",3,"东风汽车集团有限公司","EQ5044XXYTBEV2",431,6.42,2767.02,null,"核减14辆，原因为：未按有关要求上传运行数据"]
[{"$nulls":4},"EQ5045XLCTBEV",196,11.24,2203.04,null,""]
[{"$nulls":4},"EQ5045XLCTBEV2",1,10.885,10.885,null,""]
[{"$nulls":4},"EQ5045XXYTBEV",123,10.9,1340.7,null,"核减4辆，原因为：未按有关要求上传运行数据"]
[{"$nulls":4},"EQ5045XXYTBEV10",1,9.678,9.678,null,""]
[{"$nulls":4},"EQ5045XXYTBEV11",59,10.94,645.46,null,""]
[{"$nulls":4},"EQ5045XXYTBEV12",541,12.718,6880.438,null,""]
[{"$nulls":4},"EQ5045XXYTBEV14",483,10.7,5168.1,null,"核减3辆，原因为：未按有关要求上传运行数据"]
[{"$nulls":4},"EQ5045XXYTBEV15",1,10.885,10.885,null,""]
[{"$nulls":4},"EQ5045XXYTBEV18",42,12.652,531.384,null,""]
[{"$nulls":4},"EQ5045XXYTBEV19",405,10.143,4107.915,null,"核减1辆，原因为：未按有关要求上传运行数据"]
[{"$nulls":4},"EQ5045XXYTBEV2",196,10.885,2133.46,null,""]
[{"$nulls":4},"EQ5045XXYTBEV3",797,11.24,8958.28,null,""]
[{"$nulls":4},"EQ5045XXYTBEV4",734,9.11,6686.74,null,"核减1辆，原因为：未按有关要求上传运行数据"]
[{"$nulls":4},"EQ5045XXYTBEV7",81,9.91,802.71,null,""]
[{"$nulls":4},"EQ5045XXYTBEV7",128,9.91,1268.48,null,""]
[{"$nulls":4},"EQ5070XXYTBEV14",3,13.56,40.68,null,""]
[{"$nulls":4},"EQ5080XXYTFCEV1",369,50,18450,null,""]
[{"$nulls":4},"EQ5180XXYTBEV1",1,14.157,14.157,null,""]
[{"$nulls":4},"EQ6100CACBEV",8,30,240,null,""]
[{"$nulls":4},"EQ6120CACCHEV",1,14.838,14.838,null,""]
[{"$nulls":4},"EQ6620CLBEV6",12,8.712,104.544,null,""]
[null,null,4,"湖北新楚风汽车股份有限公司","EQ6800CACBEV4",49,19.746,967.554,null,""]
[{"$nulls":4},"EQ6800CACBEV5",83,19.9065,1652.2395,null,""]
[{"$nulls":4},"EQ6810CACBEV",3,19.746,59.238,null,""]
[{"$nulls":4},"EQ6810CACBEV2",1,20,20,null,""]
[{"$nulls":4},"EQ6811LACBEV1",4,19.746,78.984,null,""]
[{"$nulls":4},"小计",1394,null,10613.6998,{"$f":"ROUND(H642,0)","v":10614},null,2226,2226,8388]
[{"$nulls":4},"HQG5022XXYEV4",392,5.9424,2329.4208,null,"核减113辆，原因为：车辆重复申报"]
[{"$nulls":4},"HQG5022XXYEV6",138,5.9412,819.8856,null,"核减8辆，原因为：车辆重复申报"]
[{"$nulls":4},"HQG5041XXYEV1",8,9.164,73.312,null,"核减1辆，原因为：车辆重复申报"]
[{"$nulls":4},"HQG5041XXYEV2",67,9.2818,621.8806,null,"核减1辆，原因为：车辆重复申报"]
[{"$nulls":4},"HQG5042XXYEV10",170,6.42,1091.4,null,"核减1辆，原因为：车辆重复申报"]
[{"$nulls":4},"HQG5042XXYEV2",185,9.226,1706.81,null,"核减10辆，原因为：车辆重复申报"]
[{"$nulls":4},"HQG5042XXYEV5",16,4.5768,73.2288,null,""]
[{"$nulls":4},"HQG5042XXYEV9",417,9.324,3888.108,null,"核减16辆，原因为：车辆重复申报"]
[{"$nulls":4},"HQG5051XXYEV",1,9.654,9.654,null,""]
[18,"湖南省","合计",null,null,625,null,17158.4292,{"$f":"SUM(I653,I664)","v":17159},null,{"$f":"SUM(K653,K662,K664)","v":11},0,17159]
[null,null,1,"比亚迪汽车工业有限公司长沙分公司","小计",295,null,7671.578,{"$f":"ROUND(H653,0)","v":7672},null,0,0,7672]
[{"$nulls":4},"BYD5030XXYBEV1",42,6.66,279.72,null,""]
[{"$nulls":4},"BYD6100LGEV3",113,30,3390,null,""]
[{"$nulls":4},"BYD6100LGEV4",59,29.862,1761.858,null,""]
[{"$nulls":4},"BYD6100LGEV7",15,30,450,null,""]
[{"$nulls":4},"BYD6121LGEV4",42,30,1260,null,""]
[{"$nulls":4},"BYD6450VBEV",0,0,0,null,"核减1辆，原因为：相关车型不在推荐目录内"]
[{"$nulls":4},"CK6100LGEV2",5,30,150,null,""]
[{"$nulls":4},"CK6800LZEV2",19,20,380,null,""]
[null,null,2,"大汉汽车集团有限公司","小计",0,null,0,{"$f":"ROUND(H662,0)","v":0},null,11,0,0]
[{"$nulls":4},"CKY6810BEVG",0,0,0,null,"核减3辆，原因为：不满足申报数量要求"]
[18,"湖南省",3,"湖南中车时代电动汽车股份有限公司","小计",330,null,9486.8512,{"$f":"ROUND(H664,0)","v":9487},null,0,0,9487]
[{"$nulls":4},"TEG6106BEV11",21,30,630,null,""]
[{"$nulls":4},"TEG6106BEV13",2,30,60,null,""]
[{"$nulls":4},"TEG6106BEV16",1,29.8512,29.8512,null,""]
[{"$nulls":4},"TEG6106BEV18",6,30,180,null,""]
[{"$nulls":4},"TEG6106BEV19",2,30,60,null,""]
[{"$nulls":4},"TEG6106BEV20",4,30,120,null,""]
[{"$nulls":4},"TEG6106BEV22",1,30,30,null,""]
[{"$nulls":4},"TEG6106EHEV17",1,15,15,null,""]
[{"$nulls":4},"TEG6106EHEVN10",1,15,15,null,""]
[{"$nulls":4},"TEG6110BEV01",7,30,210,null,""]
[{"$nulls":4},"TEG6110EV04",147,30,4410,null,""]
[{"$nulls":4},"TEG6110EV05",101,30,3030,null,""]
[{"$nulls":4},"TEG6129BEV06",1,30,30,null,""]
[{"$nulls":4},"TEG6801BEV01",2,20,40,null,""]
[{"$nulls":4},"TEG6801BEV02",22,20,440,null,""]
[{"$nulls":4},"TEG6801BEV03",1,20,20,null,""]
[{"$nulls":4},"TEG6850BEV06",1,20,20,null,""]
[{"$nulls":4},"TEG6851BEV09",4,20,80,null,""]
[{"$nulls":4},"TEG6851BEV13",1,20,20,null,""]
[{"$nulls":4},"TEG6851BEV14",1,20,20,null,""]
[{"$nulls":4},"TEG6851EHEV05",2,9,18,null,""]
[{"$nulls":4},"TEG6851EHEVN02",1,9,9,null,""]
[19,"广东省","合计",null,null,2027,null,42082.4161,{"$f":"SUM(I688,I693,I696,I701)","v":42083},null,{"$f":"SUM(K688,K693,K696,K701)","v":19494},7970,34113]
[null,null,1,"东莞中汽宏远汽车有限公司","小计",131,null,2720,{"$f":"ROUND(H688,0)","v":2720},null,4886,2720,0]
[{"$nulls":4},"KMT6109GBEV6",10,30,300,null,""]
[{"$nulls":4},"KMT6802GBEV1",17,20,340,null,""]
[{"$nulls":4},"KMT6802GBEV2",23,20,460,null,""]
[{"$nulls":4},"KMT6860GBEV7",81,20,1620,null,""]
[null,null,2,"广州广汽比亚迪新能源客车有限公司","小计",175,null,5250,{"$f":"ROUND(H693,0)","v":5250},null,14608,5250,0]
[{"$nulls":4},"GZ6100LGEV4",144,30,4320,null,""]
[{"$nulls":4},"GZ6121LGEV1",31,30,930,null,""]
[null,null,3,"广州汽车集团乘用车有限公司","小计",147,null,596.8,{"$f":"ROUND(H696,0)","v":597},null,0,0,597]
[{"$nulls":4},"GAC6450CHEVA5B",5,2.4,12,null,""]
[{"$nulls":4},"GAC6450CHEVA5C",1,2.4,2.4,null,""]
[{"$nulls":4},"GAC7000BEVH0A",100,4.84,484,null,""]
[{"$nulls":4},"GAC7150CHEVA5A",41,2.4,98.4,null,""]
[null,null,4,"珠海广通汽车有限公司","小计",1574,null,33515.6161,{"$f":"ROUND(H701,0)","v":33516},null,0,0,33516]
[{"$nulls":4},"GTQ5024XXYEV",11,5.1979,57.1769,null,""]
[{"$nulls":4},"GTQ5043XXYBEV1",4,7.1836,28.7344,null,""]
[{"$nulls":4},"GTQ6101BEVB1",8,30,240,null,""]
[{"$nulls":4},"GTQ6101BEVBT9",182,20,3640,null,""]
[{"$nulls":4},"GTQ6103BEVB1",5,30,150,null,""]
[{"$nulls":4},"GTQ6103BEVBT3",9,19.488,175.392,null,""]
[{"$nulls":4},"GTQ6105BEVB5",17,30,510,null,""]
[{"$nulls":4},"GTQ6105BEVB6",35,29.3289,1026.5115,null,""]
[{"$nulls":4},"GTQ6105BEVB7",34,29.8598,1015.2332,null,""]
[{"$nulls":4},"GTQ6105BEVBT11",208,20,4160,null,""]
[{"$nulls":4},"GTQ6105BEVBT8",14,19.488,272.832,null,""]
[{"$nulls":4},"GTQ6105BEVBT9",54,20,1080,null,""]
[{"$nulls":4},"GTQ6111BEVBT1",43,20,860,null,""]
[{"$nulls":4},"GTQ6119BEVH1",94,30,2820,null,""]
[{"$nulls":4},"GTQ6119BEVH6",8,29.3328,234.6624,null,""]
[{"$nulls":4},"GTQ6119BEVH9",59,29.8598,1761.7282,null,""]
[{"$nulls":4},"GTQ6119BEVHT9",15,20,300,null,""]
[{"$nulls":4},"GTQ6121BEVBT3",694,20,13880,null,""]
[{"$nulls":4},"GTQ6121BEVBT9",2,20,40,null,""]
[{"$nulls":4},"GTQ6123BEVBT11",8,20,160,null,""]
[19,"广东省",4,"珠海广通汽车有限公司","GTQ6123BEVBT3",3,20,60,null,""]
[{"$nulls":4},"GTQ6126BEVBT3",7,20,140,null,""]
[{"$nulls":4},"GTQ6146BEVBT8",1,20,20,null,""]
[{"$nulls":4},"GTQ6186BEVBT3",8,20,160,null,""]
[{"$nulls":4},"GTQ6801BEVBT9",6,12,72,null,""]
[{"$nulls":4},"GTQ6803BEVB7",7,19.9065,139.3455,null,""]
[{"$nulls":4},"GTQ6853BEVBT3",8,12,96,null,""]
[{"$nulls":4},"GTQ6858BEVB5",7,20,140,null,""]
[{"$nulls":4},"GTQ6858BEVBT11",23,12,276,null,""]
[20,"深圳市","合计",null,null,4490,null,59144.68,{"$f":"SUM(I732:I759)","v":59145},null,26291,26291,32854]
[null,null,1,"比亚迪汽车工业有限公司","小计",4490,null,59144.68,{"$f":"ROUND(H732,0)","v":59145},null,26291,26291,32854]
[{"$nulls":4},"BYD111017GBEV1",1,15,15,null,""]
[{"$nulls":4},"BYD5030XYZBEV",178,6.66,1185.48,null,"核减35辆，原因为：不满足行驶里程数要求"]
[{"$nulls":4},"BYD5070XXYBEV",18,15,270,null,"核减2辆，原因为：不满足行驶里程数要求"]
[{"$nulls":4},"BYD5110XXYBEV1",2,15,30,null,""]
[{"$nulls":4},"BYD5160ZYSBEV",3,15,45,null,""]
[{"$nulls":4},"BYD6100LGEV3",672,30,20160,null,"核减49辆，原因为：不满足行驶里程数要求"]
[{"$nulls":4},"BYD6100LGEV5",6,30,180,null,"核减1辆，原因为：不满足行驶里程数要求"]
[{"$nulls":4},"BYD6100LGEV6",11,30,330,null,"核减1辆，原因为：不满足行驶里程数要求"]
[{"$nulls":4},"BYD6100LGEV7",49,30,1470,null,"核减2辆，原因为：不满足行驶里程数要求"]
[{"$nulls":4},"BYD6100LSEV1",21,30,630,null,"核减14辆，原因为：不满足行驶里程数要求"]
[{"$nulls":4},"BYD6110LLEV",129,30,3870,null,"核减8辆，原因为：不满足行驶里程数要求"]
[{"$nulls":4},"BYD6120LLEV4",0,0,0,null,"核减1辆，原因为：不满足行驶里程数要求"]
[{"$nulls":4},"BYD6121LGEV3",332,30,9960,null,"核减16辆，原因为：不满足行驶里程数要求"]
[{"$nulls":4},"BYD6121LGEV4",10,30,300,null,""]
[{"$nulls":4},"BYD6121LGEV5",1,30,30,null,""]
[{"$nulls":4},"BYD6480STHEV",92,2.4,220.8,null,"核减12辆，原因为：不满足行驶里程数要求"]
[{"$nulls":4},"BYD6480STHEV3",118,2.4,283.2,null,"核减14辆，原因为：不满足行驶里程数要求"]
[{"$nulls":4},"BYD6480STHEV5",20,2.4,48,null,"核减4辆，原因为：不满足行驶里程数要求"]
[{"$nulls":4},"BYD6700HZEV",18,9,162,null,""]
[{"$nulls":4},"BYD6810LZEV1",213,20,4260,null,"核减10辆，原因为：不满足行驶里程数要求"]
[{"$nulls":4},"BYD6810LZEV4",230,20,4600,null,"核减48辆，原因为：不满足行驶里程数要求"]
[{"$nulls":4},"BYD7006BEVH",432,4.4,1900.8,null,"核减136辆，原因为：不满足行驶里程数要求"]
[{"$nulls":4},"CK6100LGEV2",17,30,510,null,"核减7辆，原因为：不满足行驶里程数要求"]
[{"$nulls":4},"CK6800LZEV1",7,20,140,null,""]
[{"$nulls":4},"CK6800LZEV2",9,20,180,null,""]
[{"$nulls":4},"QCJ7007BEV1",1614,4.4,7101.6,null,"核减366辆，原因为：不满足行驶里程数要求"]
[{"$nulls":4},"QCJ7007BEV2",287,4.4,1262.8,null,"核减173辆，原因为：不满足行驶里程数要求"]
[21,"广西壮族自治区","合计",null,null,183,null,3463.6,{"$f":"SUM(I761:I778)","v":3464},null,{"$f":"SUM(K761,K764,K777)","v":5402},102,3362]
[null,null,1,"东风汽车集团有限公司","小计",0,null,0,{"$f":"ROUND(H761,0)","v":0},null,0,0,0]
[{"$nulls":4},"EQ6510LM5F1BEV",0,0,0,null,"核减132辆，原因为：不满足申报数量要求"]
[{"$nulls":4},"EQ7000LS1F1BEV",0,0,0,null,"核减129辆，原因为：不满足申报数量要求"]
[null,null,2,"广西申龙汽车制造有限公司","小计",182,null,3460,{"$f":"ROUND(H764,0)","v":3460},null,98,98,3362]
[{"$nulls":4},"HQK6109BEVB1",1,20,20,null,""]
[{"$nulls":4},"HQK6109BEVB3",32,30,960,null,"核减1辆，原因为：不满足行驶里程数要求"]
[{"$nulls":4},"HQK6109BEVB4",7,30,210,null,""]
[{"$nulls":4},"HQK6109CHEVB",5,15,75,null,"核减2辆，原因为：不满足行驶里程数要求"]
[{"$nulls":4},"HQK6109CHEVNG",86,15,1290,null,""]
[{"$nulls":4},"HQK6128PHEVNG5",5,15,75,null,""]
[{"$nulls":4},"HQK6129CHEVB",4,15,60,null,""]
[{"$nulls":4},"HQK6188BEVB",9,30,270,null,""]
[{"$nulls":4},"HQK6828BEVB",2,20,40,null,""]
[{"$nulls":4},"HQK6828BEVB3",20,12,240,null,""]
[{"$nulls":4},"HQK6859BEVB",9,20,180,null,"核减1辆，原因为：不满足行驶里程数要求"]
[{"$nulls":4},"HQK6859BEVB1",2,20,40,null,""]
[null,null,3,"上汽通用五菱汽车股份有限公司","小计",1,null,3.6,{"$f":"ROUND(H777,0)","v":4},null,5304,4,0]
[{"$nulls":4},"LZW7000EVA",1,3.6,3.6,null,""]
[22,"重庆市","合计",null,null,6349,null,30490.8922,{"$f":"SUM(I780:I803)","v":30491},null,{"$f":"SUM(K780,K784,K798)","v":10232},10232,20259]
[null,null,1,"华晨鑫源重庆汽车有限公司","小计",261,null,1386.324,{"$f":"ROUND(H780,0)","v":1386},null,361,361,1025]
[{"$nulls":4},"JKC1020DABEV",7,4.584,32.088,null,"核减1辆，原因为：不满足行驶里程数要求"]
[{"$nulls":4},"JKC5020XXY-AXBEV",211,5.484,1157.124,null,"核减18辆，原因为：不满足行驶里程数要求"]
[{"$nulls":4},"JKC5020XXY-DABEV",43,4.584,197.112,null,"核减4辆，原因为：不满足行驶里程数要求"]
[null,null,2,"重庆长安汽车股份有限公司","小计",3836,null,16636.6,{"$f":"ROUND(H784,0)","v":16637},null,7492,7492,9145]
[{"$nulls":4},"SC5031XXYKQ54BEV",344,6.72,2311.68,null,""]
[{"$nulls":4},"SC6388AVBEV",26,4.4,114.4,null,""]
[{"$nulls":4},"SC6388BVBEV",1691,4.4,7440.4,null,""]
[{"$nulls":4},"SC7001ADBEV",839,3.6,3020.4,null,"核减6辆，原因为：不满足行驶里程数要求"]
[{"$nulls":4},"SC7001AEBEV",62,3.6,223.2,null,""]
[{"$nulls":4},"SC7001AGBEV",12,4.84,58.08,null,""]
[{"$nulls":4},"SC7001AKBEV",295,3.96,1168.2,null,""]
[{"$nulls":4},"SC7001CAABEV",31,3.6,111.6,null,""]
[{"$nulls":4},"SC7001CABBEV",46,3.6,165.6,null,""]
[{"$nulls":4},"SC7003AABEV",226,3.6,813.6,null,""]
[{"$nulls":4},"SC7003ACBEV",228,4.84,1103.52,null,""]
[{"$nulls":4},"SC7004CBBEV",8,4.84,38.72,null,""]
[{"$nulls":4},"SC7104AA5HEV",28,2.4,67.2,null,""]
[null,null,3,"重庆瑞驰汽车实业有限公司","小计",2252,null,12467.9682,{"$f":"ROUND(H798,0)","v":12468},null,2379,2379,10089]
[{"$nulls":4},"CRC5021XXYA-LBEV",370,4.035,1492.95,null,""]
[{"$nulls":4},"CRC5022XXYB-LBEV",129,4.035,520.515,null,""]
[{"$nulls":4},"CRC5030XXYB-LBEV",1350,5.868,7921.8,null,"核减1辆，原因为：车辆重复申报"]
[{"$nulls":4},"CRC5030XXYC-LBEV",12,5.94,71.28,null,""]
[{"$nulls":4},"CRC5032XXYC-LBEV",391,6.2952,2461.4232,null,""]
[23,"四川省","合计",null,null,2674,null,30716.8233,{"$f":"SUM(I805:I823)","v":30716},null,{"$f":"SUM(K805,K809,K815)","v":8205},8205,22511]
[null,null,1,"成都广通汽车有限公司","小计",295,null,3856,{"$f":"ROUND(H805,0)","v":3856},null,2311,2311,1545]
[{"$nulls":4},"CAT6100CRBEVT",128,20,2560,null,""]
[{"$nulls":4},"CAT6180DRBEVT",21,20,420,null,""]
[{"$nulls":4},"CAT6680CRBEVT",146,6,876,null,""]
[null,null,2,"吉利四川商用车有限公司","小计",1556,null,17295.406,{"$f":"ROUND(H809,0)","v":17295},null,5894,5894,11401]
[{"$nulls":4},"DNC5040XXYBEV02",62,9.528,590.736,null,""]
[{"$nulls":4},"DNC5045XXYBEV01",571,10.22,5835.62,null,""]
[{"$nulls":4},"DNC5047XXYBEV01",851,11.88,10109.88,null,""]
[{"$nulls":4},"DNC5049XXYBEV01",71,10.27,729.17,null,""]
[{"$nulls":4},"DNC6120BEVG",1,30,30,null,""]
[null,null,3,"中植一客成都汽车有限公司","小计",823,null,9565.4173,{"$f":"ROUND(H815,0)","v":9565},null,0,0,9565]
[{"$nulls":4},"CDL5020XXYBEV2",71,5.478,388.938,null,""]
[{"$nulls":4},"CDL5021XXYBEV",57,6.21,353.97,null,""]
[{"$nulls":4},"CDL5030XXYBEV",215,10.211,2195.365,null,""]
[{"$nulls":4},"CDL5030XXYBEV1",307,6.8844,2113.5108,null,""]
[{"$nulls":4},"CDL6110LRBEV1",68,29.916,2034.288,null,""]
[{"$nulls":4},"CDL6110LRBEV2",38,30,1140,null,""]
[{"$nulls":4},"CDL6810LRBEV2",7,19.9065,139.3455,null,""]
[{"$nulls":4},"CDL6810LRBEV3",60,20,1200,null,""]
[24,"云南省","合计",null,null,0,null,0,0,null,318,0,0]
[null,null,1,"云南航天神州汽车有限公司","小计",0,null,0,0,null,318,0,0]
[{"$nulls":4},"YH5022XXYBEV",0,0,{"$f":"F826*G826","v":0},null,"核减251辆，原因为：39辆不满足行驶里程数要求,驱动电机型号与推荐目录不一致；212辆现场核查不通过。"]
[{"$nulls":4},"YH5023XXYBEV",0,0,0,null,"核减238辆，原因为：11辆不满足行驶里程数要求；227辆现场核查不通过。"]
[25,"陕西省","合计",null,null,{"$f":"SUM(F829:F851)/2","v":4228},null,{"$f":"SUM(H829:H851)/2","v":20318.9154},{"$f":"SUM(I829:I851)","v":20319},null,{"$f":"SUM(K829,K837,K846)","v":33517},12288,8031]
[null,null,1,"比亚迪汽车有限公司","小计",1745,null,6184,{"$f":"ROUND(H829,0)","v":6184},null,27413,6184,0]
[{"$nulls":4},"BYD6460SBEV",79,4.4,347.6,null,"核减26辆，原因为：不满足行驶里程数要求"]
[{"$nulls":4},"BYD6460STHEV5",387,2.4,928.8,null,"核减64辆，原因为：不满足行驶里程数要求"]
[{"$nulls":4},"BYD7005BEV",897,4.4,3946.8,null,"核减226辆，原因为：不满足行驶里程数要求"]
[{"$nulls":4},"BYD7008BEV1",22,4.4,96.8,null,"核减16辆，原因为：不满足行驶里程数要求"]
[{"$nulls":4},"BYD7150WT5HEV4",298,2.4,715.2,null,"核减78辆，原因为：不满足行驶里程数要求"]
[{"$nulls":4},"BYD7150WT5HEV5",43,2.4,103.2,null,"核减32辆，原因为：不满足行驶里程数要求"]
[{"$nulls":4},"BYD7150WTHEV3",19,2.4,45.6,null,"核减4辆，原因为：不满足行驶里程数要求"]
[null,null,2,"陕西汽车集团有限责任公司","小计",{"$f":"SUM(F838:F845)","v":310},null,2820.9136,{"$f":"ROUND(H837,0)","v":2821},null,597,597,2224]
[{"$nulls":4},"SX5040XXYBEV331H",124,9.037,1120.588,null,"54辆待进一步核实后予以清算；核减40辆，原因为：不满足行驶里程数要求"]
[{"$nulls":4},"SX5040XXYBEV331K",81,8.8264,714.9384,null,"104辆待进一步核实后予以清算；核减56辆，原因为：不满足行驶里程数要求"]
[{"$nulls":4},"SX5040XXYBEV331L",0,7.734,0,null,"待进一步核实后予以清算"]
[{"$nulls":4},"SX5040XXYBEV331S",21,8.2072,172.3512,null,"31辆待进一步核实后予以清算；核减14辆，原因为：不满足行驶里程数要求"]
[{"$nulls":4},"SX5042XXYBEV331L",80,9.679,774.32,null,"59辆待进一步核实后予以清算；核减19辆，原因为：电池成箱型号不一致,不满足行驶里程数要求"]
[{"$nulls":4},"SX5070CCYBEV1",0,10.21,0,null,"待进一步核实后予以清算"]
[{"$nulls":4},"SX5070XLCBEV331L",4,9.679,38.716,null,"1辆待进一步核实后予以清算；核减1辆，原因为：电池成箱型号与推荐目录不一致,不满足行驶里程数要求"]
[{"$nulls":4},"SX5070XXYBEV331K",0,0,0,null,"核减1辆，原因为：不满足行驶里程数要求"]
[25,"陕西省",3,"陕西通家汽车股份有限公司","小计",{"$f":"SUM(F847:F851)","v":2173},null,{"$f":"SUM(H847:H851)","v":11314.0018},{"$f":"ROUND(H846,0)","v":11314},null,5507,5507,5807]
[{"$nulls":4},"STJ5023XXYEV6",0,0,0,null,"核减2辆，原因为：关键零部件发票信息与推荐目录不一致"]
[{"$nulls":4},"STJ5024XXYEV",1942,5.1979,10094.3218,null,"核减5辆，原因为：相关车型不在推荐目录内"]
[{"$nulls":4},"STJ5024XXYEV1",0,0,0,null,"核减5辆，原因为：相关车型不在推荐目录内"]
[{"$nulls":4},"STJ5024XXYEV7",0,0,0,null,"核减49辆，原因为：关键零部件发票信息与推荐目录不一致"]
[{"$nulls":4},"STJ5029XXYEV1",231,5.28,1219.68,null,"核减2辆，原因为：相关车型不在推荐目录内"]

{"sheet":"5-2018","index":4,"n_rows":1560,"n_cols":13,"rows_kept":1560,"merged":[[1,0,1,12],[2,10,2,12],[4,0,4,4],[5,0,61,0],[5,1,61,1],[5,2,5,4],[6,2,20,2],[6,3,20,3],[21,2,33,2],[21,3,33,3],[34,2,61,2],[34,3,61,3],[62,0,83,0],[62,1,83,1],[62,2,83,2],[62,3,83,3],[84,0,104,0],[84,1,104,1],[84,2,84,4],[85,2,92,2],[85,3,92,3],[93,2,104,2],[93,3,104,3],[105,0,120,0],[105,1,120,1],[105,2,105,4],[106,2,120,2],[106,3,120,3],[121,0,136,0],[121,1,136,1],[121,2,126,2],[121,3,126,3],[127,2,136,2],[127,3,136,3],[137,0,145,0],[137,1,145,1],[137,2,137,4],[138,2,145,2],[138,3,145,3],[146,0,150,0],[146,1,150,1],[146,2,146,4],[147,2,150,2],[147,3,150,3],[151,0,177,0],[151,1,177,1],[151,2,151,4],[152,2,177,2],[152,3,177,3],[178,0,230,0],[178,1,230,1],[178,2,230,2],[178,3,230,3],[231,0,247,0],[231,1,247,1],[231,2,244,2],[231,3,244,3],[245,2,247,2],[245,3,247,3],[248,0,282,0],[248,1,282,1],[248,2,248,4],[249,2,265,2],[249,3,265,3],[266,2,274,2],[266,3,274,3],[275,2,282,2],[275,3,282,3],[283,0,333,0],[283,1,333,1],[283,2,333,2],[283,3,333,3],[334,0,394,0],[334,1,394,1],[334,2,394,2],[334,3,394,3],[395,0,439,0],[395,1,439,1],[395,2,400,2],[395,3,400,3],[401,2,407,2],[401,3,407,3],[408,2,439,2],[408,3,439,3],[440,0,456,0],[440,1,456,1],[440,2,440,4],[441,2,443,2],[441,3,443,3],[444,2,456,2],[444,3,456,3],[457,0,473,0],[457,1,473,1],[457,2,473,2],[457,3,473,3],[474,0,499,0],[474,1,499,1],[474,2,474,4],[475,2,499,2],[475,3,499,3],[500,0,565,0],[500,1,565,1],[500,2,500,4],[501,2,544,2],[501,3,544,3],[545,2,565,2],[545,3,565,3],[566,0,615,0],[566,1,615,1],[566,2,584,2],[566,3,584,3],[585,2,604,2],[585,3,604,3],[605,2,615,2],[605,3,615,3],[616,0,629,0],[616,1,629,1],[616,2,616,4],[617,2,629,2],[617,3,629,3],[630,0,693,0],[630,1,693,1],[630,2,630,4],[631,2,693,2],[631,3,693,3],[694,0,755,0],[694,1,755,1],[694,2,755,2],[694,3,755,3],[756,0,761,0],[756,1,761,1],[756,2,761,2],[756,3,761,3],[762,0,795,0],[762,1,795,1],[762,2,762,4],[763,2,786,2],[763,3,786,3],[787,2,792,2],[787,3,792,3],[793,2,795,2],[793,3,795,3],[796,0,809,0],[796,1,809,1],[796,2,809,2],[796,3,809,3],[810,0,837,0],[810,1,837,1],[810,2,810,4],[811,2,827,2],[811,3,827,3],[828,2,837,2],[828,3,837,3],[838,0,903,0],[838,1,903,1],[838,2,846,2],[838,3,846,3],[847,2,903,2],[847,3,903,3],[904,0,925,0],[904,1,925,1],[904,2,925,2],[904,3,925,3],[926,0,934,0],[926,1,934,1],[926,2,926,4],[927,2,934,2],[927,3,934,3],[935,0,963,0],[935,1,963,1],[935,2,935,4],[936,2,947,2],[936,3,947,3],[948,2,963,2],[948,3,963,3],[964,0,1028,0],[964,1,1028,1],[964,2,1028,2],[964,3,1028,3],[1029,0,1088,0],[1029,1,1088,1],[1029,2,1088,2],[1029,3,1088,3],[1089,0,1150,0],[1089,1,1150,1],[1089,2,1089,4],[1090,2,1113,2],[1090,3,1113,3],[1114,2,1150,2],[1114,3,1150,3],[1151,0,1213,0],[1151,1,1213,1],[1151,2,1197,2],[1151,3,1197,3],[1198,2,1213,2],[1198,3,1213,3],[1214,0,1215,0],[1214,1,1215,1],[1214,2,1215,2],[1214,3,1215,3],[1216,0,1278,0],[1216,1,1278,1],[1216,2,1216,4],[1217,2,1224,2],[1217,3,1224,3],[1225,2,1228,2],[1225,3,1228,3],[1229,2,1278,2],[1229,3,1278,3],[1279,0,1332,0],[1279,1,1332,1],[1279,2,1279,4],[1280,2,1287,2],[1280,3,1287,3],[1288,2,1294,2],[1288,3,1294,3],[1295,2,1309,2],[1295,3,1309,3],[1310,2,1332,2],[1310,3,1332,3],[1333,0,1373,0],[1333,1,1373,1],[1333,2,1333,4],[1334,2,1373,2],[1334,3,1373,3],[1374,0,1383,0],[1374,1,1383,1],[1374,2,1383,2],[1374,3,1383,3],[1384,0,1417,0],[1384,1,1417,1],[1384,2,1384,4],[1385,2,1391,2],[1385,3,1391,3],[1392,2,1414,2],[1392,3,1414,3],[1415,2,1417,2],[1415,3,1417,3],[1418,0,1468,0],[1418,1,1468,1],[1418,2,1418,4],[1419,2,1426,2],[1419,3,1426,3],[1427,2,1458,2],[1427,3,1458,3],[1459,2,1468,2],[1459,3,1468,3],[1469,0,1504,0],[1469,1,1504,1],[1469,2,1469,4],[1470,2,1474,2],[1470,3,1474,3],[1475,2,1493,2],[1475,3,1493,3],[1494,2,1504,2],[1494,3,1504,3],[1505,0,1510,0],[1505,1,1510,1],[1505,2,1505,4],[1506,2,1510,2],[1506,3,1510,3],[1511,0,1524,0],[1511,1,1524,1],[1511,2,1511,4],[1512,2,1524,2],[1512,3,1524,3],[1525,0,1559,0],[1525,1,1559,1],[1525,2,1540,2],[1525,3,1540,3],[1541,2,1556,2],[1541,3,1556,3],[1557,2,1559,2],[1557,3,1559,3],[1563,8,1563,12]]}
["附件5"]
["2018年度新能源汽车推广应用补助资金清算汇总表"]
[{"$nulls":10},"单位：万元"]
["地区序号","地区","序号","车辆生产企业","车辆型号","核定推广数（辆）","核定补助标准（万元）","核定补助资金（万元）","按整车企业取整后补助资金（万元）","核减原因","此前待扣回预拨资金（万元）","此次实际扣回预拨资金（万元）","本次实际安排资金\n（万元）"]
["总计",{"$nulls":4},{"$f":"SUM(F6:F1560)/3","v":202070},null,{"$f":"SUM(H6:H1560)/3","v":1574195.1861814011},{"$f":"SUM(I6:I1560)/2","v":1574195},null,{"$f":"SUM(K6:K1560)/2","v":161508},{"$f":"SUM(L6:L1560)/2","v":136990},{"$f":"SUM(M6:M1560)/2","v":1437205}]
[1,"北京市","合计",null,null,14592,null,{"$f":"SUM(H7,H22,H35)","v":78955.08676},{"$f":"SUM(I7:I84)","v":78955},null,{"$f":"SUM(K7,K22,K35)","v":0},0,78955]
[null,null,1,"北京汽车股份有限公司","小计",9326,null,{"$f":"SUM(H8:H21)","v":50365.185999999994},{"$f":"ROUND(H7,0)","v":50365},null,0,0,50365]
[{"$nulls":4},"BJ5023XXYV3RK-BEV",0,0,0,null,"需进一步核实后予以清算"]
[{"$nulls":4},"BJ7000C5D3-BEV",6087,6.05,36826.35,null,"3辆需进一步核实后予以清算"]
[{"$nulls":4},"BJ7000C5E1-BEV",4,3.08,12.32,null,""]
[{"$nulls":4},"BJ7000C5E2-BEV",158,3.08,486.64,null,""]
[{"$nulls":4},"BJ7000C5E4-BEV",34,3.388,115.192,null,""]
[{"$nulls":4},"BJ7000C5E4-BEV",327,4.5,1471.5,null,""]
[{"$nulls":4},"BJ7000C5E4-BEV",7,4.84,33.88,null,""]
[{"$nulls":4},"BJ7000C5E7-BEV",2,3.388,6.776,null,""]
[{"$nulls":4},"BJ7000C5E7-BEV",1124,4.5,5058,null,""]
[{"$nulls":4},"BJ7000C5E7-BEV",21,4.84,101.64,null,""]
[{"$nulls":4},"BJ7000C5E8-BEV",292,4.5,1314,null,""]
[{"$nulls":4},"BJ7000C5E9-BEV",307,2.7,828.9,null,""]
[{"$nulls":4},"BJ7000U3D7-BEV",201,3.388,680.988,null,""]
[{"$nulls":4},"BJ7000U3D7-BEV",762,4.5,3429,null,"9辆需进一步核实后予以清算"]
[null,null,2,"北京新能源汽车股份有限公司","小计",4031,null,{"$f":"SUM(H23:H34)","v":10915.98},{"$f":"ROUND(H22,0)","v":10916},null,0,0,10916]
[{"$nulls":4},"BJ7001BPH1-BEV",58,2.52,146.16,null,"6辆需进一步核实后予以清算"]
[{"$nulls":4},"BJ7001BPH1-BEV",17,3.6,61.2,null,""]
[{"$nulls":4},"BJ7001BPH2-BEV",1,2.52,2.52,null,""]
[{"$nulls":4},"BJ7001BPH5-BEV",495,2.772,{"$f":"F26*G26","v":1372.1399999999999},null,"517辆需进一步核实后予以清算"]
[{"$nulls":4},"BJ7001BPH5-BEV",28,3.96,110.88,null,""]
[{"$nulls":4},"BJ7001BPH6-BEV",618,3.672,{"$f":"F28*G28","v":2269.2960000000003},null,"263辆需进一步核实后予以清算"]
[{"$nulls":4},"BJ7001BPH7-BEV",78,2.772,216.216,null,""]
[{"$nulls":4},"BJ7001BPH7-BEV",14,3.96,55.44,null,""]
[{"$nulls":4},"BJ7001BPH8-BEV",217,2.52,546.84,null,"2辆需进一步核实后予以清算"]
[{"$nulls":4},"BJ7001BPH9-BEV",328,2.772,{"$f":"F32*G32","v":909.2159999999999},null,"215辆需进一步核实后予以清算"]
[{"$nulls":4},"BJ7001BPHA-BEV",2176,2.4,{"$f":"F33*G33","v":5222.4},null,"2460辆需进一步核实后予以清算"]
[{"$nulls":4},"BJ7001BPHB-BEV",1,3.672,3.672,null,""]
[null,null,3,"北汽福田汽车股份有限公司","小计",1235,null,17673.92076,{"$f":"ROUND(H35,0)","v":17674},null,0,0,17674]
[{"$nulls":4},"BJ5023XXYEV4",3,1.85808,5.57424,null,""]
[{"$nulls":4},"BJ5032TYHEV-H1",0,0,0,null,"核减3辆,原因为:电池单体型号与推荐目录不一致,电池生产企业与推荐目录不一致"]
[{"$nulls":4},"BJ5035XXYEV2",149,4.2398,631.7302,null,""]
[{"$nulls":4},"BJ5043XXYEV1",0,0,0,null,"核减13辆,原因为: 相关车型不在推荐目录内"]
[{"$nulls":4},"BJ5045XXYEV1",0,0,0,null,"核减103辆,原因为:相关车型不在推荐目录内"]
[{"$nulls":4},"BJ5045XXYEV2",0,0,0,null,"核减48辆,原因为:相关车型不在推荐目录内"]
[{"$nulls":4},"BJ5048XXYEV2",1,3.424,3.424,null,""]
[{"$nulls":4},"BJ5048XXYEV3",0,0,0,null,"核减5辆,原因为:相关车型不在推荐目录内"]
[{"$nulls":4},"BJ5049XXYEV5",144,4.088,588.672,null,""]
[{"$nulls":4},"BJ5088XXYFCEV",3,50,150,null,""]
[{"$nulls":4},"BJ6103EVUA-2",5,21,105,null,""]
[{"$nulls":4},"BJ6105CHEVCA-11",43,7.5,322.5,null,""]
[{"$nulls":4},"BJ6105EVCA-25",3,21,63,null,""]
[{"$nulls":4},"BJ6105EVCA-27",73,19.8,1445.4,null,""]
[{"$nulls":4},"BJ6105EVCA-28",72,19.8,1425.6,null,""]
[{"$nulls":4},"BJ6105EVCA-30",31,19.8,613.8,null,""]
[{"$nulls":4},"BJ6105EVCA-31",1,19.8,19.8,null,""]
[{"$nulls":4},"BJ6105EVCA-31",135,21,2835,null,""]
[{"$nulls":4},"BJ6105EVCA-41",16,21.78,348.48,null,""]
[{"$nulls":4},"BJ6105FCEVCH",15,50,750,null,""]
[{"$nulls":4},"BJ6105PHEVCA-17",4,7.5,30,null,""]
[{"$nulls":4},"BJ6105PHEVCA-19",71,7.5,532.5,null,""]
[{"$nulls":4},"BJ6117EVUA-5",1,19.8,19.8,null,""]
[{"$nulls":4},"BJ6123EVCA-32",1,21,21,null,""]
[{"$nulls":4},"BJ6123EVCA-33",3,20.9019,62.7057,null,""]
[{"$nulls":4},"BJ6123EVCA-33",1,29.8598,29.8598,null,""]
[{"$nulls":4},"BJ6123EVCA-43",89,19.8,1762.2,null,""]
[1,"北京市",3,"北汽福田汽车股份有限公司","BJ6123FCEVCH-1",4,50,200,null,""]
[{"$nulls":4},"BJ6123PHEVCA-15",5,7.5,37.5,null,""]
[{"$nulls":4},"BJ6123PHEVCA-15",1,10.5,10.5,null,""]
[{"$nulls":4},"BJ6123PHEVCA-15",1,15,15,null,""]
[{"$nulls":4},"BJ6802EVUA-6",12,13.1078,157.2936,null,""]
[{"$nulls":4},"BJ6802EVUA-7",2,13.2,26.4,null,""]
[{"$nulls":4},"BJ6805EVCA-16",49,13.10778,642.28122,null,""]
[{"$nulls":4},"BJ6805EVCA-17",50,13.2,660,null,""]
[{"$nulls":4},"BJ6805EVCA-17",51,14,714,null,""]
[{"$nulls":4},"BJ6805EVCA-18",2,13.2,26.4,null,""]
[{"$nulls":4},"BJ6805EVCA-20",19,13.2,250.8,null,""]
[{"$nulls":4},"BJ6805EVCA-8",2,14,28,null,""]
[{"$nulls":4},"BJ6851EVCA-16",39,12,468,null,""]
[{"$nulls":4},"BJ6851EVCA-17",25,13.2,330,null,""]
[{"$nulls":4},"BJ6851EVCA-22",20,14.52,290.4,null,""]
[{"$nulls":4},"BJ6851EVCA-25",30,14.52,435.6,null,""]
[{"$nulls":4},"BJ6851EVCA-8",2,14,28,null,""]
[{"$nulls":4},"BJ6851EVCA-9",23,14,322,null,""]
[{"$nulls":4},"BJ6852FCEVUH",24,50,1200,null,""]
[{"$nulls":4},"BJ6855CHEVCA-3",1,9,9,null,""]
[{"$nulls":4},"BJ6855PHEVCA-1",6,6.3,37.8,null,""]
[{"$nulls":4},"BJ6905CHEVCA-10",3,6.3,18.9,null,""]
[2,"河北省","合计",null,null,2417,null,{"$f":"SUM(H86,H94)","v":11604.73848},{"$f":"SUM(I86:I105)","v":11605},null,{"$f":"SUM(K86,K94)","v":9224},9035,2570]
[null,null,1,"长城汽车股份有限公司","小计",1966,null,{"$f":"SUM(H87:H93)","v":9035.1184},{"$f":"ROUND(H86,0)","v":9035},null,9224,9035,0]
[{"$nulls":4},"CC6484AD21APHEV",0,0,0,null,"需进一步核实后予以清算"]
[{"$nulls":4},"CC6484AD21APHEV",0,0,0,null,"需进一步核实后予以清算"]
[{"$nulls":4},"CC7000CE04BEV",55,3.388,186.34,null,""]
[{"$nulls":4},"CC7000CE04BEV",732,3.74,2737.68,null,""]
[{"$nulls":4},"CC7000ZM00ABEV",13,3.96,51.48,null,""]
[{"$nulls":4},"CC7001CE02ABEV",715,4.95,3539.25,null,""]
[{"$nulls":4},"CC7001CE03BEV",451,5.5884,2520.3684,null,""]
[null,null,2,"河北长安汽车有限公司","小计",451,null,{"$f":"SUM(H95:H105)","v":2569.6200799999997},{"$f":"ROUND(H94,0)","v":2570},null,0,0,2570]
[{"$nulls":4},"SC1027DACABEV",107,2.8344,303.2808,null,""]
[{"$nulls":4},"SC5027XXYDAABEV",94,2.8344,266.4336,null,""]
[{"$nulls":4},"SC5028XXYNBEV",1,3.243,3.243,null,"51辆需进一步核实后予以清算"]
[{"$nulls":4},"SC5033XXYJBEV",110,3.7689,414.579,null,""]
[{"$nulls":4},"SC5033XXYKBEV",34,3.7689,128.1426,null,"核减1辆,原因为:不满足行驶里程数要求"]
[{"$nulls":4},"SC5035XXYDCBBEV",3,3.244,9.732,null,""]
[{"$nulls":4},"SC6805ABBEV",62,13.93434,863.92908,null,""]
[{"$nulls":4},"SC6805ABEV",12,14.52,174.24,null,""]
[{"$nulls":4},"SC6805ACBEV",1,14,14,null,""]
[{"$nulls":4},"SC6805BBEV",14,14.52,203.28,null,""]
[{"$nulls":4},"SC6836EBEV",13,14.52,188.76,null,""]
[3,"山西省","合计",null,null,2595,null,{"$f":"SUM(H107,H128)","v":10334.2551208},{"$f":"SUM(I107:I137)","v":10334},null,{"$f":"SUM(K107,K128)","v":0},0,10334]
[null,null,1,"成都大运汽车集团有限公司","小计",411,null,3541.9664008,{"$f":"ROUND(H107,0)","v":3542},null,0,0,3542]
[{"$nulls":4},"CGC4250BEV1Z1",7,6,42,null,""]
[{"$nulls":4},"CGC5025XXYBEV1NBBFBAXY",13,6.0264,78.3432,null,""]
[{"$nulls":4},"CGC5040XXYBEV1CAH0",8,3.36,26.88,null,""]
[{"$nulls":4},"CGC5040XXYBEV1ZAH0",5,3.36,16.8,null,""]
[{"$nulls":4},"CGC5044XXYBEV1AAAJEAGK",1,2.56608,2.56608,null,""]
[{"$nulls":4},"CGC5044XXYBEV1AAAJEAGK",2,6.4152,12.8304,null,""]
[{"$nulls":4},"CGC5044XXYBEV1AAAJEAHZ",3,2.56608,7.69824,null,""]
[{"$nulls":4},"CGC5044XXYBEV1AAAJEAHZ",96,6.4152,615.8592,null,""]
[{"$nulls":4},"CGC5044XXYBEV1NBLJEAGY",4,3.856,15.424,null,""]
[{"$nulls":4},"CGC5044XXYBEV1NBLJEAGY",18,9.64,173.52,null,""]
[{"$nulls":4},"CGC5045XLCBEV1Z2",1,6.15795,6.15795,null,""]
[{"$nulls":4},"CGC5045XLCBEV1Z3",17,7.09005,120.53085,null,""]
[{"$nulls":4},"CGC5045XXYBEV1Z4",83,6.15795,511.10985,null,""]
[{"$nulls":4},"CGC5045XXYBEV1Z5",18,7.09005,127.6209,null,""]
[3,"山西省",1,"成都大运汽车集团有限公司","CGC5045XXYBEV1Z7",9,6.15795,55.42155,null,""]
[{"$nulls":4},"CGC5045XXYBEV2Z2",49,5.8424192,286.2785408,null,""]
[{"$nulls":4},"CGC5045XXYBEV2Z3",2,6.74282,13.48564,null,""]
[{"$nulls":4},"CGC6101BEV1K5",48,21.78,1045.44,null,""]
[{"$nulls":4},"CGC6801BEV1K3",26,14,364,null,""]
[{"$nulls":4},"CGC6806BEV1PAMKHAUM",1,20,20,null,""]
[null,null,2,"山西成功汽车制造有限公司成都大运汽车集团有限公司","小计",2184,null,{"$f":"SUM(H129:H137)","v":6792.28872},{"$f":"ROUND(H128,0)","v":6792},null,0,0,6792]
[{"$nulls":4},"SCH5022XXY-BEV1",1,2.1792,2.1792,null,""]
[{"$nulls":4},"SCH5022XXY-BEV1",21,5.448,114.408,null,""]
[{"$nulls":4},"SCH5022XXY-BEV5",2,5.448,10.896,null,""]
[{"$nulls":4},"SCH5022XXY-BEV8",864,2.23008,1926.78912,null,""]
[{"$nulls":4},"SCH5022XXY-BEV8",277,5.5752,1544.3304,null,""]
[{"$nulls":4},"SCH5022XXY-BEV9",180,2.3664,425.952,null,""]
[{"$nulls":4},"SCH5022XXY-BEVC",782,3.222,2519.604,null,""]
[{"$nulls":4},"SCH6431BEV",14,2.52,{"$f":"F136*G136","v":35.28},null,"5辆需进一步核实后予以清算"]
[{"$nulls":4},"SCH6431BEV1",43,4.95,{"$f":"F137*G137","v":212.85},null,"55辆需进一步核实后予以清算"]
[4,"辽宁省","合计",null,null,10,null,11,{"$f":"SUM(I139:I146)","v":11},null,1840,11,0]
[null,null,1,"华晨宝马汽车有限公司","小计",10,null,11,{"$f":"ROUND(H139,0)","v":11},null,1840,11,0]
[{"$nulls":4},"BBA6461AAHEV(ZINORO60H)",10,1.1,11,null,""]
[{"$nulls":4},"BMW6462AAHEV(BMWX1)",0,0,0,null,"核减2721辆,原因为:现场核查不通过"]
[{"$nulls":4},"BMW6462AAHEV(BMWX1)",0,0,0,null,"核减130辆,原因为:现场核查不通过"]
[{"$nulls":4},"BMW6462AAHEV(BMWX1)",0,0,0,null,"核减75辆,原因为:现场核查不通过"]
[{"$nulls":4},"BMW7201BMHEV",0,0,0,null,"核减89辆,原因为:现场核查不通过"]
[{"$nulls":4},"BMW7201CMHEV",0,0,0,null,"核减4267辆,原因为:现场核查不通过"]
[{"$nulls":4},"BMW7201CMHEV",0,0,0,null,"核减9辆,原因为:现场核查不通过"]
[5,"大连市","合计",null,null,757,null,2306.912,{"$f":"SUM(I148:I151)","v":2307},null,0,0,2307]
[null,null,1,"一汽客车(大连)有限公司","小计",757,null,2306.912,{"$f":"ROUND(H148,0)","v":2307},null,0,0,2307]
[{"$nulls":4},"CA5020XXYBEV31",455,2.472,1124.76,null,""]
[{"$nulls":4},"CA5020XXYBEV32",166,2.472,410.352,null,""]
[{"$nulls":4},"CA5040XXYBEV31",136,5.675,771.8,null,""]
[6,"上海市","合计",null,null,17233,null,83864.6364,{"$f":"SUM(I153:I248)","v":83865},null,{"$f":"SUM(K153,K179,K232,K246)","v":3320},796,83069]
[null,null,1,"上海汽车集团股份有限公司","小计",14254,null,45497.574,{"$f":"ROUND(H153,0)","v":45498},null,522,522,44976]
[{"$nulls":4},"CSA6454NDPHEV1",168,1.1,184.8,null,""]
[{"$nulls":4},"CSA6454NDPHEV1",294,1.68,493.92,null,""]
[{"$nulls":4},"CSA6454NDPHEV1",90,2.4,216,null,""]
[{"$nulls":4},"CSA6454NDPHEV2",425,2.2,935,null,""]
[{"$nulls":4},"CSA6456BEV1",49,3.388,166.012,null,""]
[{"$nulls":4},"CSA6456BEV1",937,4.84,4535.08,null,""]
[{"$nulls":4},"CSA6456BEV1",92,4.95,455.4,null,""]
[{"$nulls":4},"CSA6456BEV2",84,4.95,415.8,null,""]
[{"$nulls":4},"CSA6461FBEV1",34,6.05,205.7,null,""]
[{"$nulls":4},"CSA6461FBEV2",11,4.95,54.45,null,""]
[{"$nulls":4},"CSA7002FBEV1",84,3.388,284.592,null,""]
[{"$nulls":4},"CSA7002FBEV1",4007,4.2,16829.4,null,""]
[{"$nulls":4},"CSA7002FBEV3",1040,6.05,6292,null,""]
[{"$nulls":4},"CSA7102SDPHEV",16,1.68,26.88,null,""]
[{"$nulls":4},"CSA7102SDPHEV",97,2.2,213.4,null,""]
[{"$nulls":4},"CSA7104SDPHEV1",335,1.1,368.5,null,""]
[{"$nulls":4},"CSA7104SDPHEV1",1,1.68,1.68,null,""]
[{"$nulls":4},"CSA7104SDPHEV1",699,1.68,1174.32,null,""]
[{"$nulls":4},"CSA7104SDPHEV1",65,2.4,156,null,""]
[{"$nulls":4},"CSA7104SDPHEV3",148,1.68,248.64,null,""]
[{"$nulls":4},"CSA7104SDPHEV3",5272,2.2,11598.4,null,""]
[{"$nulls":4},"CSA7144CDPHEV1",65,1.68,109.2,null,""]
[{"$nulls":4},"CSA7144CDPHEV1",58,2.2,127.6,null,""]
[{"$nulls":4},"CSA7144CDPHEV1",11,2.4,26.4,null,""]
[{"$nulls":4},"CSA7144CDPHEV2",172,2.2,378.4,null,""]
[6,"上海市",2,"上海申龙客车有限公司","小计",2441,null,36157.1614,{"$f":"ROUND(H179,0)","v":36157},null,0,0,36157]
[{"$nulls":4},"SLK5030XXYBEV1",40,3.77475,150.99,null,""]
[{"$nulls":4},"SLK5030XXYBEV3S",2,6.4596,12.9192,null,""]
[{"$nulls":4},"SLK5032XXYBEV1",23,3.1425,72.2775,null,""]
[{"$nulls":4},"SLK5032XXYBEV3",331,3.3525,1109.6775,null,"核减11辆,原因为:不符合行驶里程数要求"]
[{"$nulls":4},"SLK5042XXYBEV",6,5.98154,35.88924,null,""]
[{"$nulls":4},"SLK5046XSHBEV",2,5.5697,11.1394,null,"核减2辆,原因为:不符合行驶里程数要求"]
[{"$nulls":4},"SLK6101UBEVN1",38,19.8,752.4,null,""]
[{"$nulls":4},"SLK6108ABEVW1",6,19.8,118.8,null,"核减1辆,原因为:不符合行驶里程数要求"]
[{"$nulls":4},"SLK6108AEBEVS",1,18.2424,18.2424,null,""]
[{"$nulls":4},"SLK6109UBEVL5",153,21.78,3332.34,null,"核减2辆,原因为:不符合行驶里程数要求"]
[{"$nulls":4},"SLK6109UBEVL9",58,21.78,1263.24,null,""]
[{"$nulls":4},"SLK6109UBEVW1",15,19.8,297,null,""]
[{"$nulls":4},"SLK6109UBEVW1",1,21,21,null,""]
[{"$nulls":4},"SLK6109UBEVW17",103,21.78,2243.34,null,""]
[{"$nulls":4},"SLK6109UBEVW3",56,19.8,1108.8,null,""]
[{"$nulls":4},"SLK6109UBEVW3",48,21,1008,null,""]
[{"$nulls":4},"SLK6109UDHEVL",3,10.5,31.5,null,""]
[{"$nulls":4},"SLK6109UDHEVN1",12,10.5,126,null,""]
[{"$nulls":4},"SLK6109ULE0BEVS5",13,18.2424,237.1512,null,""]
[{"$nulls":4},"SLK6109ULE0BEVS5",19,20.89584,397.02096,null,"核减1辆,原因为:不符合行驶里程数要求"]
[{"$nulls":4},"SLK6109ULE0BEVS9",7,21,147,null,""]
[{"$nulls":4},"SLK6118ABEVN1",49,19.8,970.2,null,"核减1辆,原因为:不符合行驶里程数要求"]
[{"$nulls":4},"SLK6118ABEVW7",267,19.8,5286.6,null,"核减1辆,原因为:不符合行驶里程数要求"]
[{"$nulls":4},"SLK6118ABEVZ1",16,19.8,316.8,null,""]
[{"$nulls":4},"SLK6118ALE0BEVS6",31,21,651,null,""]
[{"$nulls":4},"SLK6118UBEVN3",54,19.8,1069.2,null,"核减4辆,原因为:不符合行驶里程数要求"]
[{"$nulls":4},"SLK6118UBEVW3",16,19.8,316.8,null,""]
[{"$nulls":4},"SLK6118UBEVW3",50,21,1050,null,""]
[{"$nulls":4},"SLK6129UBEVN1",20,19.8,396,null,""]
[{"$nulls":4},"SLK6663UBEVW1",45,6.05,272.25,null,"核减4辆,原因为:不符合行驶里程数要求"]
[{"$nulls":4},"SLK6803UEBEVJ1",3,14,42,null,""]
[{"$nulls":4},"SLK6819UBEVN1",123,14.52,1785.96,null,"核减1辆,原因为:不符合行驶里程数要求"]
[{"$nulls":4},"SLK6819UBEVN3",52,14.52,755.04,null,""]
[{"$nulls":4},"SLK6819UBEVN7",39,14.52,566.28,null,""]
[{"$nulls":4},"SLK6819UBEVN9",49,14.52,711.48,null,""]
[{"$nulls":4},"SLK6819UBEVW1",70,13.2,924,null,""]
[{"$nulls":4},"SLK6819UBEVW21",47,14.52,682.44,null,""]
[{"$nulls":4},"SLK6819UBEVW3",1,13.2,13.2,null,""]
[{"$nulls":4},"SLK6819UBEVW3",22,14,308,null,""]
[{"$nulls":4},"SLK6819UBEVW5",18,13.2,237.6,null,""]
[{"$nulls":4},"SLK6819UBEVW5",30,14,420,null,"核减1辆,原因为:不符合行驶里程数要求"]
[{"$nulls":4},"SLK6819UBEVW9",1,12,12,null,""]
[{"$nulls":4},"SLK6819UEBEVJ1",85,14,1190,null,""]
[{"$nulls":4},"SLK6859UBEVN1",2,13.2,26.4,null,""]
[{"$nulls":4},"SLK6859UBEVW1",23,13.2,303.6,null,""]
[{"$nulls":4},"SLK6859UBEVW3",71,13.2,937.2,null,""]
[{"$nulls":4},"SLK6859UBEVW5",1,13.2,13.2,null,""]
[{"$nulls":4},"SLK6859UEBEVJ3",147,14,2058,null,"核减3辆,原因为:不符合行驶里程数要求"]
[{"$nulls":4},"SLK6859UEBEVL5",109,14,1526,null,""]
[{"$nulls":4},"SLK6859ULD5HEVL1",16,5.649,90.384,null,""]
[{"$nulls":4},"SLK6903AFCEVH",3,50,150,null,"核减1辆,原因为:不符合行驶里程数要求"]
[{"$nulls":4},"SLK6949UBEVN1",44,13.2,580.8,null,""]
[6,"上海市",3,"上汽大通汽车有限公司","小计",349,null,1936.001,{"$f":"ROUND(H232,0)","v":1936},null,0,0,1936]
[{"$nulls":4},"SH5040XXYA7BEV-5",4,2.88,11.52,null,""]
[{"$nulls":4},"SH5040XXYA7BEV-5",17,4.245,72.165,null,""]
[{"$nulls":4},"SH5040XXYA7BEV-5",6,7.2,43.2,null,""]
[{"$nulls":4},"SH5041XXYA7BEV-6",3,3.6,10.8,null,""]
[{"$nulls":4},"SH5041XXYA7BEV-6",4,5.415,21.66,null,""]
[{"$nulls":4},"SH5041XXYA7BEV-6",1,9,9,null,""]
[{"$nulls":4},"SH5041XXYA7BEV-D7",6,9.3,55.8,null,""]
[{"$nulls":4},"SH5047XLCZFEVNZ",23,5.922,136.206,null,""]
[{"$nulls":4},"SH5047XXYZFEVNZ",215,5.922,1273.23,null,""]
[{"$nulls":4},"SH6522C1BEV",16,2.52,40.32,null,""]
[{"$nulls":4},"SH6522C1BEV",1,3.6,3.6,null,""]
[{"$nulls":4},"SH6523C1BEV",33,4.5,148.5,null,""]
[{"$nulls":4},"SH6632A4BEV-5",20,5.5,110,null,""]
[null,null,4,"上汽大众汽车有限公司","小计",189,null,273.9,{"$f":"ROUND(H246,0)","v":274},null,2798,274,0]
[{"$nulls":4},"SVW6471APV",129,1.1,141.9,null,"核减16辆,原因为:不符合行驶里程数要求"]
[{"$nulls":4},"SVW7141BPV",60,2.2,132,null,"核减12辆,原因为:不符合行驶里程数要求"]
[7,"江苏省","合计",null,null,7542,null,{"$f":"SUM(H250,H267,H276,H284,H335,H402,H409)","v":98966.78888640001},{"$f":"SUM(I250:I440)","v":98967},null,{"$f":"SUM(K250,K267,K276,K284,K335,K402,K409)","v":3317},3317,{"$f":"I249-L249","v":95650}]
[null,null,1,"比亚迪汽车工业有限公司南京分公司","小计",1321,null,24561.16,{"$f":"ROUND(H250,0)","v":24561},null,0,0,24561]
[{"$nulls":4},"BYD6100LGEV10",236,19.8,4672.8]
[{"$nulls":4},"BYD6100LGEV10",265,21,5565,null,""]
[{"$nulls":4},"BYD6100LGEV9",227,19.8,4494.6,null,""]
[{"$nulls":4},"BYD6100LSEV3",10,19.8,198,null,""]
[{"$nulls":4},"BYD6101LGEV1",32,19.8,633.6,null,""]
[{"$nulls":4},"BYD6101LGEV5",50,19.8,990,null,""]
[{"$nulls":4},"BYD6101LGEV5",45,21.78,980.1,null,""]
[{"$nulls":4},"BYD6110LLEV3",2,19.8,39.6,null,""]
[{"$nulls":4},"BYD6121LGEV3",29,21,609,null,""]
[{"$nulls":4},"BYD6122LGEV1",20,19.8,396,null,""]
[{"$nulls":4},"BYD6122LGEV2",43,19.8,851.4,null,""]
[{"$nulls":4},"BYD6700HZEV2",4,6.655,26.62,null,""]
[{"$nulls":4},"BYD6810HZEV5",109,14.52,1582.68,null,""]
[{"$nulls":4},"BYD6810LZEV6",58,13.2,765.6,null,""]
[{"$nulls":4},"BYD6850HZEV2",178,14.52,2584.56,null,""]
[{"$nulls":4},"BYD6900HLEV1",13,13.2,171.6,null,""]
[null,null,2,"江苏九龙汽车制造有限公司","小计",847,null,8706.3194524,{"$f":"ROUND(H267,0)","v":8706},null,0,0,8706]
[{"$nulls":4},"HKL5040XXYBEV2",161,5.571,896.931,null,""]
[{"$nulls":4},"HKL5041XXYBEV1",219,5.60155,1226.73945,null,""]
[{"$nulls":4},"HKL6680GBEV",1,6.655,6.655,null,""]
[{"$nulls":4},"HKL6801GBEV",7,13.93455,97.54185,null,""]
[{"$nulls":4},"HKL6801GBEV2",135,13.93455,1881.16425,null,""]
[{"$nulls":4},"HKL6801GBEV3",101,13.54752,1368.29952,null,""]
[{"$nulls":4},"HKL6801GBEV6",76,14.4019524,1094.5483824,null,""]
[{"$nulls":4},"HKL6801GBEV7",147,14.52,2134.44,null,""]
[null,null,3,"江苏陆地方舟新能源车辆股份有限公司","小计",177,null,{"$f":"SUM(H277:H283)","v":1020.2572},{"$f":"ROUND(H276,0)","v":1020},null,0,0,1020]
[{"$nulls":4},"RQ5022XXYEVH9",28,2.8824,80.7072,null,""]
[{"$nulls":4},"RQ5022XXYEVH9",5,7.206,36.03,null,""]
[{"$nulls":4},"RQ5022XXYEVHF",1,7.336,7.336,null,""]
[{"$nulls":4},"RQ5022XXYEVHJ",3,7.206,21.618,null,""]
[{"$nulls":4},"RQ5026XXYEVH0",139,6.24,867.36,null,""]
[{"$nulls":4},"RQ5026XXYEVH0",1,7.206,7.206,null,""]
[{"$nulls":4},"RQ5026XXYEVH3",0,0,0,null,"核减9辆,原因为:现场核查不通过"]
[7,"江苏省",4,"金龙联合汽车工业(苏州)有限公司","小计",2349,null,35095.628644,{"$f":"ROUND(H284,0)","v":35096},null,3317,3317,31779]
[{"$nulls":4},"KLQ5022XXYEV1",26,2.4504,63.7104,null,""]
[{"$nulls":4},"KLQ5035XXYBEV",10,3.03675,30.3675,null,""]
[{"$nulls":4},"KLQ5041XXYBEV2",21,4.57208,96.01368,null,""]
[{"$nulls":4},"KLQ6109EV0N",18,30,540,null,""]
[{"$nulls":4},"KLQ6109GAEVN10",37,21.78,805.86,null,""]
[{"$nulls":4},"KLQ6109GAEVN11",87,21.665292,1884.880404,null,""]
[{"$nulls":4},"KLQ6109GAEVN5",1,18,18,null,""]
[{"$nulls":4},"KLQ6109GAEVN5",4,21,84,null,""]
[{"$nulls":4},"KLQ6109GAEVN6",32,21,672,null,""]
[{"$nulls":4},"KLQ6109GAEVN7",31,19.8,613.8,null,""]
[{"$nulls":4},"KLQ6109GAEVN7",53,21,1113,null,""]
[{"$nulls":4},"KLQ6109GAEVN8",38,21.78,827.64,null,""]
[{"$nulls":4},"KLQ6109GAEVN9",467,21.78,10171.26,null,""]
[{"$nulls":4},"KLQ6109GAEVW4",29,21.78,631.62,null,""]
[{"$nulls":4},"KLQ6109GAFCEV",5,50,250,null,""]
[{"$nulls":4},"KLQ6109GAHEVC5K",8,7.5,60,null,""]
[{"$nulls":4},"KLQ6109GAHEVC5K",1,10.5,10.5,null,""]
[{"$nulls":4},"KLQ6109GAHEVE5K1",44,5.124,225.456,null,""]
[{"$nulls":4},"KLQ6111HZEV0N",5,21.665292,108.32646,null,""]
[{"$nulls":4},"KLQ6111HZEV1N1",35,21.78,762.3,null,""]
[{"$nulls":4},"KLQ6115HZEV0X3",16,20.3112,324.9792,null,""]
[{"$nulls":4},"KLQ6115HZEV0X3",1,29.016,29.016,null,""]
[{"$nulls":4},"KLQ6115HZGEVN",14,21.78,304.92,null,""]
[{"$nulls":4},"KLQ6129GAEVN2",30,19.8,594,null,""]
[{"$nulls":4},"KLQ6129GAHEVC5K",12,10.5,126,null,""]
[{"$nulls":4},"KLQ6601GBEVN7",40,6.05,242,null,""]
[{"$nulls":4},"KLQ6601GBEVX6",42,6.3,264.6,null,""]
[{"$nulls":4},"KLQ6650GEVN2",307,6.655,2043.085,null,""]
[{"$nulls":4},"KLQ6800GEVN10",74,14.52,1074.48,null,""]
[{"$nulls":4},"KLQ6800GEVN3",4,14,56,null,""]
[{"$nulls":4},"KLQ6800GEVN4",8,14,112,null,""]
[{"$nulls":4},"KLQ6800GEVN5",19,14,266,null,""]
[{"$nulls":4},"KLQ6800GEVN7",92,14.52,1335.84,null,""]
[{"$nulls":4},"KLQ6800GEVN8",154,14.52,2236.08,null,""]
[{"$nulls":4},"KLQ6800GEVN9",118,14.52,1713.36,null,""]
[{"$nulls":4},"KLQ6812KAEV1N1",7,13.2,92.4,null,""]
[{"$nulls":4},"KLQ6812KAEV1N2",6,13.2,79.2,null,""]
[{"$nulls":4},"KLQ6812KAGEVN1",76,14.52,1103.52,null,""]
[{"$nulls":4},"KLQ6822EV0N1",9,13.2,118.8,null,""]
[{"$nulls":4},"KLQ6822GEVN1",44,14.52,638.88,null,""]
[{"$nulls":4},"KLQ6822GEVN2",4,14.52,58.08,null,""]
[{"$nulls":4},"KLQ6832GEVN1",113,13.2,1491.6,null,""]
[{"$nulls":4},"KLQ6850GAHEVC5K",97,4.5,436.5,null,""]
[{"$nulls":4},"KLQ6850GAHEVC5K",9,6.3,56.7,null,""]
[{"$nulls":4},"KLQ6850GAHEVE5K",5,6.2748,31.374,null,""]
[{"$nulls":4},"KLQ6850GEVN10",44,13.2,580.8,null,""]
[{"$nulls":4},"KLQ6850GEVN2",21,14,294,null,""]
[{"$nulls":4},"KLQ6850GEVN6",2,14,28,null,""]
[{"$nulls":4},"KLQ6850GEVN7",20,13.2,264,null,""]
[{"$nulls":4},"KLQ6850GEVN9",9,14.52,130.68,null,""]
[7,"江苏省",5,"南京金龙客车制造有限公司","小计",1642,null,{"$f":"SUM(H336:H401)","v":8533.74579},{"$f":"ROUND(H335,0)","v":8534},null,0,0,8534]
[{"$nulls":4},"NJL5022XXYBEV2",5,5.676,28.38,null,""]
[{"$nulls":4},"NJL5025XXYBEV",3,3.08775,9.26325,null,""]
[{"$nulls":4},"NJL5031XXYBEV",1,2.58384,2.58384,null,""]
[{"$nulls":4},"NJL5031XXYBEV1",7,3.57,24.99,null,""]
[{"$nulls":4},"NJL5031XXYBEV1",21,6.132,128.772,null,""]
[{"$nulls":4},"NJL5032XXYBEV",1,6.4596,6.4596,null,""]
[{"$nulls":4},"NJL5032XXYBEV1",46,2.4528,112.8288,null,""]
[{"$nulls":4},"NJL5032XXYBEV1",409,3.57,1460.13,null,""]
[{"$nulls":4},"NJL5032XXYBEV1",356,6.132,2182.992,null,""]
[{"$nulls":4},"NJL5032XXYBEV13",1,3.57,3.57,null,""]
[{"$nulls":4},"NJL5032XXYBEV13",108,6.132,662.256,null,""]
[{"$nulls":4},"NJL5032XXYBEV14",26,3.57,92.82,null,""]
[{"$nulls":4},"NJL5032XXYBEV15",27,3.7725,101.8575,null,""]
[{"$nulls":4},"NJL5032XXYBEV16",14,3.7725,52.815,null,""]
[{"$nulls":4},"NJL5032XXYBEV8",11,6.8268,75.0948,null,""]
[{"$nulls":4},"NJL5038XXYBEV3",5,4.3815,21.9075,null,""]
[{"$nulls":4},"NJL5038XXYBEV4",48,3.99,191.52,null,""]
[{"$nulls":4},"NJL5038XXYBEV5",9,3.915,35.235,null,""]
[{"$nulls":4},"NJL5040XXYBEV1",95,9.195,873.525,null,""]
[{"$nulls":4},"NJL5040XXYBEV22",20,7.514,150.28,null,""]
[{"$nulls":4},"NJL5040XXYBEV26",1,5.7725,5.7725,null,""]
[{"$nulls":4},"NJL5040XXYBEV28",3,5.7725,17.3175,null,""]
[{"$nulls":4},"NJL5040XXYBEV29",63,5.5385,348.9255,null,""]
[{"$nulls":4},"NJL6100BEV36",0,0,0,null,"需进一步核实后予以清算"]
[{"$nulls":4},"NJL6100BEV37",0,0,0,null,"需进一步核实后予以清算"]
[{"$nulls":4},"NJL6100BEV55",0,0,0,null,"需进一步核实后予以清算"]
[{"$nulls":4},"NJL6100EV2",0,0,0,null,"需进一步核实后予以清算"]
[{"$nulls":4},"NJL6100EV6",0,0,0,null,"需进一步核实后予以清算"]
[{"$nulls":4},"NJL6100EVG",0,0,0,null,"需进一步核实后予以清算"]
[{"$nulls":4},"NJL6100EVG2",0,0,0,null,"需进一步核实后予以清算"]
[{"$nulls":4},"NJL6100GSEV1",0,0,0,null,"需进一步核实后予以清算"]
[{"$nulls":4},"NJL6101EV",0,0,0,null,"需进一步核实后予以清算"]
[{"$nulls":4},"NJL6107BEV12",0,0,0,null,"需进一步核实后予以清算"]
[{"$nulls":4},"NJL6117BEV25",0,0,0,null,"需进一步核实后予以清算"]
[{"$nulls":4},"NJL6117EV2",0,0,0,null,"需进一步核实后予以清算"]
[{"$nulls":4},"NJL6117EV5",0,0,0,null,"需进一步核实后予以清算"]
[{"$nulls":4},"NJL6129BEV55",0,0,0,null,"需进一步核实后予以清算"]
[{"$nulls":4},"NJL6129BEV55",0,0,0,null,"需进一步核实后予以清算"]
[{"$nulls":4},"NJL6129EV1",0,0,0,null,"需进一步核实后予以清算"]
[{"$nulls":4},"NJL6129EV1",0,0,0,null,"需进一步核实后予以清算"]
[{"$nulls":4},"NJL6129EV4",0,0,0,null,"需进一步核实后予以清算"]
[{"$nulls":4},"NJL6420BEV4",23,4.95,113.85,null,""]
[{"$nulls":4},"NJL6420BEV5",339,5.4,1830.6,null,""]
[{"$nulls":4},"NJL6680EV2",0,0,0,null,"需进一步核实后予以清算"]
[{"$nulls":4},"NJL6802BEVG",0,0,0,null,"需进一步核实后予以清算"]
[{"$nulls":4},"NJL6802EV2",0,0,0,null,"需进一步核实后予以清算"]
[{"$nulls":4},"NJL6806BEV12",0,0,0,null,"需进一步核实后予以清算"]
[{"$nulls":4},"NJL6809BEV13",0,0,0,null,"需进一步核实后予以清算"]
[{"$nulls":4},"NJL6809BEV6",0,0,0,null,"需进一步核实后予以清算"]
[{"$nulls":4},"NJL6809EV1",0,0,0,null,"需进一步核实后予以清算"]
[{"$nulls":4},"NJL6809EV2",0,0,0,null,"需进一步核实后予以清算"]
[{"$nulls":4},"NJL6809EV2",0,0,0,null,"需进一步核实后予以清算"]
[{"$nulls":4},"NJL6809EV6",0,0,0,null,"需进一步核实后予以清算"]
[{"$nulls":4},"NJL6809EVG",0,0,0,null,"需进一步核实后予以清算"]
[{"$nulls":4},"NJL6809EVG1",0,0,0,null,"需进一步核实后予以清算"]
[{"$nulls":4},"NJL6859BEV40",0,0,0,null,"需进一步核实后予以清算"]
[{"$nulls":4},"NJL6859BEV46",0,0,0,null,"需进一步核实后予以清算"]
[{"$nulls":4},"NJL6859BEV46",0,0,0,null,"需进一步核实后予以清算"]
[{"$nulls":4},"NJL6859BEV47",0,0,0,null,"需进一步核实后予以清算"]
[{"$nulls":4},"NJL6859BEV49",0,0,0,null,"需进一步核实后予以清算"]
[7,"江苏省",5,"南京金龙客车制造有限公司","NJL6859BEV49",0,0,0,null,"需进一步核实后予以清算"]
[{"$nulls":4},"NJL6859EV1",0,0,0,null,"需进一步核实后予以清算"]
[{"$nulls":4},"NJL6859EV3",0,0,0,null,"需进一步核实后予以清算"]
[{"$nulls":4},"NJL6859EV7",0,0,0,null,"需进一步核实后予以清算"]
[{"$nulls":4},"NJL6859FCEV",0,0,0,null,"需进一步核实后予以清算"]
[{"$nulls":4},"NJL6859FCEV2",0,0,0,null,"需进一步核实后予以清算"]
[null,null,6,"南京汽车集团有限公司","小计",0,null,0,{"$f":"ROUND(H402,0)","v":0},null,0,0,0]
[{"$nulls":4},"NJ5047XXYCEV1",0,0,0,null,"需进一步核实后予以清算"]
[{"$nulls":4},"NJ5047XXYCEV3",0,0,0,null,"需进一步核实后予以清算"]
[{"$nulls":4},"NJ5047XXYCEV5",0,0,0,null,"需进一步核实后予以清算"]
[{"$nulls":4},"NJ5047XXYLCEV3",0,0,0,null,"需进一步核实后予以清算"]
[{"$nulls":4},"NJ5057XXYCEV7",0,0,0,null,"需进一步核实后予以清算"]
[{"$nulls":4},"NJ5057XXYCEV7",0,0,0,null,"需进一步核实后予以清算"]
[null,null,7,"扬州亚星客车股份有限公司","小计",1206,null,21049.6778,{"$f":"ROUND(H409,0)","v":21050},null,0,0,21050]
[{"$nulls":4},"JS6101GHBEV15",1,21,21,null,""]
[{"$nulls":4},"JS6101GHBEV17",12,20.9034,250.8408,null,""]
[{"$nulls":4},"JS6101GHBEV18",142,21,2982,null,""]
[{"$nulls":4},"JS6101GHBEV19",28,20.90186,585.25208,null,""]
[{"$nulls":4},"JS6101GHBEV26",15,18,270,null,""]
[{"$nulls":4},"JS6101GHBEV26",38,21,798,null,""]
[{"$nulls":4},"JS6108GHBEV10",6,21,126,null,""]
[{"$nulls":4},"JS6108GHBEV11",62,21,1302,null,""]
[{"$nulls":4},"JS6108GHBEV18",18,21.78,392.04,null,""]
[{"$nulls":4},"JS6108GHBEV20",4,19.8,79.2,null,""]
[{"$nulls":4},"JS6108GHBEV21",69,19.8,1366.2,null,""]
[{"$nulls":4},"JS6108GHBEV21",288,21.78,6272.64,null,""]
[{"$nulls":4},"JS6108GHBEV22",27,21.78,588.06,null,""]
[{"$nulls":4},"JS6108GHBEV23",13,19.2984,250.8792,null,""]
[{"$nulls":4},"JS6108GHEV16",10,10.5,105,null,""]
[{"$nulls":4},"JS6108GHEV17",8,10.5,84,null,""]
[{"$nulls":4},"JS6108GHEVC16",122,7.5,915,null,""]
[{"$nulls":4},"JS6111SHBEV",10,19.8,198,null,""]
[{"$nulls":4},"JS6128GHBEV15",14,21,294,null,""]
[{"$nulls":4},"JS6128GHBEV8",21,21,441,null,""]
[{"$nulls":4},"JS6128GHEV15",6,10.5,63,null,""]
[{"$nulls":4},"JS6128GHEVC12",53,7.5,397.5,null,""]
[{"$nulls":4},"JS6815GHBEV",46,12.36312,568.70352,null,""]
[{"$nulls":4},"JS6815GHBEV1",83,13.2,1095.6,null,""]
[{"$nulls":4},"JS6815GHBEV2",14,14.52,203.28,null,""]
[{"$nulls":4},"JS6818GHBEV7",1,13.8222,13.8222,null,""]
[{"$nulls":4},"JS6851GHBEV17",46,13.2,607.2,null,""]
[{"$nulls":4},"JS6851GHBEV19",11,13.2,145.2,null,""]
[{"$nulls":4},"JS6851GHBEV21",23,14.52,333.96,null,""]
[{"$nulls":4},"JS6851GHEVC3",1,6.3,6.3,null,""]
[{"$nulls":4},"YBL6111GHBEV",14,21,294,null,""]
[8,"浙江省","合计",null,null,25046,null,{"$f":"SUM(H442,H445)","v":132878.571},{"$f":"SUM(I442:I474)","v":132878},null,{"$f":"SUM(K442,K445)","v":74865},71244,61634]
[null,null,1,"威马汽车制造温州有限公司","小计",3467,null,20932.45,{"$f":"ROUND(H442,0)","v":20932},null,24553,20932,0]
[{"$nulls":4},"SZS6460A05BEV",3428,6.05,20739.4,null,""]
[{"$nulls":4},"SZS6460A06BEV",39,4.95,193.05,null,""]
[null,null,2,"浙江豪情汽车制造有限公司","小计",21579,null,{"$f":"SUM(H446:H474)","v":111946.12099999998},{"$f":"ROUND(H445,0)","v":111946},null,50312,50312,61634]
[{"$nulls":4},"HQ7002BEV04",1,3.08,3.08,null,""]
[{"$nulls":4},"HQ7002BEV04",8,4.4,35.2,null,""]
[{"$nulls":4},"HQ7002BEV05",152,3.388,514.976]
[{"$nulls":4},"HQ7002BEV05",11412,6.05,{"$f":"F449*G449","v":69042.59999999999},null,"核减21辆,原因为:不符合行驶里程数要求"]
[{"$nulls":4},"HQ7002BEV08",1732,3.388,{"$f":"F450*G450","v":5868.016},null,"5辆需进一步核实后予以清算"]
[{"$nulls":4},"HQ7002BEV08",496,4.84,{"$f":"F451*G451","v":2400.64},null,"核减2辆，原因为：不符合行驶里程数要求"]
[{"$nulls":4},"HQ7002BEV08",925,4.95,{"$f":"F452*G452","v":4578.75},null,"52辆需进一步核实后予以清算；核减2辆,原因为:不符合行驶里程数要求"]
[{"$nulls":4},"HQ7002BEV11",20,3.388,67.76,null,""]
[{"$nulls":4},"HQ7002BEV11",2,4.95,9.9,null,""]
[{"$nulls":4},"HQ7002BEV12",97,3.388,328.636]
[{"$nulls":4},"HQ7002BEV12",4693,4.95,{"$f":"F456*G456","v":23230.350000000002},null,"核减1辆，原因为：不符合行驶里程数要求"]
[{"$nulls":4},"HQ7002BEV15",155,5.445,{"$f":"F457*G457","v":843.975},null,"核减23辆，原因为：不符合行驶里程数要求"]
[8,"浙江省",2,"浙江豪情汽车制造有限公司","HQ7002BEV35",1,6.05,6.05]
[{"$nulls":4},"HQ7002BEV36",178,6.05,1076.9,null,""]
[{"$nulls":4},"HQ7152PHEV02",2,2.2,4.4,null,""]
[{"$nulls":4},"HQ7152PHEV05",14,2.2,30.8,null,""]
[{"$nulls":4},"JL6453PHEV08",1253,2.2,2756.6,null,""]
[{"$nulls":4},"JL7001BEV33",1,3.6,3.6,null,""]
[{"$nulls":4},"JL7001BEV35",77,2.52,194.04,null,""]
[{"$nulls":4},"JL7001BEV38",2,2.52,5.04,null,""]
[{"$nulls":4},"JL7001BEV45",250,2.52,630,null,""]
[{"$nulls":4},"JL7001BEV45",10,3.6,36,null,""]
[{"$nulls":4},"JL7001BEV46",1,2.52,2.52,null,""]
[{"$nulls":4},"JL7001BEV47",64,2.52,161.28,null,""]
[{"$nulls":4},"JL7001BEV47",23,3.6,82.8,null,""]
[{"$nulls":4},"JL7001BEV57",6,2.772,16.632,null,""]
[{"$nulls":4},"JL7001BEV57",1,3.96,3.96,null,""]
[{"$nulls":4},"JL7001BEV58",2,3.388,6.776,null,""]
[{"$nulls":4},"JL7001BEV58",1,4.84,4.84,null,""]
[9,"宁波市","合计",null,null,1269,null,4159.912,{"$f":"SUM(I476:I500)","v":4160},null,0,0,4160]
[null,null,1,"浙江吉利汽车有限公司","小计",1269,null,{"$f":"SUM(H477:H500)","v":4159.912},{"$f":"ROUND(H476,0)","v":4160},null,0,0,4160]
[{"$nulls":4},"MR7002BEV03",3,2.7,8.1,null,""]
[{"$nulls":4},"MR7002BEV03",286,3.08,880.88,null,"核减1辆,原因为:未按有关要求上传运行数据"]
[{"$nulls":4},"MR7002BEV03",19,4.4,83.6,null,""]
[{"$nulls":4},"MR7152PHEV01",26,1.68,43.68,null,""]
[{"$nulls":4},"MR7152PHEV01",53,2.2,116.6,null,""]
[{"$nulls":4},"MR7152PHEV01",9,2.4,21.6,null,""]
[{"$nulls":4},"MR7153PHEV01",249,2.2,547.8,null,"核减1辆,原因为:不符合行驶里程数要求"]
[{"$nulls":4},"SMA7000BEV05",34,2.772,94.248,null,""]
[{"$nulls":4},"SMA7000BEV20",6,2.64,{"$f":"F485*G485","v":15.84},null,"349辆需进一步核实后予以清算；核减24辆,原因为:未按有关要求上传运行数据"]
[{"$nulls":4},"SMA7001BEV23",37,2.52,93.24,null,""]
[{"$nulls":4},"SMA7001BEV23",2,3.6,7.2,null,""]
[{"$nulls":4},"SMA7001BEV25",67,2.772,{"$f":"F488*G488","v":185.724},null,"17辆需进一步核实后予以清算"]
[{"$nulls":4},"SMA7001BEV40",11,2.64,{"$f":"F489*G489","v":29.040000000000003},null,"6辆需进一步核实后予以清算；核减7辆,原因为:未按有关要求上传运行数据"]
[{"$nulls":4},"SMA7001BEV41",13,2.64,{"$f":"F490*G490","v":34.32},null,"3辆需进一步核实后予以清算；核减25辆,原因为:未按有关要求上传运行数据"]
[{"$nulls":4},"SMA7001BEV48",43,4.95,212.85,null,"核减24辆,原因为:未按有关要求上传运行数据"]
[{"$nulls":4},"SMA7001BEV49",293,4.95,{"$f":"F492*G492","v":1450.3500000000001},null,"43辆需进一步核实后予以清算；核减204辆,原因为:未按有关要求上传运行数据"]
[{"$nulls":4},"SMA7001BEV61",39,2.52,98.28,null,""]
[{"$nulls":4},"SMA7001BEV66",5,2.52,12.6,null,""]
[{"$nulls":4},"SMA7001BEV66",1,3.6,3.6,null,""]
[{"$nulls":4},"SMA7001BEV73",2,2.52,5.04,null,""]
[{"$nulls":4},"SMA7001BEV73",2,3.6,7.2,null,""]
[{"$nulls":4},"SMA7001BEV75",24,3.388,81.312,null,""]
[{"$nulls":4},"SMA7001BEV75",1,4.84,4.84,null,""]
[{"$nulls":4},"SMA7001BEV76",44,2.772,121.968,null,""]
[10,"安徽省","合计",null,null,20219,null,{"$f":"SUM(H502,H546,H586,H606)","v":98661.80470800001},{"$f":"SUM(I502:I616)","v":98662},null,{"$f":"SUM(K502,K546,K586,K606)","v":13034},{"$f":"SUM(L502,L546,L586,L606)","v":12431},{"$f":"SUM(M502,M546,M586,M606)","v":86231}]
[null,null,1,"安徽安凯汽车股份有限公司","小计",1963,null,28040.089958,{"$f":"ROUND(H502,0)","v":28040},null,0,0,{"$f":"I502-L502","v":28040}]
[{"$nulls":4},"HFF6100G03CHEV12",35,5.0352,176.232,null,""]
[{"$nulls":4},"HFF6100G03CHEV12",8,10.5,84,null,""]
[{"$nulls":4},"HFF6100G03CHEV13",92,5.0352,463.2384,null,""]
[{"$nulls":4},"HFF6100G03EV-61",332,18,5976,null,""]
[{"$nulls":4},"HFF6100G03EV-61",9,21,189,null,""]
[{"$nulls":4},"HFF6100G03EV-8",43,21.78,936.54,null,""]
[{"$nulls":4},"HFF6104G03EV21",1,30,30,null,""]
[{"$nulls":4},"HFF6104G03EV42",6,21,126,null,""]
[{"$nulls":4},"HFF6104G03EV6",19,16.95744,322.19136,null,""]
[{"$nulls":4},"HFF6109G03EV14",36,21.78,784.08,null,""]
[{"$nulls":4},"HFF6109G03EV22",183,21.78,3985.74,null,""]
[{"$nulls":4},"HFF6109G03EV3",19,20.32128,386.10432,null,""]
[{"$nulls":4},"HFF6109G03EV31",17,21,357,null,""]
[{"$nulls":4},"HFF6119GEV2",21,21.78,457.38,null,""]
[{"$nulls":4},"HFF6124G03EV31",32,19.8,633.6,null,""]
[{"$nulls":4},"HFF6124GS03EV",24,19.8,475.2,null,""]
[{"$nulls":4},"HFF6124GS03EV",22,21,462,null,""]
[{"$nulls":4},"HFF6129G03EV1",40,19.8,792,null,""]
[{"$nulls":4},"HFF6129G03EV-46",36,14,504,null,""]
[{"$nulls":4},"HFF6650GEV1",227,6.05,1373.35,null,""]
[{"$nulls":4},"HFF6650GEV1",1,6.3,6.3,null,""]
[{"$nulls":4},"HFF6650GEV3",47,6.655,312.785,null,""]
[{"$nulls":4},"HFF6650GEV31",15,6.655,99.825,null,""]
[{"$nulls":4},"HFF6800G03EV62",63,14,882,null,""]
[{"$nulls":4},"HFF6800G03EV63",18,14,252,null,""]
[{"$nulls":4},"HFF6800G03EV64",6,14.52,87.12,null,""]
[{"$nulls":4},"HFF6800G03EV75",29,13.2,382.8,null,""]
[{"$nulls":4},"HFF6800G03EV75",25,14,350,null,""]
[{"$nulls":4},"HFF6800G03EV76",59,13.599432,802.366488,null,""]
[{"$nulls":4},"HFF6800G03EV77",135,14.52,1960.2,null,""]
[{"$nulls":4},"HFF6800G03EV8",7,11.0592,77.4144,null,""]
[{"$nulls":4},"HFF6800G03EV8",53,13.93455,738.53115,null,""]
[{"$nulls":4},"HFF6800G03EV82",53,14.52,769.56,null,""]
[{"$nulls":4},"HFF6803KEVB1",14,13.2,184.8,null,""]
[{"$nulls":4},"HFF6803KEVB1",1,14,14,null,""]
[{"$nulls":4},"HFF6829GEV",1,14.52,14.52,null,""]
[{"$nulls":4},"HFF6850G03CHEV1",44,3.12576,137.53344,null,""]
[{"$nulls":4},"HFF6850G03CHEV1",6,6.3,37.8,null,""]
[{"$nulls":4},"HFF6850G03CHEV2",22,3.9072,85.9584,null,""]
[{"$nulls":4},"HFF6853G03EV1",41,14,574,null,""]
[{"$nulls":4},"HFF6854G03EV",37,14.52,537.24,null,""]
[{"$nulls":4},"HFF6855G03EV",83,14.52,1205.16,null,""]
[{"$nulls":4},"HFF6855G03EV1",1,14.52,14.52,null,""]
[null,null,2,"安徽江淮汽车集团股份有限公司","小计",6422,null,{"$f":"SUM(H547:H585)","v":27598.534610000006},{"$f":"ROUND(H546,0)","v":27599},null,0,0,27599]
[{"$nulls":4},"HFC5030XXYEV1",117,2.41284,282.30228,null,""]
[{"$nulls":4},"HFC5031XXYEV2",10,4.61875,46.1875,null,""]
[{"$nulls":4},"HFC5031XXYEV3",74,4.713715,348.81491,null,""]
[{"$nulls":4},"HFC5041XXYEV1",0,0,0,null,"需进一步核实后予以清算"]
[{"$nulls":4},"HFC5041XXYEV5",241,6.9503,1675.0223,null,""]
[{"$nulls":4},"HFC5041XXYEV6",26,6.9503,180.7078,null,""]
[{"$nulls":4},"HFC5041XXYP73EV1C5",107,4.07776,436.32032,null,""]
[{"$nulls":4},"HFC5043XXYEV1",70,7.09005,496.3035,null,""]
[{"$nulls":4},"HFC5049XXYEV1H",39,4.07776,159.03264,null,""]
[{"$nulls":4},"HFC5049XXYEV3H",130,6.7904,882.752,null,""]
[{"$nulls":4},"HFC5049XXYEV4H",12,7.07328,84.87936,null,""]
[{"$nulls":4},"HFC6502ECEV1-W",432,4.5,1944,null,""]
[{"$nulls":4},"HFC6502ECEV2-W",229,4.5,1030.5,null,""]
[{"$nulls":4},"HFC6502ECEV-W",14,3.388,47.432,null,""]
[{"$nulls":4},"HFC6502ECEV-W",906,4.5,4077,null,""]
[{"$nulls":4},"HFC7000BEV",17,2.7,45.9,null,""]
[{"$nulls":4},"HFC7000BEV1",2,3.388,6.776,null,""]
[{"$nulls":4},"HFC7000BEV1",10,4.5,45,null,""]
[{"$nulls":4},"HFC7000BEV2",1,3.388,3.388,null,""]
[{"$nulls":4},"HFC7000BEV2",16,5,80,null,""]
[10,"安徽省",2,"安徽江淮汽车集团股份有限公司","HFC7000BEV5",780,5,3900,null,""]
[{"$nulls":4},"HFC7000BEV6",9,5,45,null,""]
[{"$nulls":4},"HFC7000EWEV3",619,4.95,{"$f":"F569*G569","v":3064.05},null,"1辆需进一步核实后予以清算"]
[{"$nulls":4},"HFC7000W3EV",472,2.52,1189.44,null,""]
[{"$nulls":4},"HFC7000W3EV",14,3.6,50.4,null,""]
[{"$nulls":4},"HFC7000WEV",46,2.52,115.92,null,""]
[{"$nulls":4},"HFC7000WEV",29,3.6,104.4,null,""]
[{"$nulls":4},"HFC7000WEV1",1428,3.4,{"$f":"F574*G574","v":4855.2},null,"6辆需进一步核实后予以清算"]
[{"$nulls":4},"HFC7001A1EV",59,2.52,148.68,null,""]
[{"$nulls":4},"HFC7001AEV2",8,3.4,27.2,null,""]
[{"$nulls":4},"HFC7001E1AEV",0,0,0,null,"核减39辆,原因为:驱动电机型号与推荐目录不一致"]
[{"$nulls":4},"HFC7001EAEV2",9,3.388,30.492,null,""]
[{"$nulls":4},"HFC7001EAEV2",16,3.4,54.4,null,""]
[{"$nulls":4},"HFC7001EAEV2",5,4.84,24.2,null,""]
[{"$nulls":4},"HFC7001EAEV4",18,3.388,60.984,null,""]
[{"$nulls":4},"HFC7001EAEV4",1,3.4,3.4,null,""]
[{"$nulls":4},"HFC7001EAEV4",52,4.5,234,null,""]
[{"$nulls":4},"HFC7001EAEV5",403,4.5,1813.5,null,""]
[{"$nulls":4},"HFC7001EAEV6",1,4.95,4.95,null,""]
[null,null,3,"奇瑞汽车股份有限公司","小计",8102,null,30591.81264,{"$f":"ROUND(H586,0)","v":30592},null,0,0,30592]
[{"$nulls":4},"SQR5023XXYBEVK06",75,1.9968,149.76,null,""]
[{"$nulls":4},"SQR5024XXYBEVK06",156,2.28844,356.99664,null,""]
[{"$nulls":4},"SQR7000BEVJ601",54,3.388,182.952,null,""]
[{"$nulls":4},"SQR7000BEVJ601",141,4.5,634.5,null,""]
[{"$nulls":4},"SQR7000BEVJ602",80,5.5,440,null,""]
[{"$nulls":4},"SQR7000BEVJ604",84,5.5,462,null,""]
[{"$nulls":4},"SQR7000BEVJ691",6,3.388,20.328,null,""]
[{"$nulls":4},"SQR7000BEVJ691",144,4.5,648,null,""]
[{"$nulls":4},"SQR7000BEVJ692",2,5.5,11,null,""]
[{"$nulls":4},"SQR7000BEVJ694",120,5.5,660,null,""]
[{"$nulls":4},"SQR7000BEVJ72",2,2.52,5.04,null,""]
[{"$nulls":4},"SQR7000BEVJ72",1,3.6,3.6,null,""]
[{"$nulls":4},"SQR7000BEVJ721",1844,3.388,6247.472,null,""]
[{"$nulls":4},"SQR7000BEVJ721",660,3.4,2244,null,""]
[{"$nulls":4},"SQR7000BEVJ725",72,3.388,243.936,null,""]
[{"$nulls":4},"SQR7000BEVJ725",3309,3.74,12375.66,null,""]
[{"$nulls":4},"SQR7000BEVJ726",61,4.56,278.16,null,""]
[{"$nulls":4},"SQR7000BEVJ728",1074,4.392,4717.008,null,""]
[{"$nulls":4},"SQR7000BEVJ729",217,4.2,911.4,null,""]
[null,null,4,"奇瑞商用车(安徽)有限公司","小计",3732,null,12431.3675,{"$f":"ROUND(H606,0)","v":12431},null,13034,12431,0]
[{"$nulls":4},"SQR5020XXYBEVK061",131,2.8575,374.3325,null,""]
[{"$nulls":4},"SQR5021XXYBEVK061",2409,3.2952,7938.1368,null,""]
[{"$nulls":4},"SQR5025XXYBEVK06",412,3.3132,1365.0384,null,""]
[{"$nulls":4},"SQR5026XXYBEVK06",615,3.324,2044.26,null,""]
[{"$nulls":4},"SQR5029XXYBEVK06",8,3.3429,26.7432,null,""]
[{"$nulls":4},"SQR5031XXYBEVH08",43,3.3429,143.7447,null,""]
[{"$nulls":4},"SQR5042XXYBEVH16",1,6.5239,6.5239,null,""]
[{"$nulls":4},"SQR6440BEVK081",1,3.388,3.388,null,""]
[{"$nulls":4},"SQR6460BEVK09",56,4.5,252,null,""]
[{"$nulls":4},"SQR6461BEVK091",56,4.95,277.2,null,""]
[11,"福建省","合计",null,null,363,null,1513.962,{"$f":"SUM(I618:I630)","v":1514},null,0,0,1514]
[null,null,1,"福建新龙马汽车股份有限公司","小计",363,null,1513.962,{"$f":"ROUND(H618,0)","v":1514},null,0,0,1514]
[{"$nulls":4},"FJ5020XXYBEVA12",83,2.1024,174.4992,null,""]
[{"$nulls":4},"FJ5020XXYBEVA12",48,5.256,252.288,null,""]
[{"$nulls":4},"FJ5020XXYBEVA15",1,5.376,5.376,null,""]
[{"$nulls":4},"FJ5020XXYBEVA16",1,5.256,5.256,null,""]
[{"$nulls":4},"FJ5020XXYBEVA17",10,2.1408,21.408,null,""]
[{"$nulls":4},"FJ5020XXYBEVA17",3,5.352,16.056,null,""]
[{"$nulls":4},"FJ5020XXYBEVA19",10,2.1648,21.648,null,""]
[{"$nulls":4},"FJ5020XXYBEVA19",13,5.412,70.356,null,""]
[{"$nulls":4},"FJ5020XXYBEVA22",36,3.0975,111.51,null,""]
[{"$nulls":4},"FJ5020XXYBEVA5",2,2.0544,4.1088,null,""]
[{"$nulls":4},"FJ5020XXYBEVA5",30,5.136,154.08,null,""]
[{"$nulls":4},"FJ5020XXYBEVA6",126,5.376,677.376,null,""]
[12,"厦门市","合计",null,null,5983,null,85635.07511,{"$f":"SUM(I632:I762)","v":85635},null,{"$f":"SUM(K632,K695)","v":0},0,85635]
[null,null,1,"厦门金龙联合汽车工业有限公司","小计",2791,null,44386.2301,{"$f":"ROUND(H632,0)","v":44386},null,0,0,44386]
[{"$nulls":4},"XMQ5030XXYBEVS12",177,3.939,697.203,null,""]
[{"$nulls":4},"XMQ6106AGBEVL16",95,19.8,1881,null,""]
[{"$nulls":4},"XMQ6106AGBEVL17",15,19.8,297,null,""]
[{"$nulls":4},"XMQ6106AGBEVL18",4,21,84,null,""]
[{"$nulls":4},"XMQ6106AGBEVL19",36,19.8,712.8,null,""]
[{"$nulls":4},"XMQ6106AGBEVL22",60,21.78,1306.8,null,""]
[{"$nulls":4},"XMQ6106AGBEVL24",41,21.78,892.98,null,""]
[{"$nulls":4},"XMQ6106AGBEVL25",290,21.78,6316.2,null,""]
[{"$nulls":4},"XMQ6106AGBEVL26",13,21.78,283.14,null,""]
[{"$nulls":4},"XMQ6106AGBEVL4",6,20.90186,125.41116,null,""]
[{"$nulls":4},"XMQ6106AGBEVL6",39,21,819,null,""]
[{"$nulls":4},"XMQ6106AGBEVL6",4,30,120,null,""]
[{"$nulls":4},"XMQ6106AGBEVL8",101,21,2121,null,""]
[{"$nulls":4},"XMQ6106AGBEVM1",5,20.90186,104.5093,null,""]
[{"$nulls":4},"XMQ6106AGBEVM2",50,21.78,1089,null,""]
[{"$nulls":4},"XMQ6106AGBEVM3",125,21.78,2722.5,null,""]
[{"$nulls":4},"XMQ6106AGCHEVD57",2,10.5,21,null,""]
[{"$nulls":4},"XMQ6106AGCHEVN512",52,7.5,390,null,""]
[{"$nulls":4},"XMQ6106AGCHEVN512",2,10.5,21,null,""]
[{"$nulls":4},"XMQ6110BCBEVL10",1,21,21,null,""]
[{"$nulls":4},"XMQ6110BCBEVL11",5,18,90,null,""]
[{"$nulls":4},"XMQ6110BCBEVL11",4,21,84,null,""]
[{"$nulls":4},"XMQ6110BCBEVL14",17,21.78,370.26,null,""]
[{"$nulls":4},"XMQ6110BCBEVL8",4,20.90186,83.60744,null,""]
[{"$nulls":4},"XMQ6110BGBEVL5",1,18,18,null,""]
[{"$nulls":4},"XMQ6110BGBEVL7",1,19.8,19.8,null,""]
[{"$nulls":4},"XMQ6110BGBEVL8",32,21.78,696.96,null,""]
[{"$nulls":4},"XMQ6120BGPHEVD51",2,10.4013,20.8026,null,""]
[{"$nulls":4},"XMQ6127AGBEVL3",178,21,3738,null,""]
[{"$nulls":4},"XMQ6127AGBEVL4",19,21,399,null,""]
[{"$nulls":4},"XMQ6127AGBEVL7",89,19.8,1762.2,null,""]
[{"$nulls":4},"XMQ6127AGBEVM1",70,19.8,1386,null,""]
[{"$nulls":4},"XMQ6127AGCHEVD56",3,5.6448,16.9344,null,""]
[{"$nulls":4},"XMQ6127AGCHEVD58",7,10.4496,73.1472,null,""]
[{"$nulls":4},"XMQ6127AGCHEVN512",44,7.5,330,null,""]
[{"$nulls":4},"XMQ6127AGCHEVN512",21,10.5,220.5,null,""]
[{"$nulls":4},"XMQ6127BYBEVL",5,21,105,null,""]
[{"$nulls":4},"XMQ6650AGBEVL1",18,6.05,108.9,null,""]
[{"$nulls":4},"XMQ6650AGBEVL2",81,6.655,539.055,null,""]
[{"$nulls":4},"XMQ6802AGBEVL11",4,14,56,null,""]
[{"$nulls":4},"XMQ6802AGBEVL12",62,14.52,900.24,null,""]
[{"$nulls":4},"XMQ6802AGBEVL14",150,14.52,2178,null,""]
[{"$nulls":4},"XMQ6802AGBEVL2",29,14,406,null,""]
[{"$nulls":4},"XMQ6802AGBEVL2",6,20,120,null,""]
[{"$nulls":4},"XMQ6802AGBEVL4",65,14,910,null,""]
[{"$nulls":4},"XMQ6802AGBEVL5",33,14,462,null,""]
[{"$nulls":4},"XMQ6802AGBEVL9",22,14,308,null,""]
[{"$nulls":4},"XMQ6806BGBEVL",73,14,1022,null,""]
[{"$nulls":4},"XMQ6806BGBEVL2",33,13.2,435.6,null,""]
[{"$nulls":4},"XMQ6806BYBEVL",1,14,14,null,""]
[{"$nulls":4},"XMQ6821CGBEVL3",48,14.52,696.96,null,""]
[{"$nulls":4},"XMQ6821CYBEVL3",10,14.52,145.2,null,""]
[{"$nulls":4},"XMQ6850AGBEVL14",148,13.2,1953.6,null,""]
[{"$nulls":4},"XMQ6850AGBEVL15",17,14.52,246.84,null,""]
[{"$nulls":4},"XMQ6850AGBEVL16",62,14.52,900.24,null,""]
[{"$nulls":4},"XMQ6850AGBEVL4",124,14,1736,null,""]
[{"$nulls":4},"XMQ6850AGBEVL8",24,14,336,null,""]
[{"$nulls":4},"XMQ6850AGCHEVD55",48,3.6,172.8,null,""]
[{"$nulls":4},"XMQ6850AGCHEVN56",34,4.5,153,null,""]
[{"$nulls":4},"XMQ6850BGBEVM1",2,14,28,null,""]
[{"$nulls":4},"XMQ6850BGBEVM2",44,14.52,638.88,null,""]
[{"$nulls":4},"XMQ6850BGBEVM3",33,14.52,479.16,null,""]
[12,"厦门市",2,"厦门金龙旅行车有限公司","小计",3192,null,41248.84501,{"$f":"ROUND(H695,0)","v":41249},null,0,0,41249]
[{"$nulls":4},"XML5036XXYEVD02",1,6.42,6.42,null,""]
[{"$nulls":4},"XML5036XXYEVL0",10,2.688,26.88,null,""]
[{"$nulls":4},"XML5036XXYEVL01",45,4.00425,180.19125,null,""]
[{"$nulls":4},"XML5036XXYEVL02",34,4.00425,136.1445,null,""]
[{"$nulls":4},"XML5036XXYEVL03",710,4.15855,2952.5705,null,""]
[{"$nulls":4},"XML5036XXYEVW01",2,3.66975,7.3395,null,""]
[{"$nulls":4},"XML6102JEVW0",1,21,21,null,""]
[{"$nulls":4},"XML6102JEVW01",50,21,1050,null,""]
[{"$nulls":4},"XML6102JEVW02",39,19.8,772.2,null,""]
[{"$nulls":4},"XML6102JEVW02",22,21,462,null,""]
[{"$nulls":4},"XML6102JEVW0C",26,21,546,null,""]
[{"$nulls":4},"XML6102JEVY0",36,19.00536,684.19296,null,""]
[{"$nulls":4},"XML6102JEVY0",43,21,903,null,""]
[{"$nulls":4},"XML6102JEVY0C",38,19.8,752.4,null,""]
[{"$nulls":4},"XML6105JEVD0C1",228,21,4788,null,""]
[{"$nulls":4},"XML6105JEVJ0C1",33,19.8,653.4,null,""]
[{"$nulls":4},"XML6105JEVJ0C3",126,21.78,2744.28,null,""]
[{"$nulls":4},"XML6105JEVJ0C5",26,21.78,566.28,null,"核减1辆,原因为:不符合行驶里程数要求"]
[{"$nulls":4},"XML6105JEVN0C",2,21,42,null,""]
[{"$nulls":4},"XML6105JEVW0C1",272,21,5712,null,""]
[{"$nulls":4},"XML6105JEVW0C8",40,19.8,792,null,""]
[{"$nulls":4},"XML6105JEVY0C",33,19.8,653.4,null,""]
[{"$nulls":4},"XML6105JEVY0C2",8,19.8,158.4,null,""]
[{"$nulls":4},"XML6105JHEVG5C6",48,10.5,504,null,""]
[{"$nulls":4},"XML6105JHEVG5CN6",11,6.3945,70.3395,null,""]
[{"$nulls":4},"XML6105JHEVG5CN7",28,10.5,294,null,""]
[{"$nulls":4},"XML6105JHEVG5CN7",3,15,45,null,""]
[{"$nulls":4},"XML6105JHEVL5C",34,5.1252,174.2568,null,""]
[{"$nulls":4},"XML6105JHEVL5C",4,10.5,42,null,""]
[{"$nulls":4},"XML6125JEVY0C1",20,19.8,396,null,""]
[{"$nulls":4},"XML6125JEVY0C2",46,19.8,910.8,null,""]
[{"$nulls":4},"XML6125JHEVG5CN1",1,3.9,3.9,null,""]
[{"$nulls":4},"XML6125JHEVG5CN5",95,7.47,709.65,null,""]
[{"$nulls":4},"XML6606JEV20C",1,6.05,6.05,null,""]
[{"$nulls":4},"XML6606JEV60C",32,6.05,193.6,null,""]
[{"$nulls":4},"XML6700JEVD0C",2,6.3,12.6,null,""]
[{"$nulls":4},"XML6700JEVW0",7,6.05,42.35,null,""]
[{"$nulls":4},"XML6700JEVW0C",22,6.05,133.1,null,""]
[{"$nulls":4},"XML6805JEVD0C",62,14,868,null,""]
[{"$nulls":4},"XML6805JEVJ0C2",5,13.2,66,null,""]
[{"$nulls":4},"XML6805JEVL0C",1,11.148,11.148,null,""]
[{"$nulls":4},"XML6805JEVW0C",79,14,1106,null,""]
[{"$nulls":4},"XML6805JEVY0C",1,14,14,null,""]
[{"$nulls":4},"XML6805JEVY0C1",138,14.52,2003.76,null,"核减4辆,原因为:不符合行驶里程数要求"]
[{"$nulls":4},"XML6805JEVY0C2",34,14.52,493.68,null,""]
[{"$nulls":4},"XML6809JEVD0",33,14,462,null,"核减2辆,原因为:不符合行驶里程数要求"]
[{"$nulls":4},"XML6809JEVD0C",2,14,28,null,""]
[{"$nulls":4},"XML6809JEVD0C1",1,14,14,null,""]
[{"$nulls":4},"XML6809JEVD0C2",1,14,14,null,""]
[{"$nulls":4},"XML6809JEVJ0C1",30,14.52,435.6,null,""]
[{"$nulls":4},"XML6809JEVW01",32,13.2,422.4,null,""]
[{"$nulls":4},"XML6809JEVW01",25,14,350,null,""]
[{"$nulls":4},"XML6809JEVW0C",61,14,854,null,"核减15辆,原因为:不符合行驶里程数要求"]
[{"$nulls":4},"XML6809JEVW0C1",28,13.2,369.6,null,""]
[{"$nulls":4},"XML6809JEVW0C1",3,14,42,null,""]
[{"$nulls":4},"XML6827JEVY0C",17,14.52,246.84,null,""]
[{"$nulls":4},"XML6855JEVS0C",17,13.2,224.4,null,""]
[{"$nulls":4},"XML6855JEVW0C",39,14,546,null,""]
[{"$nulls":4},"XML6855JEVW0C3",101,14,1414,null,""]
[{"$nulls":4},"XML6855JEVW0C5",2,13.2,26.4,null,""]
[{"$nulls":4},"XML6855JEVW0C5",2,14,28,null,""]
[12,"厦门市",2,"厦门金龙旅行车有限公司","XML6855JEVW0C6",82,13.2,1082.4,null,"核减1辆,原因为:不符合行驶里程数要求"]
[{"$nulls":4},"XML6855JEVY0C",13,13.2,171.6,null,""]
[{"$nulls":4},"XML6855JEVY0C1",57,13.2,752.4,null,""]
[{"$nulls":4},"XML6855JEVY0C2",24,14.52,348.48,null,""]
[{"$nulls":4},"XML6855JHEVC5C",22,3.186,70.092,null,""]
[{"$nulls":4},"XML6855JHEVC5C",101,6.3,636.3,null,""]
[13,"江西省","合计",null,null,0,null,0,{"$f":"SUM(I764:I810)","v":0},null,{"$f":"SUM(K764,K788,K794,K797)","v":10356},0,0]
[null,null,1,"江铃控股有限公司","小计",0,null,0,{"$f":"ROUND(H764,0)","v":0},null,835,0,0]
[{"$nulls":4},"JX70014BEV",0,0,0,null,"核减23辆,原因为:不满足申报数量要求"]
[{"$nulls":4},"JX70015BEV",0,0,0,null,"核减209辆,原因为:不满足申报数量要求"]
[{"$nulls":4},"JX70016BEV",0,0,0,null,"核减2辆,原因为:不满足申报数量要求"]
[{"$nulls":4},"JX70016BEV",0,0,0,null,"核减78辆,原因为:不满足申报数量要求"]
[{"$nulls":4},"JX70016BEV",0,0,0,null,"核减6辆,原因为:不满足申报数量要求"]
[{"$nulls":4},"JX70019BEV",0,0,0,null,"核减10辆,原因为:不满足申报数量要求"]
[{"$nulls":4},"JX70021BEV",0,0,0,null,"核减8辆,原因为:不满足申报数量要求"]
[{"$nulls":4},"JX70021BEV",0,0,0,null,"核减14辆,原因为:不满足申报数量要求"]
[{"$nulls":4},"JX70022BEV",0,0,0,null,"核减123辆,原因为:不满足申报数量要求"]
[{"$nulls":4},"JX70023BEV",0,0,0,null,"核减3辆,原因为:不满足申报数量要求"]
[{"$nulls":4},"JX70023BEV",0,0,0,null,"核减184辆,原因为:不满足申报数量要求"]
[{"$nulls":4},"JX70026BEV",0,0,0,null,"核减39辆,原因为:不满足申报数量要求"]
[{"$nulls":4},"JX70027BEV",0,0,0,null,"核减269辆,原因为:不满足申报数量要求"]
[{"$nulls":4},"JX70028BEV",0,0,0,null,"核减17辆,原因为:不满足申报数量要求"]
[{"$nulls":4},"JX70029BEV",0,0,0,null,"核减89辆,原因为:不满足申报数量要求"]
[{"$nulls":4},"JX70031BEV",0,0,0,null,"核减555辆,原因为:不满足申报数量要求"]
[{"$nulls":4},"JX70032BEV",0,0,0,null,"核减4辆,原因为:不满足申报数量要求"]
[{"$nulls":4},"JX70033BEV",0,0,0,null,"核减7辆,原因为:不满足申报数量要求"]
[{"$nulls":4},"JX70034BEV",0,0,0,null,"核减428辆,原因为:不满足申报数量要求"]
[{"$nulls":4},"JX70035BEV",0,0,0,null,"核减128辆,原因为:不满足申报数量要求"]
[{"$nulls":4},"JX70036BEV",0,0,0,null,"核减481辆,原因为:不满足申报数量要求"]
[{"$nulls":4},"JX70038BEV",0,0,0,null,"核减1187辆,原因为:不满足申报数量要求"]
[{"$nulls":4},"JX7005BEV",0,0,0,null,"核减205辆,原因为:不满足申报数量要求"]
[null,null,2,"江铃汽车股份有限公司","小计",0,null,0,{"$f":"ROUND(H788,0)","v":0},null,3869,0,0]
[{"$nulls":4},"JX5043XLCTG25BEV",0,0,0,null,"核减5辆,原因为:不满足申报数量要求"]
[{"$nulls":4},"JX5043XXYTG25BEV",0,0,0,null,"核减166辆,原因为:不满足申报数量要求"]
[{"$nulls":4},"JX5043XXYTGA25BEV",0,0,0,null,"核减22辆,原因为:不满足申报数量要求"]
[{"$nulls":4},"JX5043XXYTGD25BEV",0,0,0,null,"核减604辆,原因为:不满足申报数量要求"]
[{"$nulls":4},"JX5063XXYTG25BEV",0,0,0,null,"核减2辆,原因为:不满足申报数量要求"]
[null,null,3,"江西昌河汽车有限责任公司","小计",0,null,0,{"$f":"ROUND(H794,0)","v":0},null,5410,0,0]
[{"$nulls":4},"CH7002BEVH2CB",0,0,0,null,"核减47辆,原因为:不满足申报数量要求"]
[{"$nulls":4},"CH7005BEVC3CB",0,0,0,null,"核减20辆,原因为:不满足申报数量要求"]
[13,"江西省",4,"江西江铃集团晶马汽车有限公司","小计",0,null,0,{"$f":"ROUND(H797,0)","v":0},null,242,0,0]
[{"$nulls":4},"JMV6105GRBEV8",0,0,0,null,"核减140辆,原因为:不满足申报数量要求"]
[{"$nulls":4},"JMV6660BEV",0,0,0,null,"核减9辆,原因为:不满足申报数量要求"]
[{"$nulls":4},"JMV6660GRBEV1",0,0,0,null,"核减35辆,原因为:不满足申报数量要求"]
[{"$nulls":4},"JMV6800GRBEV1",0,0,0,null,"核减6辆,原因为:不满足申报数量要求"]
[{"$nulls":4},"JMV6801GRBEV2",0,0,0,null,"核减5辆,原因为:不满足申报数量要求"]
[{"$nulls":4},"JMV6801GRBEV3",0,0,0,null,"核减8辆,原因为:不满足申报数量要求"]
[{"$nulls":4},"JMV6801GRBEV3",0,0,0,null,"核减1辆,原因为:不满足申报数量要求"]
[{"$nulls":4},"JMV6801GRBEV5",0,0,0,null,"核减29辆,原因为:不满足申报数量要求"]
[{"$nulls":4},"JMV6820GRBEV5",0,0,0,null,"核减2辆,原因为:不满足申报数量要求"]
[{"$nulls":4},"JMV6821BEV",0,0,0,null,"核减29辆,原因为:不满足申报数量要求"]
[{"$nulls":4},"JMV6821BEV",0,0,0,null,"核减7辆,原因为:不满足申报数量要求"]
[{"$nulls":4},"JMV6821GRBEV",0,0,0,null,"核减47辆,原因为:不满足申报数量要求"]
[{"$nulls":4},"JMV6821GRBEV1",0,0,0,null,"核减31辆,原因为:不满足申报数量要求"]
[14,"山东省","合计",null,null,6272,null,98282.6612012,{"$f":"SUM(I812:I926)","v":98283},null,{"$f":"SUM(K812,K829,K839,K848)","v":0},0,98283]
[null,null,1,"山东蓝诺汽车有限公司","小计",164,null,469.662,{"$f":"ROUND(H812,0)","v":470},null,0,0,470]
[{"$nulls":4},"JHN1024CCBEV1",2,3.255,6.51,null,"核减3辆,原因为:不符合行驶里程数要求"]
[{"$nulls":4},"JHN1024CCBEV2",13,2.685,34.905,null,"核减4辆,原因为:不符合行驶里程数要求,驱动电机型号与推荐目录不一致"]
[{"$nulls":4},"JHN5024CCXXYBEV1",6,3.255,19.53,null,"核减11辆,原因为:不符合行驶里程数要求"]
[{"$nulls":4},"JHN5024CCXXYBEV2",24,2.685,64.44,null,"核减46辆,原因为:不符合行驶里程数要求"]
[{"$nulls":4},"JHN5031CDXXYBEV1",5,3.2304,16.152,null,"核减14辆,原因为:不符合行驶里程数要求"]
[{"$nulls":4},"KRD5022CCYBEV",3,1.8864,5.6592,null,"核减3辆,原因为:不符合行驶里程数要求"]
[{"$nulls":4},"KRD5022CCYBEV",0,0,0,null,"核减1辆,原因为:不符合行驶里程数要求"]
[{"$nulls":4},"KRD5022CCYBEV02",17,2.2512,38.2704,null,"核减24辆,原因为:不符合行驶里程数要求,部分车辆重复申报"]
[{"$nulls":4},"KRD5022CCYBEV02",8,3.255,26.04,null,"核减9辆,原因为:不符合行驶里程数要求"]
[{"$nulls":4},"KRD5022CCYBEV02",1,5.628,5.628,null,"核减5辆,原因为:不符合行驶里程数要求，部分车辆重复申报"]
[{"$nulls":4},"KRD5022XXYBEV",15,1.8864,28.296,null,"核减23辆,原因为:不符合行驶里程数要求"]
[{"$nulls":4},"KRD5022XXYBEV",3,2.685,8.055,null,"核减5辆,原因为:不符合行驶里程数要求"]
[{"$nulls":4},"KRD5022XXYBEV",3,4.716,14.148,null,"核减1辆,原因为:不符合行驶里程数要求"]
[{"$nulls":4},"KRD5022XXYBEV02",37,2.2512,83.2944,null,"核减39辆,原因为:不符合行驶里程数要求,部分车辆重复申报"]
[{"$nulls":4},"KRD5022XXYBEV02",14,3.255,45.57,null,"核减12辆,原因为:不符合行驶里程数要求"]
[{"$nulls":4},"KRD5022XXYBEV02",13,5.628,73.164,null,"核减15辆,原因为:不符合行驶里程数要求,部分车辆重复申报"]
[null,null,2,"烟台舒驰客车有限责任公司","小计",405,null,7125.2828,{"$f":"ROUND(H829,0)","v":7125},null,0,0,7125]
[{"$nulls":4},"YTK5040XXYEV11",2,5.8336,11.6672,null,""]
[{"$nulls":4},"YTK5040XXYEV2",1,3.76,3.76,null,""]
[{"$nulls":4},"YTK5040XXYEV2",32,5.675,181.6,null,""]
[{"$nulls":4},"YTK5040XXYEV2",64,9.4,601.6,null,""]
[{"$nulls":4},"YTK5040XXYEV6",4,5.6646,22.6584,null,""]
[{"$nulls":4},"YTK6110EV",1,19.8,19.8,null,""]
[{"$nulls":4},"YTK6118EV9",8,20.9034,167.2272,null,""]
[{"$nulls":4},"YTK6118EV9",135,29.862,4031.37,null,""]
[{"$nulls":4},"YTK6830GEV6",158,13.2,2085.6,null,""]
[14,"山东省",3,"中国重汽集团济南豪沃客车有限公司","小计",982,null,14653.8,{"$f":"ROUND(H839,0)","v":14654},null,0,0,14654]
[{"$nulls":4},"JK6106GBEVQ4",400,21,8400,null,""]
[{"$nulls":4},"JK6106GPHEVN51",38,7.5,285,null,""]
[{"$nulls":4},"JK6106GPHEVN5Q2",25,7.5,187.5,null,""]
[{"$nulls":4},"JK6106GPHEVN5Q2",209,10.5,2194.5,null,""]
[{"$nulls":4},"JK6126GBEVQ1",51,19.8,1009.8,null,""]
[{"$nulls":4},"JK6126GPHEVN5Q2",98,7.5,735,null,""]
[{"$nulls":4},"JK6126GPHEVN5Q2",60,10.5,630,null,""]
[{"$nulls":4},"JK6806GBEVQ3",101,12,1212,null,""]
[null,null,4,"中通客车控股股份有限公司","小计",4721,null,76033.9164012,{"$f":"ROUND(H848,0)","v":76034},null,0,0,76034]
[{"$nulls":4},"LCK5024XXYEV8",20,3.34575,66.915,null,""]
[{"$nulls":4},"LCK5025XXYEV1",35,3.2805,114.8175,null,""]
[{"$nulls":4},"LCK5047XXYEV7",13,5.6321,73.2173,null,""]
[{"$nulls":4},"LCK5048XXYEVH2H",49,6.15795,301.73955,null,""]
[{"$nulls":4},"LCK5048XXYEVH3H",13,6.0416,78.5408,null,""]
[{"$nulls":4},"LCK6105FCEVG1",38,50,1900,null,""]
[{"$nulls":4},"LCK6107PHEVNG2",25,7.5,187.5,null,""]
[{"$nulls":4},"LCK6108EV3",1,20.89584,20.89584,null,""]
[{"$nulls":4},"LCK6108EVG12",10,18,180,null,""]
[{"$nulls":4},"LCK6108EVG12",36,21,756,null,""]
[{"$nulls":4},"LCK6108EVG15",56,21,1176,null,""]
[{"$nulls":4},"LCK6108EVG16",36,21,756,null,""]
[{"$nulls":4},"LCK6108EVG17",17,21,357,null,""]
[{"$nulls":4},"LCK6108EVG3A1",91,21.78,1981.98,null,""]
[{"$nulls":4},"LCK6108EVG3A2",205,21.78,4464.9,null,""]
[{"$nulls":4},"LCK6108EVG3A3",422,21.78,9191.16,null,""]
[{"$nulls":4},"LCK6108EVG3A4",40,21.78,871.2,null,""]
[{"$nulls":4},"LCK6108EVG3A5",44,21.78,958.32,null,""]
[{"$nulls":4},"LCK6108EVG3D2",126,21.78,2744.28,null,""]
[{"$nulls":4},"LCK6108EVGL",17,21,357,null,""]
[{"$nulls":4},"LCK6108EVGL2",3,21,63,null,""]
[{"$nulls":4},"LCK6117EVA",35,19.8,693,null,""]
[{"$nulls":4},"LCK6117EVG8",1,30,30,null,""]
[{"$nulls":4},"LCK6117EVGA",88,19.8,1742.4,null,""]
[{"$nulls":4},"LCK6117EVGA1",24,21.78,522.72,null,""]
[{"$nulls":4},"LCK6117EVGA2",4,19.8,79.2,null,""]
[{"$nulls":4},"LCK6119PHEVG",1,5.2206,5.2206,null,""]
[{"$nulls":4},"LCK6120EVG3A1",84,19.8,1663.2,null,""]
[{"$nulls":4},"LCK6120EVG3A2",30,19.8,594,null,""]
[{"$nulls":4},"LCK6120EVG3D1",119,19.8,2356.2,null,""]
[{"$nulls":4},"LCK6127PHEVNG2",57,7.5,427.5,null,""]
[{"$nulls":4},"LCK6127PHEVNG3",3,15,45,null,""]
[{"$nulls":4},"LCK6127PHEVNG31",36,7.5,270,null,""]
[{"$nulls":4},"LCK6607DEVQG",9,6.3,56.7,null,""]
[{"$nulls":4},"LCK6668EVGA",27,6.05,163.35,null,""]
[{"$nulls":4},"LCK6668EVGC",13,6.655,86.515,null,""]
[{"$nulls":4},"LCK6669EVGA",16,6.05,96.8,null,""]
[{"$nulls":4},"LCK6669EVGB",19,6.655,126.445,null,""]
[{"$nulls":4},"LCK6669EVGC",21,6.655,139.755,null,""]
[{"$nulls":4},"LCK6723EVGA",2,5.5,11,null,""]
[{"$nulls":4},"LCK6806EVGA",15,14.52,217.8,null,""]
[{"$nulls":4},"LCK6806EVGL",59,14.52,856.68,null,""]
[{"$nulls":4},"LCK6808EVQA",9,14,126,null,""]
[{"$nulls":4},"LCK6808EVQA1",63,13.2,831.6,null,""]
[{"$nulls":4},"LCK6808EVQA11",5,13.2,66,null,""]
[{"$nulls":4},"LCK6808EVQGA",54,14,756,null,""]
[{"$nulls":4},"LCK6808EVQGA1",132,13.2,1742.4,null,""]
[{"$nulls":4},"LCK6809EVG3A1",2,14,28,null,""]
[{"$nulls":4},"LCK6809EVG3A2",19,14,266,null,""]
[{"$nulls":4},"LCK6809EVG3A3",20,13.2,264,null,""]
[{"$nulls":4},"LCK6809EVG3A4",58,14.52,842.16,null,""]
[{"$nulls":4},"LCK6809EVG3A5",92,13.5998676,1251.1878192,null,""]
[{"$nulls":4},"LCK6809EVG3A6",425,14.52,6171,null,""]
[{"$nulls":4},"LCK6809EVG3A7",422,14.52,6127.44,null,""]
[{"$nulls":4},"LCK6809EVG3A9",77,14.52,1118.04,null,""]
[{"$nulls":4},"LCK6809EVG3D5",20,14.0507136,281.014272,null,""]
[14,"山东省",4,"中通客车控股股份有限公司","LCK6809EVG3D6",32,14.52,464.64,null,""]
[{"$nulls":4},"LCK6809EVG3F2",65,14.52,943.8,null,""]
[{"$nulls":4},"LCK6809EVG3L2",35,14.52,508.2,null,""]
[{"$nulls":4},"LCK6809EVGD",30,14,420,null,""]
[{"$nulls":4},"LCK6809EVGK",2,11.15136,22.30272,null,""]
[{"$nulls":4},"LCK6809EVGK",58,14,812,null,""]
[{"$nulls":4},"LCK6809EVGL",168,14,2352,null,""]
[{"$nulls":4},"LCK6809EVGL",14,20,280,null,""]
[{"$nulls":4},"LCK6809EVGM1",2,14,28,null,""]
[{"$nulls":4},"LCK6809EVGM4",16,14,224,null,""]
[{"$nulls":4},"LCK6809EVGM5",174,14,2436,null,""]
[{"$nulls":4},"LCK6809EVGT",94,14,1316,null,""]
[{"$nulls":4},"LCK6809EVGT1",53,14,742,null,""]
[{"$nulls":4},"LCK6811EVGC",20,14,280,null,""]
[{"$nulls":4},"LCK6813EVGA",14,13.923,194.922,null,""]
[{"$nulls":4},"LCK6813EVGA",1,19.89,19.89,null,""]
[{"$nulls":4},"LCK6815EVGA",4,13.2,52.8,null,""]
[{"$nulls":4},"LCK6816EVGA",457,14.52,6635.64,null,""]
[{"$nulls":4},"LCK6826EVGA1",50,14.52,726,null,""]
[{"$nulls":4},"LCK6850EVG3A2",56,13.2,739.2,null,""]
[{"$nulls":4},"LCK6850EVGA1",10,13.2,132,null,""]
[{"$nulls":4},"LCK6850PHEVNG4",8,6.216,49.728,null,""]
[15,"青岛市","合计",null,null,709,null,5263.30384,{"$f":"SUM(I928:I935)","v":5263},null,0,0,5263]
[null,null,1,"一汽解放青岛汽车有限公司","小计",709,null,5263.30384,{"$f":"ROUND(H928,0)","v":5263},null,0,0,5263]
[{"$nulls":4},"CA5045XXYP40L1BEVA84",9,9.35,84.15,null,""]
[{"$nulls":4},"CA5046XXYP40L1BEVA84",1,4.4464,4.4464,null,""]
[{"$nulls":4},"CA5046XXYP40L1BEVA84",96,11.116,1067.136,null,""]
[{"$nulls":4},"CA5047XXYP40L1BEVA83",2,7.08992,14.17984,null,""]
[{"$nulls":4},"CA5048XXYP40L1BEVA83",2,4.4464,8.8928,null,""]
[{"$nulls":4},"CA5048XXYP40L1BEVA83",592,6.7904,4019.9168,null,""]
[{"$nulls":4},"CA5048XXYP40L1BEVA84",7,9.226,64.582,null,""]
[16,"河南省","合计",null,null,17104,null,263014.1553,{"$f":"SUM(I937:I1089)","v":263014},null,{"$f":"SUM(K937,K949)","v":2798},2798,260216]
[null,null,1,"海马汽车有限公司","小计",1743,null,4940.9106,{"$f":"ROUND(H937,0)","v":4941},null,2798,2798,2143]
[{"$nulls":4},"HMA7000S60BEV",16,3.388,54.208,null,""]
[{"$nulls":4},"HMA7000S60BEV",5,3.4,17,null,""]
[{"$nulls":4},"HMA7000S68BEV",11,5.445,59.895,null,""]
[{"$nulls":4},"HMA7002S302BEV",148,4.95,732.6,null,""]
[{"$nulls":4},"HMA7002S30BEV",4,3.6,14.4,null,""]
[{"$nulls":4},"HMA7002S60BEV",3,3.388,10.164,null,""]
[{"$nulls":4},"HMA7002S60BEV",9,4.95,44.55,null,""]
[{"$nulls":4},"HMA7003S13BEV",427,2.772,1183.644,null,""]
[{"$nulls":4},"HMA7003S13BEV",23,3.96,91.08,null,""]
[{"$nulls":4},"HMA7003S201BEV",662,2.5188,1667.4456,null,""]
[{"$nulls":4},"HMA7003S202BEV",435,2.4504,1065.924,null,""]
[null,null,2,"郑州宇通客车股份有限公司","小计",15361,null,258073.2447,{"$f":"ROUND(H949,0)","v":258073},null,0,0,258073]
[{"$nulls":4},"ZK6105BEVG23",327,21,6867,null,""]
[{"$nulls":4},"ZK6105BEVG23",2,30,60,null,""]
[{"$nulls":4},"ZK6105BEVG25",1,21,21,null,""]
[{"$nulls":4},"ZK6105BEVG26",1,21,21,null,""]
[{"$nulls":4},"ZK6105BEVG29",4,18,72,null,""]
[{"$nulls":4},"ZK6105BEVG29",1,30,30,null,""]
[{"$nulls":4},"ZK6105BEVG33A",2,21,42,null,""]
[{"$nulls":4},"ZK6105BEVG39",60,21.78,1306.8,null,""]
[{"$nulls":4},"ZK6105BEVG40",139,21.78,3027.42,null,""]
[{"$nulls":4},"ZK6105BEVG42",50,21.78,1089,null,""]
[{"$nulls":4},"ZK6105BEVG46",116,21.78,2526.48,null,""]
[{"$nulls":4},"ZK6105BEVG53",1014,21.78,22084.92,null,""]
[{"$nulls":4},"ZK6105BEVG55",1426,21.78,31058.28,null,""]
[{"$nulls":4},"ZK6105BEVG57",395,21.78,8603.1,null,""]
[{"$nulls":4},"ZK6105BEVG59",375,21.78,8167.5,null,""]
[16,"河南省",2,"郑州宇通客车股份有限公司","ZK6105BEVG59B",23,21.78,500.94,null,""]
[{"$nulls":4},"ZK6105BEVG59C",74,19.8,1465.2,null,""]
[{"$nulls":4},"ZK6105CHEVNPG26",1,6.9048,6.9048,null,""]
[{"$nulls":4},"ZK6105CHEVNPG29",35,7.5,262.5,null,""]
[{"$nulls":4},"ZK6105CHEVNPG29",30,10.5,315,null,""]
[{"$nulls":4},"ZK6105CHEVNPG33",1,7.5,7.5,null,""]
[{"$nulls":4},"ZK6105CHEVNPG35C",90,7.5,675,null,""]
[{"$nulls":4},"ZK6105CHEVNPG36",49,7.5,367.5,null,""]
[{"$nulls":4},"ZK6105CHEVPG33",7,5.1252,35.8764,null,""]
[{"$nulls":4},"ZK6105CHEVPG33",30,10.5,315,null,""]
[{"$nulls":4},"ZK6105CHEVPG35",2,10.5,21,null,""]
[{"$nulls":4},"ZK6105CHEVPG36",31,6,186,null,""]
[{"$nulls":4},"ZK6105FCEVG1",2,50,100,null,""]
[{"$nulls":4},"ZK6105FCEVG2",8,50,400,null,""]
[{"$nulls":4},"ZK6106BEVG1",753,21.78,16400.34,null,""]
[{"$nulls":4},"ZK6115BEVG13A",111,19.8,2197.8,null,""]
[{"$nulls":4},"ZK6115BEVG13B",40,21.78,871.2,null,""]
[{"$nulls":4},"ZK6115BEVG13C",52,21.78,1132.56,null,""]
[{"$nulls":4},"ZK6115BEVG16",178,21.78,3876.84,null,""]
[{"$nulls":4},"ZK6115BEVG5",3,21,63,null,""]
[{"$nulls":4},"ZK6115BEVG52",75,21,1575,null,""]
[{"$nulls":4},"ZK6115BEVG53",4,21,84,null,""]
[{"$nulls":4},"ZK6115BEVY13A",173,19.8,3425.4,null,""]
[{"$nulls":4},"ZK6115BEVY13B",103,21.78,2243.34,null,""]
[{"$nulls":4},"ZK6115BEVY16A",44,19.8,871.2,null,""]
[{"$nulls":4},"ZK6115BEVY51",19,17.1408,325.6752,null,""]
[{"$nulls":4},"ZK6115BEVY51",10,21,210,null,""]
[{"$nulls":4},"ZK6115BEVY52",38,18,684,null,""]
[{"$nulls":4},"ZK6115BEVY52",16,21,336,null,""]
[{"$nulls":4},"ZK6115BEVY53",24,21,504,null,""]
[{"$nulls":4},"ZK6115BEVZ13A",124,19.8,2455.2,null,""]
[{"$nulls":4},"ZK6115BEVZ51",6,17.1408,102.8448,null,""]
[{"$nulls":4},"ZK6115BEVZ51",48,21,1008,null,""]
[{"$nulls":4},"ZK6115BEVZ51",28,30,840,null,""]
[{"$nulls":4},"ZK6115BEVZ52",1,18,18,null,""]
[{"$nulls":4},"ZK6115BEVZ52",8,21,168,null,""]
[{"$nulls":4},"ZK6115BEVZ52",1,30,30,null,""]
[{"$nulls":4},"ZK6115BEVZ62",2,21,42,null,""]
[{"$nulls":4},"ZK6115CHEVP5G1",28,10.5,294,null,""]
[{"$nulls":4},"ZK6119BEVQY15P",39,19.8,772.2,null,""]
[{"$nulls":4},"ZK6119BEVQY16P",126,19.8,2494.8,null,""]
[{"$nulls":4},"ZK6119BEVQY18P",127,19.8,2514.6,null,""]
[{"$nulls":4},"ZK6119BEVQY18P1",10,19.8,198,null,""]
[{"$nulls":4},"ZK6119BEVQY51",6,21,126,null,""]
[{"$nulls":4},"ZK6119BEVQZ51",1,18,18,null,""]
[{"$nulls":4},"ZK6119BEVQZ51",1,21,21,null,""]
[{"$nulls":4},"ZK6125BEVG21",36,21,756,null,""]
[{"$nulls":4},"ZK6125BEVG55",68,21.78,1481.04,null,""]
[{"$nulls":4},"ZK6125BEVG57",131,19.8,2593.8,null,""]
[{"$nulls":4},"ZK6125BEVG59",34,19.8,673.2,null,""]
[{"$nulls":4},"ZK6125BEVG59E",330,19.8,6534,null,""]
[{"$nulls":4},"ZK6125CHEVNPG29",8,10.5,84,null,""]
[{"$nulls":4},"ZK6125CHEVNPG35",48,7.5,360,null,""]
[{"$nulls":4},"ZK6125CHEVNPG35",4,10.5,42,null,""]
[{"$nulls":4},"ZK6125CHEVNPG36",1,7.5,7.5,null,""]
[{"$nulls":4},"ZK6125CHEVP5G1",3,10.5,31.5,null,""]
[{"$nulls":4},"ZK6125CHEVPG35",1,10.5,10.5,null,""]
[{"$nulls":4},"ZK6125FCEVG5",45,50,2250,null,""]
[{"$nulls":4},"ZK6126BEVGS3",24,18,432,null,""]
[{"$nulls":4},"ZK6650BEVG13",38,6.3,239.4,null,""]
[{"$nulls":4},"ZK6650BEVG16",31,6.3,195.3,null,""]
[{"$nulls":4},"ZK6650BEVG16",2,9,18,null,""]
[{"$nulls":4},"ZK6650BEVG18",62,6.05,375.1,null,""]
[{"$nulls":4},"ZK6650BEVG21",507,6.655,3374.085,null,""]
[{"$nulls":4},"ZK6650BEVG22",95,6.655,632.225,null,""]
[16,"河南省",2,"郑州宇通客车股份有限公司","ZK6650BEVG23",43,6.655,286.165,null,""]
[{"$nulls":4},"ZK6805BEVG11",146,14,2044,null,""]
[{"$nulls":4},"ZK6805BEVG11",2,20,40,null,""]
[{"$nulls":4},"ZK6805BEVG12",163,14,2282,null,""]
[{"$nulls":4},"ZK6805BEVG13",97,14,1358,null,""]
[{"$nulls":4},"ZK6805BEVG15",71,14,994,null,""]
[{"$nulls":4},"ZK6805BEVG15",5,20,100,null,""]
[{"$nulls":4},"ZK6805BEVG15A",3,14,42,null,""]
[{"$nulls":4},"ZK6805BEVG17",5,14,70,null,""]
[{"$nulls":4},"ZK6805BEVG19A",30,14,420,null,""]
[{"$nulls":4},"ZK6805BEVG21",1,14,14,null,""]
[{"$nulls":4},"ZK6808BEVQZ51",2,14,28,null,""]
[{"$nulls":4},"ZK6808BEVQZ52",27,14,378,null,""]
[{"$nulls":4},"ZK6808BEVQZ53",1,14,14,null,""]
[{"$nulls":4},"ZK6808BEVQZ53",2,20,40,null,""]
[{"$nulls":4},"ZK6809BEVG12",26,13.2,343.2,null,""]
[{"$nulls":4},"ZK6809BEVG12A",48,13.2,633.6,null,""]
[{"$nulls":4},"ZK6809BEVG12B",46,13.2,607.2,null,""]
[{"$nulls":4},"ZK6809BEVQZ12",87,13.2,1148.4,null,""]
[{"$nulls":4},"ZK6809BEVQZ12B",2,13.2,26.4,null,""]
[{"$nulls":4},"ZK6815BEVG1",1864,14.52,27065.28,null,""]
[{"$nulls":4},"ZK6815BEVG11",48,14.52,696.96,null,""]
[{"$nulls":4},"ZK6815BEVG13",63,14.52,914.76,null,""]
[{"$nulls":4},"ZK6815BEVG15",58,14.52,842.16,null,""]
[{"$nulls":4},"ZK6815BEVG2",1,14.52,14.52,null,""]
[{"$nulls":4},"ZK6815BEVG3",1536,14.52,22302.72,null,""]
[{"$nulls":4},"ZK6815BEVG4",101,14.52,1466.52,null,""]
[{"$nulls":4},"ZK6815BEVG4L",10,14.52,145.2,null,""]
[{"$nulls":4},"ZK6815BEVG5",806,14.52,11703.12,null,""]
[{"$nulls":4},"ZK6815BEVG9",71,13.2,937.2,null,""]
[{"$nulls":4},"ZK6815BEVG9A",463,14.52,6722.76,null,""]
[{"$nulls":4},"ZK6826BEVG12A",143,13.2,1887.6,null,""]
[{"$nulls":4},"ZK6826BEVG13A",159,13.2,2098.8,null,""]
[{"$nulls":4},"ZK6826BEVQG50",8,14,112,null,""]
[{"$nulls":4},"ZK6826BEVQG51",14,14,196,null,""]
[{"$nulls":4},"ZK6826BEVQY12A",20,13.2,264,null,""]
[16,"河南省",2,null,"ZK6826BEVQY13A",164,13.2,2164.8,null,""]
[{"$nulls":4},"ZK6826BEVQY51",3,14,42,null,""]
[{"$nulls":4},"ZK6845BEVG10",11,14,154,null,""]
[{"$nulls":4},"ZK6845BEVG7",16,14,224,null,""]
[{"$nulls":4},"ZK6850BEVG19A",4,14,56,null,""]
[{"$nulls":4},"ZK6850BEVG39",123,14.52,1785.96,null,""]
[{"$nulls":4},"ZK6850BEVG53",172,14.52,2497.44,null,""]
[{"$nulls":4},"ZK6850BEVG55",86,14.52,1248.72,null,""]
[{"$nulls":4},"ZK6850BEVG57",325,13.2,4290,null,""]
[{"$nulls":4},"ZK6850BEVG57A",6,14.52,87.12,null,""]
[{"$nulls":4},"ZK6850CHEVNPG23",1,3.2445,3.2445,null,""]
[{"$nulls":4},"ZK6850CHEVNPG33",12,4.5,54,null,""]
[{"$nulls":4},"ZK6850CHEVNPG35",1,3.906,3.906,null,""]
[{"$nulls":4},"ZK6850CHEVNPG35C",8,4.5,36,null,""]
[{"$nulls":4},"ZK6850CHEVNPG36",58,4.5,261,null,""]
[{"$nulls":4},"ZK6850CHEVPG33",73,3.186,232.578,null,""]
[{"$nulls":4},"ZK6850CHEVPG33",9,6.3,56.7,null,""]
[{"$nulls":4},"ZK6850CHEVPG35",50,3.1248,156.24,null,""]
[{"$nulls":4},"ZK6850CHEVPG35",2,6.3,12.6,null,""]
[{"$nulls":4},"ZK6850CHEVPG36",53,3.6,190.8,null,""]
[{"$nulls":4},"ZK6906BEVQY13A",4,13.2,52.8,null,""]
[{"$nulls":4},"ZK6906BEVQY15",40,13.2,528,null,""]
[{"$nulls":4},"ZK6935BEVG2",4,14,56,null,""]
[{"$nulls":4},"ZK6935BEVG3",1,13.2,13.2,null,""]
[17,"湖北省","合计",null,null,13041,null,{"$f":"SUM(H1091,H1115,H1199)","v":84596.50484},{"$f":"SUM(I1091:I1216)","v":84596},null,{"$f":"SUM(K1091,K1115,K1199)","v":4254},4254,80342]
[null,null,1,"东风汽车股份有限公司","小计",1624,null,8401.41802,{"$f":"ROUND(H1091,0)","v":8401},null,4254,4254,4147]
[{"$nulls":4},"DFA5020XXYCBEV4",184,3.066,564.144,null,""]
[{"$nulls":4},"DFA5025XXYACBEV",1,2.54898,2.54898,null,""]
[{"$nulls":4},"DFA5030XXYABEV1",395,3.72,1469.4,null,""]
[{"$nulls":4},"DFA5030XXYABEV2",20,3.72,74.4,null,""]
[{"$nulls":4},"DFA5030XXYABEV5",1,4.00545,4.00545,null,""]
[{"$nulls":4},"DFA5030XXYEBEV",2,3.73695,7.4739,null,""]
[{"$nulls":4},"DFA5030XXYFBEV",104,3.396,353.184,null,""]
[{"$nulls":4},"DFA5030XXYFBEV1",1,3.40755,3.40755,null,""]
[{"$nulls":4},"DFA5030ZZZBEV",1,2.1542,2.1542,null,"核减1辆,原因为:不符合行驶里程数要求"]
[{"$nulls":4},"DFA5040XXYBEV",3,9.3644,28.0932,null,""]
[{"$nulls":4},"DFA5040XXYBEV1",31,6.949,215.419,null,""]
[{"$nulls":4},"DFA5040XXYDBEV1",2,6.416,12.832,null,""]
[{"$nulls":4},"DFA5040XXYDBEV2",10,8.51615,85.1615,null,""]
[{"$nulls":4},"DFA5040XXYKBEV12",1,6.39104,6.39104,null,""]
[{"$nulls":4},"DFA5040XXYKBEV15",1,6.403,6.403,null,""]
[{"$nulls":4},"DFA5040XXYKBEV2",562,6.3913,3591.9106,null,""]
[{"$nulls":4},"DFA5040XXYKBEV3",226,6.494,1467.644,null,""]
[{"$nulls":4},"DFA5040XXYKBEV4",12,6.676,80.112,null,""]
[{"$nulls":4},"DFA5040XXYKBEV6",48,6.39065,306.7512,null,""]
[{"$nulls":4},"DFA5040XXYKBEV7",9,6.416,57.744,null,""]
[{"$nulls":4},"DFA5040XXYKBEV8",2,6.15795,12.3159,null,""]
[{"$nulls":4},"DFA5040XXYLBEV",7,5.0575,35.4025,null,""]
[{"$nulls":4},"DFA6800EBEV2",1,14.52,14.52,null,""]
[null,null,2,"东风汽车集团有限公司","小计",10750,null,{"$f":"SUM(H1116:H1198)","v":72587.73049999999},{"$f":"ROUND(H1115,0)","v":72588},null,0,0,72588]
[{"$nulls":4},"DFA7000A1F4BEV",1775,6.6,11715,null,""]
[{"$nulls":4},"DFA7000A1F5BEV",17,6.6,112.2,null,""]
[{"$nulls":4},"DFA7000A1F7BEV",1281,6.05,7750.05,null,""]
[{"$nulls":4},"DFA7000F1A1BEV",1,3.96,3.96,null,""]
[{"$nulls":4},"DFA7000G1F1BEV",23,3.388,77.924,null,""]
[{"$nulls":4},"DFA7000G1F2BEV",18,3.388,60.984,null,""]
[{"$nulls":4},"DFA7000G1F2BEV",6,4.95,29.7,null,""]
[{"$nulls":4},"DFA7000G1F3BEV",1,3.388,3.388,null,""]
[{"$nulls":4},"DFA7000G1F3BEV",39,3.4,132.6,null,""]
[{"$nulls":4},"DFA7000G1F4BEV",79,3.388,267.652,null,""]
[{"$nulls":4},"DFA7000G1F6BEV",148,4.95,732.6,null,""]
[{"$nulls":4},"DFA7000G1F7BEV",128,6.6,844.8,null,""]
[{"$nulls":4},"DFA7000L2ABEV",250,3.388,847,null,""]
[{"$nulls":4},"DFA7000L2ABEV",1,4.84,4.84,null,""]
[{"$nulls":4},"DFA7000L2ABEV3",1,2.772,2.772,null,""]
[{"$nulls":4},"DFA7000L2ABEV4",300,3.74,{"$f":"F1131*G1131","v":1122},null,"7辆需进一步核实后予以清算；核减4辆,原因为:现场核查不通过"]
[{"$nulls":4},"DFM7000G1F3BEV",127,3.388,430.276,null,""]
[{"$nulls":4},"DFM7000G1F3BEV",42,4.84,203.28,null,""]
[{"$nulls":4},"DFM7000G1F3BEV",3647,4.95,18052.65,null,""]
[{"$nulls":4},"DFM7000G1F3PBEV",0,0,0,null,"核减60辆,原因为:驱动电机型号与推荐目录不一致,电机功率与推荐目录不一致"]
[{"$nulls":4},"DFM7000G1F6BEV",260,6.05,1573,null,""]
[{"$nulls":4},"DFM7000H2ABEV1",1,3.6,3.6,null,""]
[{"$nulls":4},"EQ1045TTBEV",24,5.4865,131.676,null,""]
[{"$nulls":4},"EQ5020XXYLBEV1",1,2.2944,2.2944,null,""]
[{"$nulls":4},"EQ5020XXYSZBEV",27,2.1936,59.2272,null,""]
[{"$nulls":4},"EQ5020XXYSZBEV",20,5.484,109.68,null,""]
[{"$nulls":4},"EQ5020XXYSZBEV1",2,5.484,10.968,null,""]
[{"$nulls":4},"EQ5020XXYTBEV2",1,2.04,2.04,null,""]
[{"$nulls":4},"EQ5022XXYTBEV1",1,2.472,2.472,null,""]
[{"$nulls":4},"EQ5022XXYTBEV1",23,6.18,142.14,null,"核减1辆,原因为:现场核查不通过"]
[{"$nulls":4},"EQ5023XXYACBEV7",18,3.345,60.21,null,""]
[{"$nulls":4},"EQ5025XXYACBEV",2,2.346,4.692,null,""]
[{"$nulls":4},"EQ5026XXYTBEV1",8,6.0148,48.1184,null,""]
[{"$nulls":4},"EQ5027XXYTBEV",21,7.8185,164.1885,null,""]
[{"$nulls":4},"EQ5028XXYTBEV3",7,3.33525,23.34675,null,""]
[{"$nulls":4},"EQ5033ZZZACBEV",35,1.824,63.84,null,""]
[17,"湖北省",2,"东风汽车集团有限公司","EQ5040XXYACBEV11",6,3.984,23.904,null,""]
[{"$nulls":4},"EQ5040XXYACBEV6",1,7.287,7.287,null,""]
[{"$nulls":4},"EQ5040XXYACBEV7",439,1.4574,639.7986,null,""]
[{"$nulls":4},"EQ5041XXYACBEV15",30,5.4397,163.191,null,""]
[{"$nulls":4},"EQ5044XXYACBEV",1,3.76,3.76,null,""]
[{"$nulls":4},"EQ5044XXYTBEV2",35,6.42,224.7,null,""]
[{"$nulls":4},"EQ5045XLCTBEV",5,11.24,56.2,null,""]
[{"$nulls":4},"EQ5045XLCTBEV2",5,4.354,21.77,null,""]
[{"$nulls":4},"EQ5045XXYTBEV",1,10.9,10.9,null,""]
[{"$nulls":4},"EQ5045XXYTBEV12",2,12.718,25.436,null,""]
[{"$nulls":4},"EQ5045XXYTBEV14",45,10.7,481.5,null,""]
[{"$nulls":4},"EQ5045XXYTBEV19",35,6.15795,215.52825,null,""]
[{"$nulls":4},"EQ5045XXYTBEV3",1,4.496,4.496,null,""]
[{"$nulls":4},"EQ5045XXYTBEV3",137,11.24,1539.88,null,""]
[{"$nulls":4},"EQ5045XXYTBEV4",332,5.4865,1821.518,null,""]
[{"$nulls":4},"EQ5045XXYTBEV4",43,9.11,391.73,null,""]
[{"$nulls":4},"EQ5070XLCACBEV",28,7.287,204.036,null,""]
[{"$nulls":4},"EQ5070XXYTBEV14",1,13.56,13.56,null,""]
[{"$nulls":4},"EQ5080XLCTFCEV",1,50,50,null,""]
[{"$nulls":4},"EQ5080XXYTFCEV3",1,50,50,null,""]
[{"$nulls":4},"EQ5081XLCTFCEV",1,50,50,null,""]
[{"$nulls":4},"EQ5081XXYTFCEV",10,45,450,null,""]
[{"$nulls":4},"EQ5081XXYTFCEV1",25,50,1250,null,""]
[{"$nulls":4},"EQ6100CACBEV",1,21,21,null,""]
[{"$nulls":4},"EQ6100CACBEV2",12,21.78,261.36,null,""]
[{"$nulls":4},"EQ6100CACBEV4",297,21.78,6468.66,null,""]
[{"$nulls":4},"EQ6120CACCHEV",3,10.3866,31.1598,null,""]
[{"$nulls":4},"EQ6620CACBEV",1,6.05,6.05,null,""]
[{"$nulls":4},"EQ6651CACBEV",2,6.655,13.31,null,""]
[{"$nulls":4},"EQ6651CACBEV1",15,6.05,90.75,null,""]
[{"$nulls":4},"EQ6700LACFCEV",9,50,450,null,""]
[{"$nulls":4},"EQ6800CACBEV10",284,14.52,4123.68,null,""]
[{"$nulls":4},"EQ6800CACBEV11",216,14.52,3136.32,null,""]
[{"$nulls":4},"EQ6800CACBEV12",216,14.52,3136.32,null,""]
[{"$nulls":4},"EQ6800CACBEV13",4,14.52,58.08,null,""]
[{"$nulls":4},"EQ6800CACBEV4",13,13.8222,179.6886,null,""]
[{"$nulls":4},"EQ6800CACBEV5",30,12,360,null,""]
[{"$nulls":4},"EQ6800CACBEV5",38,13.9346,529.5148,null,""]
[{"$nulls":4},"EQ6800CACBEV5",30,14,420,null,""]
[{"$nulls":4},"EQ6800CACBEV8",10,11.0592,110.592,null,""]
[{"$nulls":4},"EQ6800CACBEV8",4,12,48,null,""]
[{"$nulls":4},"EQ6810CACBEV1",1,13.9346,13.9346,null,""]
[{"$nulls":4},"EQ6810CACBEV1",1,14,14,null,""]
[{"$nulls":4},"EQ6810CACBEV5",31,14.52,450.12,null,""]
[{"$nulls":4},"EQ6811LACBEV1",3,13.8222,41.4666,null,""]
[{"$nulls":4},"EQ6811LACBEV4",1,13.2,13.2,null,""]
[{"$nulls":4},"EQ6850CACBEV1",8,14.52,116.16,null,""]
[null,null,3,"湖北新楚风汽车股份有限公司","小计",667,null,3607.35632,{"$f":"ROUND(H1199,0)","v":3607},null,0,0,3607]
[{"$nulls":4},"HQG5022XXYEV4",7,2.37696,16.63872,null,""]
[{"$nulls":4},"HQG5022XXYEV4",67,5.9424,398.1408,null,""]
[{"$nulls":4},"HQG5022XXYEV6",58,5.9412,344.5896,null,""]
[{"$nulls":4},"HQG5037XXYEV1",88,3.2925,289.74,null,""]
[{"$nulls":4},"HQG5041XXYEV1",1,3.6656,3.6656,null,""]
[{"$nulls":4},"HQG5042XXYEV10",1,2.568,2.568,null,""]
[{"$nulls":4},"HQG5042XXYEV10",18,6.42,115.56,null,""]
[{"$nulls":4},"HQG5042XXYEV2",102,3.6904,376.4208,null,""]
[{"$nulls":4},"HQG5042XXYEV2",1,9.226,9.226,null,""]
[{"$nulls":4},"HQG5042XXYEV2",2,9.226,18.452,null,""]
[{"$nulls":4},"HQG5042XXYEV5",5,4.5768,22.884,null,""]
[{"$nulls":4},"HQG5042XXYEV9",134,3.7296,499.7664,null,"核减2辆,原因为:相关车型不在推荐目录内"]
[{"$nulls":4},"HQG5042XXYEV9",95,9.324,885.78,null,"核减2辆,原因为:相关车型不在推荐目录内"]
[{"$nulls":4},"HQG5043XXYEV3",79,7.09005,560.11395,null,""]
[{"$nulls":4},"HQG5043XXYEV5",0,0,0,null,"核减7辆,原因为:驱动电机型号与推荐目录不一致"]
[17,"湖北省",3,"湖北新楚风汽车股份有限公司","HQG5043XXYEV7",0,0,0,null,"核减21辆,原因为:相关车型不在推荐目录内"]
[{"$nulls":4},"HQG5085TQZEV1",9,7.09005,63.81045,null,""]
[18,"湖南省","合计",null,null,5065,null,92177.22728,{"$f":"SUM(I1218:I1279)","v":92178},null,{"$f":"SUM(K1218,K1226,K1230)","v":129},0,92178]
[null,null,1,"比亚迪汽车工业有限公司长沙分公司","小计",1174,null,21994.56,{"$f":"ROUND(H1218,0)","v":21995},null,0,0,21995]
[{"$nulls":4},"BYD6100LGEV10",396,21,8316,null,""]
[{"$nulls":4},"BYD6100LGEV9",290,21,6090,null,""]
[{"$nulls":4},"BYD6101HGEV1",94,19.8,1861.2,null,""]
[{"$nulls":4},"BYD6110LLEV3",1,21,21,null,""]
[{"$nulls":4},"BYD6810HZEV5",21,14.52,304.92,null,""]
[{"$nulls":4},"BYD6810HZEV7",38,14.52,551.76,null,""]
[{"$nulls":4},"BYD6850HZEV3",334,14.52,4849.68,null,""]
[null,null,2,"常德中车新能源汽车有限公司","小计",0,null,0,{"$f":"ROUND(H1226,0)","v":0},null,129,0,0]
[{"$nulls":4},"CKY6105BEVG",0,0,0,null,"核减1辆,原因为:不满足申报数量要求"]
[{"$nulls":4},"CKY6125BEVG",0,0,0,null,"核减1辆,原因为:不满足申报数量要求"]
[{"$nulls":4},"CKY6801BEV02",0,0,0,null,"核减12辆,原因为:不满足申报数量要求"]
[null,null,3,"湖南中车时代电动汽车股份有限公司","小计",3891,null,70182.66728,{"$f":"ROUND(H1230,0)","v":70183},null,0,0,70183]
[{"$nulls":4},"TEG5041XXYEV03",8,6.39065,51.1252,null,""]
[{"$nulls":4},"TEG6105BEV01",63,21.78,1372.14,null,""]
[{"$nulls":4},"TEG6105BEV03",150,21.78,3267,null,""]
[{"$nulls":4},"TEG6105BEV04",4,21.78,87.12,null,""]
[{"$nulls":4},"TEG6105BEV05",132,21.78,2874.96,null,""]
[{"$nulls":4},"TEG6106BEV11",60,21,1260,null,""]
[{"$nulls":4},"TEG6106BEV11",6,30,180,null,""]
[{"$nulls":4},"TEG6106BEV12",3,21,63,null,""]
[{"$nulls":4},"TEG6106BEV13",2,21,42,null,""]
[{"$nulls":4},"TEG6106BEV16",17,20.89584,355.22928,null,""]
[{"$nulls":4},"TEG6106BEV20",52,19.8,1029.6,null,""]
[{"$nulls":4},"TEG6106BEV20",48,21,1008,null,""]
[{"$nulls":4},"TEG6106BEV32",10,19.8,198,null,""]
[{"$nulls":4},"TEG6106BEV34",423,19.8,8375.4,null,""]
[{"$nulls":4},"TEG6106BEV35",496,19.8,9820.8,null,""]
[{"$nulls":4},"TEG6106BEV36",30,19.8,594,null,""]
[{"$nulls":4},"TEG6106BEV36",56,21,1176,null,""]
[{"$nulls":4},"TEG6106BEV37",199,19.8,3940.2,null,""]
[{"$nulls":4},"TEG6106BEV38",13,19.8,257.4,null,""]
[{"$nulls":4},"TEG6106BEV41",161,21.78,3506.58,null,""]
[{"$nulls":4},"TEG6106BEV44",118,21.78,2570.04,null,""]
[{"$nulls":4},"TEG6106BEV45",180,21.78,3920.4,null,""]
[{"$nulls":4},"TEG6106BEV46",114,21.78,2482.92,null,""]
[{"$nulls":4},"TEG6106BEV48",56,21.78,1219.68,null,""]
[{"$nulls":4},"TEG6106EHEV17",59,10.5,619.5,null,""]
[{"$nulls":4},"TEG6106EHEV19",105,5.7228,600.894,null,""]
[{"$nulls":4},"TEG6110BEV01",2,21,42,null,""]
[{"$nulls":4},"TEG6125BEV05",32,10.4,332.8,null,""]
[{"$nulls":4},"TEG6125BEV08",19,19.8,376.2,null,""]
[{"$nulls":4},"TEG6129BEV09",85,19.8,1683,null,""]
[{"$nulls":4},"TEG6180BEV01",8,10.4,83.2,null,""]
[{"$nulls":4},"TEG6660BEV01",1,6.05,6.05,null,""]
[{"$nulls":4},"TEG6660BEV02",1,6.05,6.05,null,""]
[{"$nulls":4},"TEG6801BEV01",9,14,126,null,""]
[{"$nulls":4},"TEG6801BEV08",7,12.3684,86.5788,null,""]
[{"$nulls":4},"TEG6801BEV11",42,13.2,554.4,null,""]
[{"$nulls":4},"TEG6801BEV14",30,14.52,435.6,null,""]
[{"$nulls":4},"TEG6801BEV15",145,14.52,2105.4,null,""]
[{"$nulls":4},"TEG6801BEV17",60,14.52,871.2,null,""]
[{"$nulls":4},"TEG6801BEV18",64,14.52,929.28,null,""]
[{"$nulls":4},"TEG6851BEV09",9,14,126,null,""]
[{"$nulls":4},"TEG6851BEV10",7,14,98,null,""]
[{"$nulls":4},"TEG6851BEV25",21,13.2,277.2,null,""]
[{"$nulls":4},"TEG6851BEV25",4,14,56,null,""]
[{"$nulls":4},"TEG6851BEV26",159,13.2,2098.8,null,""]
[{"$nulls":4},"TEG6851BEV32",107,14.52,1553.64,null,""]
[{"$nulls":4},"TEG6851BEV33",244,14.52,3542.88,null,""]
[{"$nulls":4},"TEG6851BEV34",250,14.52,3630,null,""]
[{"$nulls":4},"TEG6851BEV35",20,14.52,290.4,null,""]
[19,"广东省","合计",null,null,7715,null,{"$f":"SUM(H1281,H1289,H1296,H1311)","v":112715.88906},{"$f":"SUM(I1281:I1333)","v":112716},null,{"$f":"SUM(K1281,K1289,K1296,K1311)","v":11524},11524,101192]
[null,null,1,"东莞中汽宏远汽车有限公司","小计",1338,null,19163.64,{"$f":"ROUND(H1281,0)","v":19164},null,2166,2166,16998]
[{"$nulls":4},"KMT6106GBEV1",78,21.78,1698.84,null,""]
[{"$nulls":4},"KMT6106GBEV2",24,21.78,522.72,null,""]
[{"$nulls":4},"KMT6802GBEV1",38,14,532,null,""]
[{"$nulls":4},"KMT6802GBEV3",90,14.52,1306.8,null,""]
[{"$nulls":4},"KMT6860GBEV7",13,14,182,null,""]
[{"$nulls":4},"KMT6861GBEV1",354,14.52,5140.08,null,""]
[{"$nulls":4},"KMT6861GBEV2",741,13.2,9781.2,null,""]
[null,null,2,"广州广汽比亚迪新能源客车有限公司","小计",3691,null,{"$f":"SUM(H1290:H1295)","v":64242.600000000006},{"$f":"ROUND(H1289,0)","v":64243},null,9358,9358,54885]
[{"$nulls":4},"GZ6100LGEV4",5,30,150,null,""]
[{"$nulls":4},"GZ6100LGEV5",2328,19.8,46094.4,null,""]
[{"$nulls":4},"GZ6100LGEV5",5,21,105,null,""]
[{"$nulls":4},"GZ6121LGEV1",2,30,60,null,""]
[{"$nulls":4},"GZ6122LGEV",0,0,0,null,"需进一步核实后予以清算"]
[{"$nulls":4},"GZ6850HZEV",1351,13.2,17833.2,null,""]
[null,null,3,"广州汽车集团乘用车有限公司","小计",855,null,2693.336,{"$f":"ROUND(H1296,0)","v":2693},null,0,0,2693]
[{"$nulls":4},"GAC6450CHEVA5B",51,1.68,85.68,null,""]
[{"$nulls":4},"GAC6450CHEVA5B",17,2.4,40.8,null,""]
[{"$nulls":4},"GAC6450CHEVA5C",24,1.68,40.32,null,""]
[{"$nulls":4},"GAC6450CHEVA5C",5,2.4,12,null,""]
[{"$nulls":4},"GAC6450CHEVA5D",26,1.68,43.68,null,""]
[{"$nulls":4},"GAC6450CHEVA5D",80,2.2,176,null,""]
[{"$nulls":4},"GAC6450CHEVA5E",11,1.68,18.48,null,""]
[{"$nulls":4},"GAC6450CHEVA5E",138,2.2,303.6,null,""]
[{"$nulls":4},"GAC7000BEVH0A",137,3.388,464.156,null,""]
[{"$nulls":4},"GAC7000BEVH0A",289,4.5,1300.5,null,""]
[{"$nulls":4},"GAC7000BEVH0A",23,4.84,111.32,null,""]
[{"$nulls":4},"GAC7150CHEVA5A",45,1.68,75.6,null,""]
[{"$nulls":4},"GAC7150CHEVA5A",7,2.4,16.8,null,""]
[{"$nulls":4},"GAC7150CHEVA5D",2,2.2,4.4,null,""]
[null,null,4,"珠海广通汽车有限公司","小计",1831,null,26616.31306,{"$f":"ROUND(H1311,0)","v":26616},null,0,0,26616]
[{"$nulls":4},"GTQ5024XXYEV",4,2.07916,8.31664,null,""]
[{"$nulls":4},"GTQ5043XXYBEV1",1,2.87344,2.87344,null,""]
[{"$nulls":4},"GTQ6101BEVBT9",88,14,1232,null,""]
[{"$nulls":4},"GTQ6103BEVB1",6,21,126,null,""]
[{"$nulls":4},"GTQ6103BEVBT3",3,13.6416,40.9248,null,""]
[{"$nulls":4},"GTQ6105BEVBT11",134,14,1876,null,""]
[{"$nulls":4},"GTQ6111BEVBT1",438,14,6132,null,""]
[{"$nulls":4},"GTQ6119BEVH1",20,21,420,null,""]
[{"$nulls":4},"GTQ6119BEVH6",21,20.53296,431.19216,null,""]
[{"$nulls":4},"GTQ6119BEVH9",57,20.90186,1191.40602,null,""]
[{"$nulls":4},"GTQ6121BEVB20",23,19.8,455.4,null,""]
[{"$nulls":4},"GTQ6121BEVBT3",215,14,3010,null,""]
[{"$nulls":4},"GTQ6123BEVB1",1,21,21,null,""]
[{"$nulls":4},"GTQ6123BEVBT11",6,14,84,null,""]
[{"$nulls":4},"GTQ6126BEVB20",249,19.8,4930.2,null,""]
[{"$nulls":4},"GTQ6126BEVBT20",180,10.4,1872,null,""]
[{"$nulls":4},"GTQ6126BEVBT3",207,14,2898,null,""]
[{"$nulls":4},"GTQ6129BEVB20",33,19.8,653.4,null,""]
[{"$nulls":4},"GTQ6186BEVBT3",5,14,70,null,""]
[{"$nulls":4},"GTQ6853BEVBT20",33,8,264,null,""]
[{"$nulls":4},"GTQ6853BEVBT3",3,8,24,null,""]
[{"$nulls":4},"GTQ6858BEVBT11",104,8.4,873.6,null,""]
[20,"深圳市","合计",null,null,10489,null,72710.791125,72711,null,0,0,72711]
[null,null,1,"比亚迪汽车工业有限公司","小计",10489,null,{"$f":"SUM(H1336:H1384)","v":72710.791125},{"$f":"ROUND(H1335,0)","v":72711},null,0,0,72711]
[{"$nulls":4},"BYD10311N7BEV1",21,4.714625,99.007125,null,"核减7辆,原因为:不符合行驶里程数要求"]
[{"$nulls":4},"BYD3310EH9BEV2",92,10,920,null,"核减2辆,原因为:不符合行驶里程数要求"]
[{"$nulls":4},"BYD5040XLCBEV",3,6.286,18.858,null,""]
[{"$nulls":4},"BYD5040XXYBEV1",26,6.286,163.436,null,"核减1辆,原因为:不符合行驶里程数要求"]
[{"$nulls":4},"BYD5160ZYSBEV",1,15,15,null,""]
[{"$nulls":4},"BYD6100LGEV10",214,21,4494,null,"核减3辆,原因为:不符合行驶里程数要求"]
[{"$nulls":4},"BYD6100LGEV6",0,0,0,null,"核减1辆,原因为:不符合行驶里程数要求"]
[{"$nulls":4},"BYD6100LGEV8",223,21,4683,null,"核减5辆,原因为:不符合行驶里程数要求"]
[{"$nulls":4},"BYD6100LGEV8",94,21.78,2047.32,null,"核减6辆,原因为:不符合行驶里程数要求"]
[{"$nulls":4},"BYD6100LGEV9",59,19.8,1168.2,null,"核减1辆,原因为:不符合行驶里程数要求"]
[{"$nulls":4},"BYD6100LGEV9",481,21,10101,null,"核减10辆,原因为:不符合行驶里程数要求"]
[{"$nulls":4},"BYD6100LSEV1",2,30,60,null,""]
[{"$nulls":4},"BYD6100LSEV3",0,0,0,null,"核减8辆,原因为:不符合行驶里程数要求"]
[{"$nulls":4},"BYD6100LSEV3",24,21,504,null,"核减6辆,原因为:不符合行驶里程数要求"]
[{"$nulls":4},"BYD6101LGEV1",40,19.8,792,null,""]
[{"$nulls":4},"BYD6101LGEV5",14,21.78,304.92,null,""]
[{"$nulls":4},"BYD6110LLEV3",5,19.8,99,null,"核减2辆,原因为:不符合行驶里程数要求"]
[{"$nulls":4},"BYD6121LGEV3",5,21,105,null,"核减2辆,原因为:不符合行驶里程数要求"]
[{"$nulls":4},"BYD6122LGEV1",93,19.8,1841.4,null,"核减6辆,原因为:不符合行驶里程数要求"]
[{"$nulls":4},"BYD6122LGEV1",23,21,483,null,"核减1辆,原因为:不符合行驶里程数要求"]
[{"$nulls":4},"BYD6122LGEV2",20,19.8,396,null,""]
[{"$nulls":4},"BYD6440SBEV2",80,4.95,396,null,"核减2辆,原因为:不符合行驶里程数要求"]
[{"$nulls":4},"BYD6480STHEV",22,1.68,36.96,null,"核减4辆,原因为:不符合行驶里程数要求"]
[{"$nulls":4},"BYD6480STHEV",5,2.4,12,null,""]
[{"$nulls":4},"BYD6480STHEV3",73,1.68,122.64,null,"核减9辆,原因为:不符合行驶里程数要求"]
[{"$nulls":4},"BYD6480STHEV3",1,2.2,2.2,null,""]
[{"$nulls":4},"BYD6480STHEV3",11,2.4,26.4,null,"核减2辆,原因为:不符合行驶里程数要求"]
[{"$nulls":4},"BYD6480STHEV5",96,1.68,161.28,null,"核减10辆,原因为:不符合行驶里程数要求"]
[{"$nulls":4},"BYD6480STHEV5",25,2.2,55,null,""]
[{"$nulls":4},"BYD6480STHEV5",21,2.4,50.4,null,"核减4辆,原因为:不符合行驶里程数要求"]
[{"$nulls":4},"BYD6490STHEV",692,2.2,1522.4,null,"核减14辆,原因为:不符合行驶里程数要求"]
[{"$nulls":4},"BYD6490STHEV1",213,2.2,468.6,null,"核减7辆,原因为:不符合行驶里程数要求"]
[{"$nulls":4},"BYD6710HLEV2",0,0,0,null,"核减3辆,原因为:不符合行驶里程数要求"]
[{"$nulls":4},"BYD6810HZEV5",104,14.52,1510.08,null,"核减1辆,原因为:不符合行驶里程数要求"]
[{"$nulls":4},"BYD6810HZEV7",98,14.52,1422.96,null,"核减3辆,原因为:不符合行驶里程数要求"]
[{"$nulls":4},"BYD6810LZEV6",9,13.2,118.8,null,""]
[{"$nulls":4},"BYD6810LZEV6",7,14,98,null,""]
[{"$nulls":4},"BYD6850HZEV2",76,14.52,1103.52,null,"核减2辆,原因为:不符合行驶里程数要求"]
[{"$nulls":4},"BYD7003BEV",3063,5.04,{"$f":"F1374*G1374","v":15437.52},null,"1辆需进一步核实后予以清算；核减65辆,原因为:不符合行驶里程数要求"]
[20,"深圳市",1,"比亚迪汽车工业有限公司","BYD7006BEVG",4141,5,20705,null,"核减6辆,原因为:不符合行驶里程数要求"]
[{"$nulls":4},"BYD7006BEVH",8,3.08,24.64,null,"核减7辆,原因为:不符合行驶里程数要求"]
[{"$nulls":4},"BYD7006BEVH",2,4.4,8.8,null,"核减2辆,原因为:不符合行驶里程数要求"]
[{"$nulls":4},"QCJ7007BEV1",1,3.08,3.08,null,"核减4辆,原因为:不符合行驶里程数要求"]
[{"$nulls":4},"QCJ7007BEV1",160,3.3,528,null,"核减43辆,原因为:不符合行驶里程数要求"]
[{"$nulls":4},"QCJ7007BEV1",10,4.4,44,null,"核减4辆,原因为:不符合行驶里程数要求"]
[{"$nulls":4},"QCJ7007BEV2",24,3.08,73.92,null,"核减9辆,原因为:不符合行驶里程数要求"]
[{"$nulls":4},"QCJ7007BEV2",59,3.3,194.7,null,"核减24辆,原因为:不符合行驶里程数要求"]
[{"$nulls":4},"QCJ7007BEV2",1,4.4,4.4,null,"核减1辆,原因为:不符合行驶里程数要求"]
[{"$nulls":4},"QCJ7007BEV3",47,6.05,284.35,null,"核减4辆,原因为:不符合行驶里程数要求"]
[21,"广西壮族自治区","合计",null,null,1039,null,19368.55865,{"$f":"SUM(I1386:I1418)","v":19369},null,{"$f":"SUM(K1386,K1393,K1416)","v":5300},33,19336]
[null,null,1,"东风汽车集团有限公司","小计",0,null,0,{"$f":"ROUND(H1386,0)","v":0},null,0,0,0]
[{"$nulls":4},"EQ6510LM5F1BEV",0,0,0,null,"核减1辆,原因为:不满足申报数量要求"]
[{"$nulls":4},"EQ6510LM5F1BEV",0,0,0,null,"核减7辆,原因为:不满足申报数量要求"]
[{"$nulls":4},"EQ6510LM5F1BEV",0,0,0,null,"核减5辆,原因为:不满足申报数量要求"]
[{"$nulls":4},"EQ7000LS1F1BEV",0,0,0,null,"核减20辆,原因为:不满足申报数量要求"]
[{"$nulls":4},"EQ7000LS1F1BEV",0,0,0,null,"核减37辆,原因为:不满足申报数量要求"]
[{"$nulls":4},"EQ7000LS1F1BEV",0,0,0,null,"核减16辆,原因为:不满足申报数量要求"]
[null,null,2,"广西申龙汽车制造有限公司","小计",1026,null,19335.55865,{"$f":"ROUND(H1393,0)","v":19336},null,0,0,19336]
[{"$nulls":4},"HQK5042BEVXXY1",9,5.71985,51.47865,null,""]
[{"$nulls":4},"HQK6109BEVB10",32,19.8,633.6,null,""]
[{"$nulls":4},"HQK6109BEVB11",469,19.8,9286.2,null,"核减2辆,原因为:不符合行驶里程数要求"]
[{"$nulls":4},"HQK6109BEVB13",45,19.8,891,null,""]
[{"$nulls":4},"HQK6109BEVB13",32,21,672,null,""]
[{"$nulls":4},"HQK6109BEVB15",38,19.8,752.4,null,""]
[{"$nulls":4},"HQK6109BEVB19",58,19.8,1148.4,null,""]
[{"$nulls":4},"HQK6109BEVB23",96,21.78,2090.88,null,"核减3辆,原因为:不符合行驶里程数要求"]
[{"$nulls":4},"HQK6109BEVB25",20,21.78,435.6,null,""]
[{"$nulls":4},"HQK6109BEVB3",7,30,210,null,""]
[{"$nulls":4},"HQK6109BEVB4",6,30,180,null,""]
[{"$nulls":4},"HQK6109CHEVNG",18,10.5,189,null,""]
[{"$nulls":4},"HQK6120BEVB1",28,19.8,554.4,null,"核减2辆,原因为:不符合行驶里程数要求"]
[{"$nulls":4},"HQK6128PHEVNG5",20,10.5,210,null,""]
[{"$nulls":4},"HQK6188BEVB1",5,19.8,99,null,""]
[{"$nulls":4},"HQK6819BEVB10",2,13.2,26.4,null,""]
[{"$nulls":4},"HQK6819BEVB16",20,14.52,290.4,null,""]
[{"$nulls":4},"HQK6819BEVB24",19,13.2,250.8,null,"核减1辆,原因为:不符合行驶里程数要求"]
[{"$nulls":4},"HQK6819BEVB4",34,13.2,448.8,null,""]
[{"$nulls":4},"HQK6819BEVB5",25,13.2,330,null,""]
[{"$nulls":4},"HQK6819BEVB5",22,14,308,null,""]
[{"$nulls":4},"HQK6859BEVB4",21,13.2,277.2,null,""]
[null,null,3,"上汽通用五菱汽车股份有限公司","小计",13,null,33,{"$f":"ROUND(H1416,0)","v":33},null,5300,33,0]
[{"$nulls":4},"LZW7001EVA",11,2.52,27.72,null,""]
[{"$nulls":4},"LZW7002EVBBG",2,2.64,5.28,null,""]
[22,"重庆市","合计",null,null,12543,null,{"$f":"SUM(H1420,H1428,H1460)","v":49716.79640000001},{"$f":"SUM(I1420:I1469)","v":49717},null,{"$f":"SUM(K1420,K1428,K1460)","v":0},0,49717]
[null,null,1,"华晨鑫源重庆汽车有限公司","小计",364,null,1234.7805,{"$f":"ROUND(H1420,0)","v":1235},null,0,0,1235]
[{"$nulls":4},"JKC1021DABEV",214,2.928,626.592,null,"核减37辆,原因为:不符合行驶里程数要求"]
[{"$nulls":4},"JKC1030DDBEV",3,5.259,15.777,null,"核减3辆,原因为:不符合行驶里程数要求"]
[{"$nulls":4},"JKC5020XXY-AXBEV",3,5.484,16.452,null,""]
[{"$nulls":4},"JKC5020XXY-DABEV",2,4.584,9.168,null,""]
[{"$nulls":4},"JKC5021XXY-DABEV",0,0,0,null,"核减126辆,原因为:不符合行驶里程数要求,现场核查不通过"]
[{"$nulls":4},"JKC5030XXY-AXBEV",141,3.9825,561.5325,null,"核减36辆,原因为:不符合行驶里程数要求"]
[{"$nulls":4},"JKC5030XXY-DDBEV",1,5.259,5.259,null,"核减1辆,原因为:不符合行驶里程数要求"]
[null,null,2,"重庆长安汽车股份有限公司","小计",8056,null,{"$f":"SUM(H1429:H1459)","v":34958.20970000001},{"$f":"ROUND(H1428,0)","v":34958},null,0,0,34958]
[{"$nulls":4},"SC5021XXYLAD01BEV",55,3.1305,172.1775,null,""]
[{"$nulls":4},"SC5021XXYLAD02BEV",62,3.27,202.74,null,""]
[{"$nulls":4},"SC5031XXYKDD01BEV",74,3.9375,291.375,null,""]
[{"$nulls":4},"SC5031XXYYGD51BEV",6,4.245,25.47,null,""]
[{"$nulls":4},"SC6388CVBEV",8,3.388,27.104,null,""]
[{"$nulls":4},"SC6388CVBEV",346,4.95,{"$f":"F1434*G1434","v":1712.7},null,"65辆需进一步核实后予以清算"]
[{"$nulls":4},"SC6458ACBEV",7,3.388,23.716,null,""]
[{"$nulls":4},"SC6458ACBEV",2913,4.95,{"$f":"F1436*G1436","v":14419.35},null,"13辆需进一步核实后予以清算"]
[{"$nulls":4},"SC6458AGBEV",211,6.05,1276.55,null,""]
[{"$nulls":4},"SC6469GA5HEV",543,2.2,1194.6,null,""]
[{"$nulls":4},"SC7001ADBEV",1,2.52,2.52,null,""]
[{"$nulls":4},"SC7001AGBEV",962,3.388,{"$f":"F1440*G1440","v":3259.256},null,"67辆需进一步核实后予以清算"]
[{"$nulls":4},"SC7001AGBEV",483,3.4,{"$f":"F1441*G1441","v":1642.2},null,"3辆需进一步核实后予以清算"]
[{"$nulls":4},"SC7001AGBEV",35,4.84,{"$f":"F1442*G1442","v":169.4},null,"4辆需进一步核实后予以清算"]
[{"$nulls":4},"SC7001AKBEV",3,3.96,11.88,null,""]
[{"$nulls":4},"SC7001AMBEV",139,2.64,{"$f":"F1444*G1444","v":366.96000000000004},null,"12辆需进一步核实后予以清算"]
[{"$nulls":4},"SC7001ATBEV",159,4.2,667.8,null,""]
[{"$nulls":4},"SC7001BABEV",212,2.5236,{"$f":"F1446*G1446","v":535.0032},null,"137辆需进一步核实后予以清算"]
[{"$nulls":4},"SC7001CAABEV",23,2.52,{"$f":"F1447*G1447","v":57.96},null,"11辆需进一步核实后予以清算"]
[{"$nulls":4},"SC7001CABBEV",31,2.52,{"$f":"F1448*G1448","v":78.12},null,"6辆需进一步核实后予以清算"]
[{"$nulls":4},"SC7003ACBEV",46,3.388,{"$f":"F1449*G1449","v":155.84799999999998},null,"12辆需进一步核实后予以清算"]
[{"$nulls":4},"SC7003ACBEV",29,4.84,140.36,null,""]
[{"$nulls":4},"SC7003ACBEV",592,4.95,2930.4,null,""]
[{"$nulls":4},"SC7003AEBEV",514,6.05,3109.7,null,""]
[{"$nulls":4},"SC7003AHBEV",21,6.05,127.05,null,""]
[{"$nulls":4},"SC7003ALBEV",14,6.05,84.7,null,""]
[{"$nulls":4},"SC7004CBBEV",85,3.388,287.98,null,""]
[{"$nulls":4},"SC7004CBBEV",19,4.84,91.96,null,""]
[{"$nulls":4},"SC7004CBBEV",323,4.95,1598.85,null,""]
[{"$nulls":4},"SC7104AA5HEV",26,1.68,{"$f":"F1458*G1458","v":43.68},null,"4辆需进一步核实后予以清算"]
[{"$nulls":4},"SC7104AA5HEV",114,2.2,{"$f":"F1459*G1459","v":250.8},null,"2辆需进一步核实后予以清算"]
[null,null,3,"重庆瑞驰汽车实业有限公司","小计",4123,null,13523.8062,{"$f":"ROUND(H1460,0)","v":13524},null,0,0,13524]
[{"$nulls":4},"CRC5030XXYB-LBEV",257,2.3472,603.2304,null,""]
[{"$nulls":4},"CRC5030XXYE-LBEV",207,2.3472,485.8704,null,""]
[{"$nulls":4},"CRC5030XXYE-LBEV",2000,3.405,6810,null,""]
[{"$nulls":4},"CRC5030XXYF-LBEV",14,3.405,47.67,null,""]
[{"$nulls":4},"CRC5031XXYD-LBEV",341,3.42,1166.22,null,""]
[{"$nulls":4},"CRC5034XXYC-LBEV",5,2.33328,11.6664,null,""]
[{"$nulls":4},"CRC5034XXYC-LBEV",1112,3.38325,3762.174,null,""]
[{"$nulls":4},"CRC5034XXYD-LBEV",5,3.453,17.265,null,""]
[{"$nulls":4},"CRC5035XXYA-LBEV",182,3.405,619.71,null,""]
[23,"四川省","合计",null,null,4152,null,33957.4432,{"$f":"SUM(I1471:I1505)","v":33957},null,{"$f":"SUM(K1471,K1476,K1495)","v":0},0,33957]
[null,null,1,"成都广通汽车有限公司","小计",1701,null,16668,{"$f":"ROUND(H1471,0)","v":16668},null,0,0,16668]
[{"$nulls":4},"CAT6100CRBEVT1",296,13,3848,null,""]
[{"$nulls":4},"CAT6100CRBEVT2",664,13,8632,null,""]
[{"$nulls":4},"CAT6180DRBEVT1",136,13,1768,null,""]
[{"$nulls":4},"CAT6680CRBEVT2",605,4,2420,null,""]
[null,null,2,"吉利四川商用车有限公司","小计",2318,null,14963.252,{"$f":"ROUND(H1476,0)","v":14963},null,0,0,14963]
[{"$nulls":4},"DNC1047BEV01",2,6.156,12.312,null,""]
[{"$nulls":4},"DNC5030XXYBEV01",254,3.726,946.404,null,""]
[{"$nulls":4},"DNC5030XXYBEV02",75,4.271,320.325,null,""]
[{"$nulls":4},"DNC5045XXYBEV01",52,10.22,531.44,null,""]
[{"$nulls":4},"DNC5045XXYBEV01",3,4.088,12.264,null,""]
[{"$nulls":4},"DNC5045XXYBEV02",80,6.169,493.52,null,""]
[{"$nulls":4},"DNC5046XXYBEV02",138,5.987,826.206,null,""]
[{"$nulls":4},"DNC5046XXYBEV03",8,5.987,47.896,null,""]
[{"$nulls":4},"DNC5047CCYBEV01",33,6.156,203.148,null,""]
[{"$nulls":4},"DNC5047XXYBEV01",211,4.752,1002.672,null,""]
[{"$nulls":4},"DNC5047XXYBEV01",19,11.88,225.72,null,""]
[{"$nulls":4},"DNC5047XXYBEV03",302,7.287,2200.674,null,""]
[{"$nulls":4},"DNC5047XXYBEV05",1011,6.156,6223.716,null,""]
[{"$nulls":4},"DNC5049XXYBEV02",22,6.39,140.58,null,""]
[{"$nulls":4},"DNC5077XLCBEV02",25,7.287,182.175,null,""]
[{"$nulls":4},"DNC6100BEVG4",73,19.8,1445.4,null,""]
[{"$nulls":4},"DNC6120BEVG1",1,30,30,null,""]
[{"$nulls":4},"DNC6810BEVG1",9,13.2,118.8,null,""]
[null,null,3,"中植一客成都汽车有限公司","小计",133,null,2326.1912,{"$f":"ROUND(H1495,0)","v":2326},null,0,0,2326]
[{"$nulls":4},"CDL5020XXYBEV2",2,2.1912,4.3824,null,""]
[{"$nulls":4},"CDL5030XXYBEV",1,4.0844,4.0844,null,""]
[{"$nulls":4},"CDL6101URBEV",10,19.8,198,null,""]
[{"$nulls":4},"CDL6110LRBEV1",40,20.9412,837.648,null,""]
[{"$nulls":4},"CDL6110LRBEV2",38,21,798,null,""]
[{"$nulls":4},"CDL6110LRBEV4",10,19.8,198,null,""]
[{"$nulls":4},"CDL6660URBEV",20,6.05,121,null,""]
[{"$nulls":4},"CDL6800LRBEV2",3,13.2,39.6,null,""]
[{"$nulls":4},"CDL6810LRBEV2",8,13.93455,111.4764,null,""]
[{"$nulls":4},"CDL6810LRBEV3",1,14,14,null,""]
[24,"云南省","合计",null,null,326,null,1457.8838,{"$f":"SUM(I1507:I1511)","v":1458},null,318,318,1140]
[null,null,1,"云南航天神州汽车有限公司","小计",326,null,1457.8838,{"$f":"ROUND(H1507,0)","v":1458},null,318,318,1140]
[{"$nulls":4},"YH5022XXYBEV",21,3.2175,67.5675,null,"核减5辆,原因为:不符合行驶里程数要求"]
[{"$nulls":4},"YH5022XXYBEV",67,5.568,373.056,null,"核减19辆,原因为:不符合行驶里程数要求"]
[{"$nulls":4},"YH5024XXYBEV",218,4.08835,891.2603,null,"核减42辆,原因为:不符合行驶里程数要求"]
[{"$nulls":4},"YH6663BEV-A",20,6.3,126,null,""]
[25,"陕西省","合计",null,null,25589,null,{"$f":"SUM(H1513,H1542,H1558)","v":132041.22902},{"$f":"SUM(I1513:I1560)","v":132040},null,{"$f":"SUM(K1513,K1542,K1558)","v":21229},21229,{"$f":"I1512-L1512","v":110811}]
[null,null,1,"比亚迪汽车有限公司","小计",25482,null,131708.496,{"$f":"ROUND(H1513,0)","v":131708},null,21229,21229,110479]
[{"$nulls":4},"BYD6460SBEV",25,3.08,77,null,""]
[{"$nulls":4},"BYD6460SBEV",9,4.4,39.6,null,""]
[{"$nulls":4},"BYD6460SBEV4",13,4.95,64.35,null,""]
[{"$nulls":4},"BYD6460SBEV7",57,5.5,313.5,null,"核减1辆,原因为:不符合行驶里程数要求"]
[{"$nulls":4},"BYD6460SBEV7",61,6.05,369.05,null,"核减1辆,原因为:不符合行驶里程数要求"]
[{"$nulls":4},"BYD6460STHEV10",161,2.2,354.2,null,"核减8辆,原因为:不符合行驶里程数要求"]
[{"$nulls":4},"BYD6460STHEV3",9,2.2,19.8,null,""]
[{"$nulls":4},"BYD6460STHEV5",381,1.68,640.08,null,"核减20辆,原因为:不符合行驶里程数要求"]
[{"$nulls":4},"BYD6460STHEV5",183,2.2,402.6,null,"核减3辆,原因为:不符合行驶里程数要求"]
[{"$nulls":4},"BYD6460STHEV5",66,2.4,158.4,null,"核减5辆,原因为:不符合行驶里程数要求"]
[{"$nulls":4},"BYD7005BEV",16,3.08,49.28,null,"核减1辆,原因为:不符合行驶里程数要求"]
[{"$nulls":4},"BYD7005BEV",7,4.4,30.8,null,"核减1辆,原因为:不符合行驶里程数要求"]
[25,"陕西省",1,"比亚迪汽车有限公司","BYD7005BEV1",269,3.388,911.372,null,"核减1辆,原因为:不符合行驶里程数要求"]
[{"$nulls":4},"BYD7005BEV1",15144,6.05,91621.2,null,"核减46辆,原因为:不符合行驶里程数要求"]
[{"$nulls":4},"BYD7005BEV8",4078,6.144,25055.232,null,"核减5辆,原因为:不符合行驶里程数要求"]
[{"$nulls":4},"BYD7008BEV1",12,3.08,36.96,null,"核减4辆,原因为:不符合行驶里程数要求"]
[{"$nulls":4},"BYD7008BEV3",14,3.388,47.432,null,"核减2辆,原因为:不符合行驶里程数要求"]
[{"$nulls":4},"BYD7008BEV3",200,6.05,1210,null,"核减11辆,原因为:不符合行驶里程数要求"]
[{"$nulls":4},"BYD7008BEVA",49,6.6,323.4,null,"核减1辆,原因为:不符合行驶里程数要求"]
[{"$nulls":4},"BYD7150WT5HEV4",778,1.68,1307.04,null,"核减41辆,原因为:不符合行驶里程数要求"]
[{"$nulls":4},"BYD7150WT5HEV4",2236,2.2,4919.2,null,"核减176辆,原因为:不符合行驶里程数要求"]
[{"$nulls":4},"BYD7150WT5HEV4",63,2.4,151.2,null,"核减20辆,原因为:不符合行驶里程数要求"]
[{"$nulls":4},"BYD7150WT5HEV5",46,1.68,77.28,null,"核减8辆,原因为:不符合行驶里程数要求"]
[{"$nulls":4},"BYD7150WT5HEV5",1450,2.2,3190,null,"核减53辆,原因为:不符合行驶里程数要求"]
[{"$nulls":4},"BYD7150WT5HEV5",3,2.4,7.2,null,"核减1辆,原因为:不符合行驶里程数要求"]
[{"$nulls":4},"BYD7150WT5HEV6",1,2.2,2.2,null,""]
[{"$nulls":4},"BYD7150WTHEV3",4,1.68,6.72,null,"核减1辆,原因为:不符合行驶里程数要求"]
[{"$nulls":4},"BYD7152WTHEVB",147,2.2,323.4,null,"核减4辆,原因为:不符合行驶里程数要求"]
[null,null,2,"陕西汽车集团有限责任公司","小计",18,null,141.4503,{"$f":"ROUND(H1542,0)","v":141},null,0,0,141]
[{"$nulls":4},"SX5040XXYBEV331H",0,0,0,null,"核减1辆,原因为:未按有关要求上传运行数据"]
[{"$nulls":4},"SX5040XXYBEV331K",0,0,0,null,"1辆需进一步核实后予以清算；核减1辆,原因为:未按有关要求上传运行数据"]
[{"$nulls":4},"SX5040XXYBEV331M",0,0,0,null,"72辆需进一步核实后予以清算；核减2辆,原因为:不符合行驶里程数要求"]
[{"$nulls":4},"SX5040XXYBEV331S",0,0,0,null,"75辆需进一步核实后予以清算；核减5辆,原因为:不符合行驶里程数要求"]
[{"$nulls":4},"SX5041XLCBEV331S",0,0,0,null,"190辆需进一步核实后予以清算；核减10辆,原因为:不符合行驶里程数要求"]
[{"$nulls":4},"SX5041XXYBEV331L",0,0,0,null,"61辆需进一步核实后予以清算；核减13辆,原因为:不符合行驶里程数要求"]
[{"$nulls":4},"SX5041XXYBEV331S",0,0,0,null,"93辆需进一步核实后予以清算；核减5辆,原因为:不符合行驶里程数要求"]
[{"$nulls":4},"SX5042XXYBEV331S",0,0,0,null,"需进一步核实后予以清算"]
[{"$nulls":4},"SX5043CCYBEV331L",0,0,0,null,"21辆需进一步核实后予以清算；核减2辆,原因为:不符合行驶里程数要求"]
[{"$nulls":4},"SX5043XLCBEV331L",0,0,0,null,"2辆需进一步核实后予以清算；核减1辆,原因为:不符合行驶里程数要求"]
[{"$nulls":4},"SX5043XXYBEV331L",0,0,0,null,"89辆需进一步核实后予以清算；核减4辆,原因为:不符合行驶里程数要求"]
[{"$nulls":4},"SX5043ZXXBEV331L",0,0,0,null,"核减1辆,原因为:未按有关要求上传运行数据"]
[{"$nulls":4},"SX5044XXYBEV331L",0,0,0,null,"6辆需进一步核实后予以清算；核减3辆,原因为:不符合行驶里程数要求"]
[{"$nulls":4},"SX5045XXYBEV331L",0,0,0,null,"需进一步核实后予以清算"]
[{"$nulls":4},"SX5120TCABEV381L",18,7.85835,141.4503,null,"核减2辆,原因为:未按有关要求上传运行数据"]
[null,null,3,"陕西通家汽车股份有限公司","小计",89,null,191.28272,{"$f":"ROUND(H1558,0)","v":191},null,0,0,191]
[{"$nulls":4},"STJ5024XXYEV",87,2.07916,180.88692,null,""]
[{"$nulls":4},"STJ5024XXYEV",2,5.1979,10.3958,null,""]